{"text_format":"3","workbook":"xlsx","n_sheets":13,"sheets":["подбор радиатора TESI","pricelist","Ref","Расчет теплоодачи","подключения","карта цветов","вентили","дек. накладки","Термоголовка","стандартная комплектация TESI","чертеж радиатора TESI+крепеж","Приварные ноги","Радисные и угловые исполнения"],"not_rendered":{"images":20,"defined_names":19},"read":"whole","date_system":"1900"}

{"sheet":"подбор радиатора TESI","index":0,"n_rows":300,"n_cols":31,"rows_kept":300,"merged":[[1,6,1,11],[2,6,2,11]]}
[{"$nulls":6},"Валюта","Евро",null,"Курс",{"v":1,"d":"1.00"},null,"Версия:","2021/07"]
["Кому:",{"$f":"IF($G2=\"\",\"\",$G2)","v":""}]
["От:",{"$f":"IF($G3=\"\",\"\",$G3)","v":""},{"$nulls":12},"ПОДБОР РАДИАТОРОВ TESI 2-6 И КОМПЛЕКТУЮЩИХ"]
[{"$nulls":6},"Скидка, %",{"v":0,"d":"0.00"},{"$nulls":6},"ПРАЙС-ЛИСТ 2021 (повышение цен с 1/07/2021)"]
["Дата:",{"$f":"TODAY()","v":"2021-07-05"}]
[{"$nulls":6},"1) Вводить данные ТОЛЬКО в поле, выделенное желтым цветом."]
["Тема:","Предложение на трубчатые радиаторы IRSAP TESI",{"$nulls":4},"Можно также добавлять комплектующие, см. столбец справа от таблицы",{"$nulls":7},"ВНИМАНИЕ:","Некоторые модели пока не прошли "]
[{"$nulls":6},"2) Оцинкованное исполнение для влажных помещений радиаторов по запросу",{"$nulls":8},"сертификацию, при выборе будут выделены"]
[{"$nulls":6},"3) Стандартная комплектация радиаторов TESI: ",{"$nulls":8},"красным цветом.",{"$nulls":8},"`",{"$nulls":5},"`"]
[{"$nulls":6},"- универсальный крепеж в цвет радиатора в зависимости от кол-ва секций;",{"$nulls":8},"Прозрачный лак (код TR) доступен начиная с высоты 300мм."]
[{"$nulls":6},"- заглушка 1/2\" или 3/4\" в зависимости от подключения + накладка на заглушку с логотипом IRSAP;"]
["В ответ на полученный запрос предлагаем ознакомиться с предложением",{"$nulls":5},"- воздухоотводчик",{"$nulls":11},{"$f":"\"'\"&S$13&\"'!\"","v":"'pricelist'!"}]
["на изготовление радиаторов IRSAP TESI:",{"$nulls":17},"pricelist"]
[{"$nulls":18},{"$f":"VLOOKUP($S$17,Ref!$T:$U,2,0)","v":"$M:$M"}]
[null,null," ",{"$nulls":3},"Tubes","Model",{"$nulls":3},"Color",null,null,"Connection",{"$nulls":3},"delta",null,"special",{"$nulls":4},"ventil"]
["Поз.","Артикул","Описание","Кол-во",{"$f":"\"Стоимость, \"&$H$1","v":"Стоимость, Евро"},null,"Кол-во трубок (глубина)","Модель","Межось, мм","Кол-во секций","Длина рад., мм","Код цвета","Цвет","Наценка на цвет","Подключение","Наценка на подкл.","Кол-во","Вес/ рад, кг","Вт / рад","Всего секций","Спец. исполнение","Наценка на спец. испол.","Цена радиатора",null,null,"Вентили, накладки и термоголовки \n(выбирать отдельно след. позицией)"]
[null,null,"Всего:",{"$f":"SUM($D$18:$D$114)","v":0},{"$f":"SUM($E$18:$E$65533)","v":{"v":0,"d":"0.00"}},{"$nulls":11},{"$f":"SUM($Q$18:$Q$114)","v":0},null,"ΔT70 (105/70/18C)",{"$f":"SUM($T$18:$T$114)","v":0},{"$nulls":5},"Выбирайте цвет только у вентилей (кроме белый 01 и хром 50) и введите кол-во в левой колонке ","ID1","ID2"]
[{"$f":"IF($C18=\"\",\"\",A17+1)","v":""},{"$f":"IF($Z18=\"\",IF($G18=\"\",\"\",\"RR\"&LEFT($G18,1)&$H18&IF($J18<=9,\"0\"&$J18,$J18)&$L18&\"A4\"&LEFT($O18,2)&\"N\"),VLOOKUP($Z18,Ref!$AE:$AG,3,0)&$L18)","v":""},{"$f":"IF($Z18=\"\",IF($G18=\"\",\"\",\"RR\"&LEFT($G18,1)&\" \"&$H18&\", секций \"&$J18&\", цвет \"&$L18&\", подкл. \"&LEFT($O18,3)&\", \"&$U18),$Z18&\" \"&$L18)","v":""},{"$f":"IF($Z18=\"\",IF($G18=\"\",\"\",$Q18),$Q18)","v":""},{"$f":"IF($Z18=\"\",IF($G18=\"\",\"\",$D18*$W18*$K$1),VLOOKUP($Z18,Ref!$AE:$AG,2,0)*$Q18*$K$1*(1-$H$4/100))","v":""},{"$nulls":3},{"$f":"SUMIF(pricelist!$W:$W,'подбор радиатора TESI'!$AA18,pricelist!$J:$J)","v":0},null,{"$f":"$J18*45","v":0},null,{"$f":"IF($L18=\"\",\"\",VLOOKUP($L18,Ref!$D:$J,7,0))","v":""},{"$f":"SUMIF(Ref!$D:$D,'подбор радиатора TESI'!$L:$L,Ref!$E:$E)","v":{"v":0,"d":"0.00"}},null,{"$f":"SUMIF(Ref!$F:$F,'подбор радиатора TESI'!$O:$O,Ref!$G:$G)","v":{"v":0,"d":"0.00"}},null,{"$f":"SUMIF(pricelist!$W:$W,'подбор радиатора TESI'!$AA:$AA,pricelist!$K:$K)*$J18","v":{"v":0,"d":"0.00"}},{"$f":"SUMIF(pricelist!$W:$W,$AA:$AA,INDIRECT($S$12&$S$14))*$J18","v":{"v":0,"d":"0.00"}},{"$f":"$J18*$Q18","v":0},null,{"$f":"SUMIF(Ref!$H:$H,'подбор радиатора TESI'!$U:$U,Ref!$I:$I)","v":{"v":0,"d":"0.00"}},{"$f":"(($N18*SUMIF(pricelist!$W:$W,'подбор радиатора TESI'!$AA:$AA,pricelist!$S:$S)*$J18)+$P18+IF($U18=\"радиусный\",$V18*$J18,$V18)+IF($J18>$AC18,31*1.13,0))*(1-$H$4/100)","v":{"v":0,"d":"0.00"}},{"$nulls":3},{"$f":"LEFT($G18,1)&\"/\"&$H18","v":"/"},{"$f":"LEFT($G18,1)&\"/\"&$H18","v":"/"},{"$f":"SUMIF(Ref!$R:$R,'подбор радиатора TESI'!$AB:$AB,Ref!$Q:$Q)","v":0},{"$f":"IF($Z18=\"\",1,0)","v":1}]
[{"$f":"IF($C19=\"\",\"\",A18+1)","v":""},{"$f":"IF($Z19=\"\",IF($G19=\"\",\"\",\"RR\"&LEFT($G19,1)&$H19&IF($J19<=9,\"0\"&$J19,$J19)&$L19&\"A4\"&LEFT($O19,2)&\"N\"),VLOOKUP($Z19,Ref!$AE:$AG,3,0)&$L19)","v":""},{"$f":"IF($Z19=\"\",IF($G19=\"\",\"\",\"RR\"&LEFT($G19,1)&\" \"&$H19&\", секций \"&$J19&\", цвет \"&$L19&\", подкл. \"&LEFT($O19,3)&\", \"&$U19),$Z19&\" \"&$L19)","v":""},"",{"$f":"IF($Z19=\"\",IF($G19=\"\",\"\",$D19*$W19*$K$1),VLOOKUP($Z19,Ref!$AE:$AG,2,0)*$Q19*$K$1*(1-$H$4/100))","v":""},{"$nulls":3},{"$f":"SUMIF(pricelist!$W:$W,'подбор радиатора TESI'!$AA19,pricelist!$J:$J)","v":0},null,{"$f":"$J19*45","v":0},null,{"$f":"IF($L19=\"\",\"\",VLOOKUP($L19,Ref!$D:$J,7,0))","v":""},{"$f":"SUMIF(Ref!$D:$D,'подбор радиатора TESI'!$L:$L,Ref!$E:$E)","v":{"v":0,"d":"0.00"}},null,{"$f":"SUMIF(Ref!$F:$F,'подбор радиатора TESI'!$O:$O,Ref!$G:$G)","v":{"v":0,"d":"0.00"}},null,{"$f":"SUMIF(pricelist!$W:$W,'подбор радиатора TESI'!$AA:$AA,pricelist!$K:$K)*$J19","v":{"v":0,"d":"0.00"}},{"$f":"SUMIF(pricelist!$W:$W,$AA:$AA,INDIRECT($S$12&$S$14))*$J19","v":{"v":0,"d":"0.00"}},0,null,{"$f":"SUMIF(Ref!$H:$H,'подбор радиатора TESI'!$U:$U,Ref!$I:$I)","v":{"v":0,"d":"0.00"}},{"$f":"(($N19*SUMIF(pricelist!$W:$W,'подбор радиатора TESI'!$AA:$AA,pricelist!$S:$S)*$J19)+$P19+IF($U19=\"радиусный\",$V19*$J19,$V19)+IF($J19>$AC19,31*1.13,0))*(1-$H$4/100)","v":{"v":0,"d":"0.00"}},{"$nulls":3},{"$f":"LEFT($G19,1)&\"/\"&$H19","v":"/"},"/",{"$f":"SUMIF(Ref!$R:$R,'подбор радиатора TESI'!$AB:$AB,Ref!$Q:$Q)","v":0},{"$f":"IF($Z19=\"\",1,0)","v":1}]
["",{"$f":"IF($Z20=\"\",IF($G20=\"\",\"\",\"RR\"&LEFT($G20,1)&$H20&IF($J20<=9,\"0\"&$J20,$J20)&$L20&\"A4\"&LEFT($O20,2)&\"N\"),VLOOKUP($Z20,Ref!$AE:$AG,3,0)&$L20)","v":""},"","",{"$f":"IF($Z20=\"\",IF($G20=\"\",\"\",$D20*$W20*$K$1),VLOOKUP($Z20,Ref!$AE:$AG,2,0)*$Q20*$K$1*(1-$H$4/100))","v":""},{"$nulls":3},{"$f":"SUMIF(pricelist!$W:$W,'подбор радиатора TESI'!$AA20,pricelist!$J:$J)","v":0},null,0,null,{"$f":"IF($L20=\"\",\"\",VLOOKUP($L20,Ref!$D:$J,7,0))","v":""},{"$f":"SUMIF(Ref!$D:$D,'подбор радиатора TESI'!$L:$L,Ref!$E:$E)","v":{"v":0,"d":"0.00"}},null,{"$f":"SUMIF(Ref!$F:$F,'подбор радиатора TESI'!$O:$O,Ref!$G:$G)","v":{"v":0,"d":"0.00"}},null,{"$f":"SUMIF(pricelist!$W:$W,'подбор радиатора TESI'!$AA:$AA,pricelist!$K:$K)*$J20","v":{"v":0,"d":"0.00"}},{"$f":"SUMIF(pricelist!$W:$W,$AA:$AA,INDIRECT($S$12&$S$14))*$J20","v":{"v":0,"d":"0.00"}},0,null,{"$f":"SUMIF(Ref!$H:$H,'подбор радиатора TESI'!$U:$U,Ref!$I:$I)","v":{"v":0,"d":"0.00"}},{"$f":"(($N20*SUMIF(pricelist!$W:$W,'подбор радиатора TESI'!$AA:$AA,pricelist!$S:$S)*$J20)+$P20+IF($U20=\"радиусный\",$V20*$J20,$V20)+IF($J20>$AC20,31*1.13,0))*(1-$H$4/100)","v":{"v":0,"d":"0.00"}},{"$nulls":3},"/","/",{"$f":"SUMIF(Ref!$R:$R,'подбор радиатора TESI'!$AB:$AB,Ref!$Q:$Q)","v":0},1]
["",{"$f":"IF($Z21=\"\",IF($G21=\"\",\"\",\"RR\"&LEFT($G21,1)&$H21&IF($J21<=9,\"0\"&$J21,$J21)&$L21&\"A4\"&LEFT($O21,2)&\"N\"),VLOOKUP($Z21,Ref!$AE:$AG,3,0)&$L21)","v":""},"","",{"$f":"IF($Z21=\"\",IF($G21=\"\",\"\",$D21*$W21*$K$1),VLOOKUP($Z21,Ref!$AE:$AG,2,0)*$Q21*$K$1*(1-$H$4/100))","v":""},{"$nulls":3},{"$f":"SUMIF(pricelist!$W:$W,'подбор радиатора TESI'!$AA21,pricelist!$J:$J)","v":0},null,0,null,{"$f":"IF($L21=\"\",\"\",VLOOKUP($L21,Ref!$D:$J,7,0))","v":""},{"$f":"SUMIF(Ref!$D:$D,'подбор радиатора TESI'!$L:$L,Ref!$E:$E)","v":{"v":0,"d":"0.00"}},null,{"$f":"SUMIF(Ref!$F:$F,'подбор радиатора TESI'!$O:$O,Ref!$G:$G)","v":{"v":0,"d":"0.00"}},null,{"$f":"SUMIF(pricelist!$W:$W,'подбор радиатора TESI'!$AA:$AA,pricelist!$K:$K)*$J21","v":{"v":0,"d":"0.00"}},{"$f":"SUMIF(pricelist!$W:$W,$AA:$AA,INDIRECT($S$12&$S$14))*$J21","v":{"v":0,"d":"0.00"}},0,null,{"$f":"SUMIF(Ref!$H:$H,'подбор радиатора TESI'!$U:$U,Ref!$I:$I)","v":{"v":0,"d":"0.00"}},{"$f":"(($N21*SUMIF(pricelist!$W:$W,'подбор радиатора TESI'!$AA:$AA,pricelist!$S:$S)*$J21)+$P21+IF($U21=\"радиусный\",$V21*$J21,$V21)+IF($J21>$AC21,31*1.13,0))*(1-$H$4/100)","v":{"v":0,"d":"0.00"}},{"$nulls":3},"/","/",{"$f":"SUMIF(Ref!$R:$R,'подбор радиатора TESI'!$AB:$AB,Ref!$Q:$Q)","v":0},1]
["",{"$f":"IF($Z22=\"\",IF($G22=\"\",\"\",\"RR\"&LEFT($G22,1)&$H22&IF($J22<=9,\"0\"&$J22,$J22)&$L22&\"A4\"&LEFT($O22,2)&\"N\"),VLOOKUP($Z22,Ref!$AE:$AG,3,0)&$L22)","v":""},"","",{"$f":"IF($Z22=\"\",IF($G22=\"\",\"\",$D22*$W22*$K$1),VLOOKUP($Z22,Ref!$AE:$AG,2,0)*$Q22*$K$1*(1-$H$4/100))","v":""},{"$nulls":3},{"$f":"SUMIF(pricelist!$W:$W,'подбор радиатора TESI'!$AA22,pricelist!$J:$J)","v":0},null,0,null,{"$f":"IF($L22=\"\",\"\",VLOOKUP($L22,Ref!$D:$J,7,0))","v":""},{"$f":"SUMIF(Ref!$D:$D,'подбор радиатора TESI'!$L:$L,Ref!$E:$E)","v":{"v":0,"d":"0.00"}},null,{"$f":"SUMIF(Ref!$F:$F,'подбор радиатора TESI'!$O:$O,Ref!$G:$G)","v":{"v":0,"d":"0.00"}},null,{"$f":"SUMIF(pricelist!$W:$W,'подбор радиатора TESI'!$AA:$AA,pricelist!$K:$K)*$J22","v":{"v":0,"d":"0.00"}},{"$f":"SUMIF(pricelist!$W:$W,$AA:$AA,INDIRECT($S$12&$S$14))*$J22","v":{"v":0,"d":"0.00"}},0,null,{"$f":"SUMIF(Ref!$H:$H,'подбор радиатора TESI'!$U:$U,Ref!$I:$I)","v":{"v":0,"d":"0.00"}},{"$f":"(($N22*SUMIF(pricelist!$W:$W,'подбор радиатора TESI'!$AA:$AA,pricelist!$S:$S)*$J22)+$P22+IF($U22=\"радиусный\",$V22*$J22,$V22)+IF($J22>$AC22,31*1.13,0))*(1-$H$4/100)","v":{"v":0,"d":"0.00"}},{"$nulls":3},"/","/",{"$f":"SUMIF(Ref!$R:$R,'подбор радиатора TESI'!$AB:$AB,Ref!$Q:$Q)","v":0},1]
["",{"$f":"IF($Z23=\"\",IF($G23=\"\",\"\",\"RR\"&LEFT($G23,1)&$H23&IF($J23<=9,\"0\"&$J23,$J23)&$L23&\"A4\"&LEFT($O23,2)&\"N\"),VLOOKUP($Z23,Ref!$AE:$AG,3,0)&$L23)","v":""},"","",{"$f":"IF($Z23=\"\",IF($G23=\"\",\"\",$D23*$W23*$K$1),VLOOKUP($Z23,Ref!$AE:$AG,2,0)*$Q23*$K$1*(1-$H$4/100))","v":""},{"$nulls":3},{"$f":"SUMIF(pricelist!$W:$W,'подбор радиатора TESI'!$AA23,pricelist!$J:$J)","v":0},null,0,null,{"$f":"IF($L23=\"\",\"\",VLOOKUP($L23,Ref!$D:$J,7,0))","v":""},{"$f":"SUMIF(Ref!$D:$D,'подбор радиатора TESI'!$L:$L,Ref!$E:$E)","v":{"v":0,"d":"0.00"}},null,{"$f":"SUMIF(Ref!$F:$F,'подбор радиатора TESI'!$O:$O,Ref!$G:$G)","v":{"v":0,"d":"0.00"}},null,{"$f":"SUMIF(pricelist!$W:$W,'подбор радиатора TESI'!$AA:$AA,pricelist!$K:$K)*$J23","v":{"v":0,"d":"0.00"}},{"$f":"SUMIF(pricelist!$W:$W,$AA:$AA,INDIRECT($S$12&$S$14))*$J23","v":{"v":0,"d":"0.00"}},0,null,{"$f":"SUMIF(Ref!$H:$H,'подбор радиатора TESI'!$U:$U,Ref!$I:$I)","v":{"v":0,"d":"0.00"}},{"$f":"(($N23*SUMIF(pricelist!$W:$W,'подбор радиатора TESI'!$AA:$AA,pricelist!$S:$S)*$J23)+$P23+IF($U23=\"радиусный\",$V23*$J23,$V23)+IF($J23>$AC23,31*1.13,0))*(1-$H$4/100)","v":{"v":0,"d":"0.00"}},{"$nulls":3},"/","/",{"$f":"SUMIF(Ref!$R:$R,'подбор радиатора TESI'!$AB:$AB,Ref!$Q:$Q)","v":0},1]
["",{"$f":"IF($Z24=\"\",IF($G24=\"\",\"\",\"RR\"&LEFT($G24,1)&$H24&IF($J24<=9,\"0\"&$J24,$J24)&$L24&\"A4\"&LEFT($O24,2)&\"N\"),VLOOKUP($Z24,Ref!$AE:$AG,3,0)&$L24)","v":""},"","",{"$f":"IF($Z24=\"\",IF($G24=\"\",\"\",$D24*$W24*$K$1),VLOOKUP($Z24,Ref!$AE:$AG,2,0)*$Q24*$K$1*(1-$H$4/100))","v":""},{"$nulls":3},{"$f":"SUMIF(pricelist!$W:$W,'подбор радиатора TESI'!$AA24,pricelist!$J:$J)","v":0},null,0,null,{"$f":"IF($L24=\"\",\"\",VLOOKUP($L24,Ref!$D:$J,7,0))","v":""},{"$f":"SUMIF(Ref!$D:$D,'подбор радиатора TESI'!$L:$L,Ref!$E:$E)","v":{"v":0,"d":"0.00"}},null,{"$f":"SUMIF(Ref!$F:$F,'подбор радиатора TESI'!$O:$O,Ref!$G:$G)","v":{"v":0,"d":"0.00"}},null,{"$f":"SUMIF(pricelist!$W:$W,'подбор радиатора TESI'!$AA:$AA,pricelist!$K:$K)*$J24","v":{"v":0,"d":"0.00"}},{"$f":"SUMIF(pricelist!$W:$W,$AA:$AA,INDIRECT($S$12&$S$14))*$J24","v":{"v":0,"d":"0.00"}},0,null,{"$f":"SUMIF(Ref!$H:$H,'подбор радиатора TESI'!$U:$U,Ref!$I:$I)","v":{"v":0,"d":"0.00"}},{"$f":"(($N24*SUMIF(pricelist!$W:$W,'подбор радиатора TESI'!$AA:$AA,pricelist!$S:$S)*$J24)+$P24+IF($U24=\"радиусный\",$V24*$J24,$V24)+IF($J24>$AC24,31*1.13,0))*(1-$H$4/100)","v":{"v":0,"d":"0.00"}},{"$nulls":3},"/","/",{"$f":"SUMIF(Ref!$R:$R,'подбор радиатора TESI'!$AB:$AB,Ref!$Q:$Q)","v":0},1]
["",{"$f":"IF($Z25=\"\",IF($G25=\"\",\"\",\"RR\"&LEFT($G25,1)&$H25&IF($J25<=9,\"0\"&$J25,$J25)&$L25&\"A4\"&LEFT($O25,2)&\"N\"),VLOOKUP($Z25,Ref!$AE:$AG,3,0)&$L25)","v":""},"","",{"$f":"IF($Z25=\"\",IF($G25=\"\",\"\",$D25*$W25*$K$1),VLOOKUP($Z25,Ref!$AE:$AG,2,0)*$Q25*$K$1*(1-$H$4/100))","v":""},{"$nulls":3},{"$f":"SUMIF(pricelist!$W:$W,'подбор радиатора TESI'!$AA25,pricelist!$J:$J)","v":0},null,0,null,{"$f":"IF($L25=\"\",\"\",VLOOKUP($L25,Ref!$D:$J,7,0))","v":""},{"$f":"SUMIF(Ref!$D:$D,'подбор радиатора TESI'!$L:$L,Ref!$E:$E)","v":{"v":0,"d":"0.00"}},null,{"$f":"SUMIF(Ref!$F:$F,'подбор радиатора TESI'!$O:$O,Ref!$G:$G)","v":{"v":0,"d":"0.00"}},null,{"$f":"SUMIF(pricelist!$W:$W,'подбор радиатора TESI'!$AA:$AA,pricelist!$K:$K)*$J25","v":{"v":0,"d":"0.00"}},{"$f":"SUMIF(pricelist!$W:$W,$AA:$AA,INDIRECT($S$12&$S$14))*$J25","v":{"v":0,"d":"0.00"}},0,null,{"$f":"SUMIF(Ref!$H:$H,'подбор радиатора TESI'!$U:$U,Ref!$I:$I)","v":{"v":0,"d":"0.00"}},{"$f":"(($N25*SUMIF(pricelist!$W:$W,'подбор радиатора TESI'!$AA:$AA,pricelist!$S:$S)*$J25)+$P25+IF($U25=\"радиусный\",$V25*$J25,$V25)+IF($J25>$AC25,31*1.13,0))*(1-$H$4/100)","v":{"v":0,"d":"0.00"}},{"$nulls":3},"/","/",{"$f":"SUMIF(Ref!$R:$R,'подбор радиатора TESI'!$AB:$AB,Ref!$Q:$Q)","v":0},1]
["",{"$f":"IF($Z26=\"\",IF($G26=\"\",\"\",\"RR\"&LEFT($G26,1)&$H26&IF($J26<=9,\"0\"&$J26,$J26)&$L26&\"A4\"&LEFT($O26,2)&\"N\"),VLOOKUP($Z26,Ref!$AE:$AG,3,0)&$L26)","v":""},"","",{"$f":"IF($Z26=\"\",IF($G26=\"\",\"\",$D26*$W26*$K$1),VLOOKUP($Z26,Ref!$AE:$AG,2,0)*$Q26*$K$1*(1-$H$4/100))","v":""},{"$nulls":3},{"$f":"SUMIF(pricelist!$W:$W,'подбор радиатора TESI'!$AA26,pricelist!$J:$J)","v":0},null,0,null,{"$f":"IF($L26=\"\",\"\",VLOOKUP($L26,Ref!$D:$J,7,0))","v":""},{"$f":"SUMIF(Ref!$D:$D,'подбор радиатора TESI'!$L:$L,Ref!$E:$E)","v":{"v":0,"d":"0.00"}},null,{"$f":"SUMIF(Ref!$F:$F,'подбор радиатора TESI'!$O:$O,Ref!$G:$G)","v":{"v":0,"d":"0.00"}},null,{"$f":"SUMIF(pricelist!$W:$W,'подбор радиатора TESI'!$AA:$AA,pricelist!$K:$K)*$J26","v":{"v":0,"d":"0.00"}},{"$f":"SUMIF(pricelist!$W:$W,$AA:$AA,INDIRECT($S$12&$S$14))*$J26","v":{"v":0,"d":"0.00"}},0,null,{"$f":"SUMIF(Ref!$H:$H,'подбор радиатора TESI'!$U:$U,Ref!$I:$I)","v":{"v":0,"d":"0.00"}},{"$f":"(($N26*SUMIF(pricelist!$W:$W,'подбор радиатора TESI'!$AA:$AA,pricelist!$S:$S)*$J26)+$P26+IF($U26=\"радиусный\",$V26*$J26,$V26)+IF($J26>$AC26,31*1.13,0))*(1-$H$4/100)","v":{"v":0,"d":"0.00"}},{"$nulls":3},"/","/",{"$f":"SUMIF(Ref!$R:$R,'подбор радиатора TESI'!$AB:$AB,Ref!$Q:$Q)","v":0},1]
["",{"$f":"IF($Z27=\"\",IF($G27=\"\",\"\",\"RR\"&LEFT($G27,1)&$H27&IF($J27<=9,\"0\"&$J27,$J27)&$L27&\"A4\"&LEFT($O27,2)&\"N\"),VLOOKUP($Z27,Ref!$AE:$AG,3,0)&$L27)","v":""},"","",{"$f":"IF($Z27=\"\",IF($G27=\"\",\"\",$D27*$W27*$K$1),VLOOKUP($Z27,Ref!$AE:$AG,2,0)*$Q27*$K$1*(1-$H$4/100))","v":""},{"$nulls":3},{"$f":"SUMIF(pricelist!$W:$W,'подбор радиатора TESI'!$AA27,pricelist!$J:$J)","v":0},null,0,null,{"$f":"IF($L27=\"\",\"\",VLOOKUP($L27,Ref!$D:$J,7,0))","v":""},{"$f":"SUMIF(Ref!$D:$D,'подбор радиатора TESI'!$L:$L,Ref!$E:$E)","v":{"v":0,"d":"0.00"}},null,{"$f":"SUMIF(Ref!$F:$F,'подбор радиатора TESI'!$O:$O,Ref!$G:$G)","v":{"v":0,"d":"0.00"}},null,{"$f":"SUMIF(pricelist!$W:$W,'подбор радиатора TESI'!$AA:$AA,pricelist!$K:$K)*$J27","v":{"v":0,"d":"0.00"}},{"$f":"SUMIF(pricelist!$W:$W,$AA:$AA,INDIRECT($S$12&$S$14))*$J27","v":{"v":0,"d":"0.00"}},0,null,{"$f":"SUMIF(Ref!$H:$H,'подбор радиатора TESI'!$U:$U,Ref!$I:$I)","v":{"v":0,"d":"0.00"}},{"$f":"(($N27*SUMIF(pricelist!$W:$W,'подбор радиатора TESI'!$AA:$AA,pricelist!$S:$S)*$J27)+$P27+IF($U27=\"радиусный\",$V27*$J27,$V27)+IF($J27>$AC27,31*1.13,0))*(1-$H$4/100)","v":{"v":0,"d":"0.00"}},{"$nulls":3},"/","/",{"$f":"SUMIF(Ref!$R:$R,'подбор радиатора TESI'!$AB:$AB,Ref!$Q:$Q)","v":0},1]
["",{"$f":"IF($Z28=\"\",IF($G28=\"\",\"\",\"RR\"&LEFT($G28,1)&$H28&IF($J28<=9,\"0\"&$J28,$J28)&$L28&\"A4\"&LEFT($O28,2)&\"N\"),VLOOKUP($Z28,Ref!$AE:$AG,3,0)&$L28)","v":""},"","",{"$f":"IF($Z28=\"\",IF($G28=\"\",\"\",$D28*$W28*$K$1),VLOOKUP($Z28,Ref!$AE:$AG,2,0)*$Q28*$K$1*(1-$H$4/100))","v":""},{"$nulls":3},{"$f":"SUMIF(pricelist!$W:$W,'подбор радиатора TESI'!$AA28,pricelist!$J:$J)","v":0},null,0,null,{"$f":"IF($L28=\"\",\"\",VLOOKUP($L28,Ref!$D:$J,7,0))","v":""},{"$f":"SUMIF(Ref!$D:$D,'подбор радиатора TESI'!$L:$L,Ref!$E:$E)","v":{"v":0,"d":"0.00"}},null,{"$f":"SUMIF(Ref!$F:$F,'подбор радиатора TESI'!$O:$O,Ref!$G:$G)","v":{"v":0,"d":"0.00"}},null,{"$f":"SUMIF(pricelist!$W:$W,'подбор радиатора TESI'!$AA:$AA,pricelist!$K:$K)*$J28","v":{"v":0,"d":"0.00"}},{"$f":"SUMIF(pricelist!$W:$W,$AA:$AA,INDIRECT($S$12&$S$14))*$J28","v":{"v":0,"d":"0.00"}},0,null,{"$f":"SUMIF(Ref!$H:$H,'подбор радиатора TESI'!$U:$U,Ref!$I:$I)","v":{"v":0,"d":"0.00"}},{"$f":"(($N28*SUMIF(pricelist!$W:$W,'подбор радиатора TESI'!$AA:$AA,pricelist!$S:$S)*$J28)+$P28+IF($U28=\"радиусный\",$V28*$J28,$V28)+IF($J28>$AC28,31*1.13,0))*(1-$H$4/100)","v":{"v":0,"d":"0.00"}},{"$nulls":3},"/","/",{"$f":"SUMIF(Ref!$R:$R,'подбор радиатора TESI'!$AB:$AB,Ref!$Q:$Q)","v":0},1]
["",{"$f":"IF($Z29=\"\",IF($G29=\"\",\"\",\"RR\"&LEFT($G29,1)&$H29&IF($J29<=9,\"0\"&$J29,$J29)&$L29&\"A4\"&LEFT($O29,2)&\"N\"),VLOOKUP($Z29,Ref!$AE:$AG,3,0)&$L29)","v":""},"","",{"$f":"IF($Z29=\"\",IF($G29=\"\",\"\",$D29*$W29*$K$1),VLOOKUP($Z29,Ref!$AE:$AG,2,0)*$Q29*$K$1*(1-$H$4/100))","v":""},{"$nulls":3},{"$f":"SUMIF(pricelist!$W:$W,'подбор радиатора TESI'!$AA29,pricelist!$J:$J)","v":0},null,0,null,{"$f":"IF($L29=\"\",\"\",VLOOKUP($L29,Ref!$D:$J,7,0))","v":""},{"$f":"SUMIF(Ref!$D:$D,'подбор радиатора TESI'!$L:$L,Ref!$E:$E)","v":{"v":0,"d":"0.00"}},null,{"$f":"SUMIF(Ref!$F:$F,'подбор радиатора TESI'!$O:$O,Ref!$G:$G)","v":{"v":0,"d":"0.00"}},null,{"$f":"SUMIF(pricelist!$W:$W,'подбор радиатора TESI'!$AA:$AA,pricelist!$K:$K)*$J29","v":{"v":0,"d":"0.00"}},{"$f":"SUMIF(pricelist!$W:$W,$AA:$AA,INDIRECT($S$12&$S$14))*$J29","v":{"v":0,"d":"0.00"}},0,null,{"$f":"SUMIF(Ref!$H:$H,'подбор радиатора TESI'!$U:$U,Ref!$I:$I)","v":{"v":0,"d":"0.00"}},{"$f":"(($N29*SUMIF(pricelist!$W:$W,'подбор радиатора TESI'!$AA:$AA,pricelist!$S:$S)*$J29)+$P29+IF($U29=\"радиусный\",$V29*$J29,$V29)+IF($J29>$AC29,31*1.13,0))*(1-$H$4/100)","v":{"v":0,"d":"0.00"}},{"$nulls":3},"/","/",{"$f":"SUMIF(Ref!$R:$R,'подбор радиатора TESI'!$AB:$AB,Ref!$Q:$Q)","v":0},1]
["",{"$f":"IF($Z30=\"\",IF($G30=\"\",\"\",\"RR\"&LEFT($G30,1)&$H30&IF($J30<=9,\"0\"&$J30,$J30)&$L30&\"A4\"&LEFT($O30,2)&\"N\"),VLOOKUP($Z30,Ref!$AE:$AG,3,0)&$L30)","v":""},"","",{"$f":"IF($Z30=\"\",IF($G30=\"\",\"\",$D30*$W30*$K$1),VLOOKUP($Z30,Ref!$AE:$AG,2,0)*$Q30*$K$1*(1-$H$4/100))","v":""},{"$nulls":3},{"$f":"SUMIF(pricelist!$W:$W,'подбор радиатора TESI'!$AA30,pricelist!$J:$J)","v":0},null,0,null,{"$f":"IF($L30=\"\",\"\",VLOOKUP($L30,Ref!$D:$J,7,0))","v":""},{"$f":"SUMIF(Ref!$D:$D,'подбор радиатора TESI'!$L:$L,Ref!$E:$E)","v":{"v":0,"d":"0.00"}},null,{"$f":"SUMIF(Ref!$F:$F,'подбор радиатора TESI'!$O:$O,Ref!$G:$G)","v":{"v":0,"d":"0.00"}},null,{"$f":"SUMIF(pricelist!$W:$W,'подбор радиатора TESI'!$AA:$AA,pricelist!$K:$K)*$J30","v":{"v":0,"d":"0.00"}},{"$f":"SUMIF(pricelist!$W:$W,$AA:$AA,INDIRECT($S$12&$S$14))*$J30","v":{"v":0,"d":"0.00"}},0,null,{"$f":"SUMIF(Ref!$H:$H,'подбор радиатора TESI'!$U:$U,Ref!$I:$I)","v":{"v":0,"d":"0.00"}},{"$f":"(($N30*SUMIF(pricelist!$W:$W,'подбор радиатора TESI'!$AA:$AA,pricelist!$S:$S)*$J30)+$P30+IF($U30=\"радиусный\",$V30*$J30,$V30)+IF($J30>$AC30,31*1.13,0))*(1-$H$4/100)","v":{"v":0,"d":"0.00"}},{"$nulls":3},"/","/",{"$f":"SUMIF(Ref!$R:$R,'подбор радиатора TESI'!$AB:$AB,Ref!$Q:$Q)","v":0},1]
["",{"$f":"IF($Z31=\"\",IF($G31=\"\",\"\",\"RR\"&LEFT($G31,1)&$H31&IF($J31<=9,\"0\"&$J31,$J31)&$L31&\"A4\"&LEFT($O31,2)&\"N\"),VLOOKUP($Z31,Ref!$AE:$AG,3,0)&$L31)","v":""},"","",{"$f":"IF($Z31=\"\",IF($G31=\"\",\"\",$D31*$W31*$K$1),VLOOKUP($Z31,Ref!$AE:$AG,2,0)*$Q31*$K$1*(1-$H$4/100))","v":""},{"$nulls":3},{"$f":"SUMIF(pricelist!$W:$W,'подбор радиатора TESI'!$AA31,pricelist!$J:$J)","v":0},null,0,null,{"$f":"IF($L31=\"\",\"\",VLOOKUP($L31,Ref!$D:$J,7,0))","v":""},{"$f":"SUMIF(Ref!$D:$D,'подбор радиатора TESI'!$L:$L,Ref!$E:$E)","v":{"v":0,"d":"0.00"}},null,{"$f":"SUMIF(Ref!$F:$F,'подбор радиатора TESI'!$O:$O,Ref!$G:$G)","v":{"v":0,"d":"0.00"}},null,{"$f":"SUMIF(pricelist!$W:$W,'подбор радиатора TESI'!$AA:$AA,pricelist!$K:$K)*$J31","v":{"v":0,"d":"0.00"}},{"$f":"SUMIF(pricelist!$W:$W,$AA:$AA,INDIRECT($S$12&$S$14))*$J31","v":{"v":0,"d":"0.00"}},0,null,{"$f":"SUMIF(Ref!$H:$H,'подбор радиатора TESI'!$U:$U,Ref!$I:$I)","v":{"v":0,"d":"0.00"}},{"$f":"(($N31*SUMIF(pricelist!$W:$W,'подбор радиатора TESI'!$AA:$AA,pricelist!$S:$S)*$J31)+$P31+IF($U31=\"радиусный\",$V31*$J31,$V31)+IF($J31>$AC31,31*1.13,0))*(1-$H$4/100)","v":{"v":0,"d":"0.00"}},{"$nulls":3},"/","/",{"$f":"SUMIF(Ref!$R:$R,'подбор радиатора TESI'!$AB:$AB,Ref!$Q:$Q)","v":0},1]
["",{"$f":"IF($Z32=\"\",IF($G32=\"\",\"\",\"RR\"&LEFT($G32,1)&$H32&IF($J32<=9,\"0\"&$J32,$J32)&$L32&\"A4\"&LEFT($O32,2)&\"N\"),VLOOKUP($Z32,Ref!$AE:$AG,3,0)&$L32)","v":""},"","",{"$f":"IF($Z32=\"\",IF($G32=\"\",\"\",$D32*$W32*$K$1),VLOOKUP($Z32,Ref!$AE:$AG,2,0)*$Q32*$K$1*(1-$H$4/100))","v":""},{"$nulls":3},{"$f":"SUMIF(pricelist!$W:$W,'подбор радиатора TESI'!$AA32,pricelist!$J:$J)","v":0},null,0,null,{"$f":"IF($L32=\"\",\"\",VLOOKUP($L32,Ref!$D:$J,7,0))","v":""},{"$f":"SUMIF(Ref!$D:$D,'подбор радиатора TESI'!$L:$L,Ref!$E:$E)","v":{"v":0,"d":"0.00"}},null,{"$f":"SUMIF(Ref!$F:$F,'подбор радиатора TESI'!$O:$O,Ref!$G:$G)","v":{"v":0,"d":"0.00"}},null,{"$f":"SUMIF(pricelist!$W:$W,'подбор радиатора TESI'!$AA:$AA,pricelist!$K:$K)*$J32","v":{"v":0,"d":"0.00"}},{"$f":"SUMIF(pricelist!$W:$W,$AA:$AA,INDIRECT($S$12&$S$14))*$J32","v":{"v":0,"d":"0.00"}},0,null,{"$f":"SUMIF(Ref!$H:$H,'подбор радиатора TESI'!$U:$U,Ref!$I:$I)","v":{"v":0,"d":"0.00"}},{"$f":"(($N32*SUMIF(pricelist!$W:$W,'подбор радиатора TESI'!$AA:$AA,pricelist!$S:$S)*$J32)+$P32+IF($U32=\"радиусный\",$V32*$J32,$V32)+IF($J32>$AC32,31*1.13,0))*(1-$H$4/100)","v":{"v":0,"d":"0.00"}},{"$nulls":3},"/","/",{"$f":"SUMIF(Ref!$R:$R,'подбор радиатора TESI'!$AB:$AB,Ref!$Q:$Q)","v":0},1]
["",{"$f":"IF($Z33=\"\",IF($G33=\"\",\"\",\"RR\"&LEFT($G33,1)&$H33&IF($J33<=9,\"0\"&$J33,$J33)&$L33&\"A4\"&LEFT($O33,2)&\"N\"),VLOOKUP($Z33,Ref!$AE:$AG,3,0)&$L33)","v":""},"","",{"$f":"IF($Z33=\"\",IF($G33=\"\",\"\",$D33*$W33*$K$1),VLOOKUP($Z33,Ref!$AE:$AG,2,0)*$Q33*$K$1*(1-$H$4/100))","v":""},{"$nulls":3},{"$f":"SUMIF(pricelist!$W:$W,'подбор радиатора TESI'!$AA33,pricelist!$J:$J)","v":0},null,0,null,{"$f":"IF($L33=\"\",\"\",VLOOKUP($L33,Ref!$D:$J,7,0))","v":""},{"$f":"SUMIF(Ref!$D:$D,'подбор радиатора TESI'!$L:$L,Ref!$E:$E)","v":{"v":0,"d":"0.00"}},null,{"$f":"SUMIF(Ref!$F:$F,'подбор радиатора TESI'!$O:$O,Ref!$G:$G)","v":{"v":0,"d":"0.00"}},null,{"$f":"SUMIF(pricelist!$W:$W,'подбор радиатора TESI'!$AA:$AA,pricelist!$K:$K)*$J33","v":{"v":0,"d":"0.00"}},{"$f":"SUMIF(pricelist!$W:$W,$AA:$AA,INDIRECT($S$12&$S$14))*$J33","v":{"v":0,"d":"0.00"}},0,null,{"$f":"SUMIF(Ref!$H:$H,'подбор радиатора TESI'!$U:$U,Ref!$I:$I)","v":{"v":0,"d":"0.00"}},{"$f":"(($N33*SUMIF(pricelist!$W:$W,'подбор радиатора TESI'!$AA:$AA,pricelist!$S:$S)*$J33)+$P33+IF($U33=\"радиусный\",$V33*$J33,$V33)+IF($J33>$AC33,31*1.13,0))*(1-$H$4/100)","v":{"v":0,"d":"0.00"}},{"$nulls":3},"/","/",{"$f":"SUMIF(Ref!$R:$R,'подбор радиатора TESI'!$AB:$AB,Ref!$Q:$Q)","v":0},1]
["",{"$f":"IF($Z34=\"\",IF($G34=\"\",\"\",\"RR\"&LEFT($G34,1)&$H34&IF($J34<=9,\"0\"&$J34,$J34)&$L34&\"A4\"&LEFT($O34,2)&\"N\"),VLOOKUP($Z34,Ref!$AE:$AG,3,0)&$L34)","v":""},"","",{"$f":"IF($Z34=\"\",IF($G34=\"\",\"\",$D34*$W34*$K$1),VLOOKUP($Z34,Ref!$AE:$AG,2,0)*$Q34*$K$1*(1-$H$4/100))","v":""},{"$nulls":3},{"$f":"SUMIF(pricelist!$W:$W,'подбор радиатора TESI'!$AA34,pricelist!$J:$J)","v":0},null,0,null,{"$f":"IF($L34=\"\",\"\",VLOOKUP($L34,Ref!$D:$J,7,0))","v":""},{"$f":"SUMIF(Ref!$D:$D,'подбор радиатора TESI'!$L:$L,Ref!$E:$E)","v":{"v":0,"d":"0.00"}},null,{"$f":"SUMIF(Ref!$F:$F,'подбор радиатора TESI'!$O:$O,Ref!$G:$G)","v":{"v":0,"d":"0.00"}},null,{"$f":"SUMIF(pricelist!$W:$W,'подбор радиатора TESI'!$AA:$AA,pricelist!$K:$K)*$J34","v":{"v":0,"d":"0.00"}},{"$f":"SUMIF(pricelist!$W:$W,$AA:$AA,INDIRECT($S$12&$S$14))*$J34","v":{"v":0,"d":"0.00"}},0,null,{"$f":"SUMIF(Ref!$H:$H,'подбор радиатора TESI'!$U:$U,Ref!$I:$I)","v":{"v":0,"d":"0.00"}},{"$f":"(($N34*SUMIF(pricelist!$W:$W,'подбор радиатора TESI'!$AA:$AA,pricelist!$S:$S)*$J34)+$P34+IF($U34=\"радиусный\",$V34*$J34,$V34)+IF($J34>$AC34,31*1.13,0))*(1-$H$4/100)","v":{"v":0,"d":"0.00"}},{"$nulls":3},"/","/",{"$f":"SUMIF(Ref!$R:$R,'подбор радиатора TESI'!$AB:$AB,Ref!$Q:$Q)","v":0},1]
["",{"$f":"IF($Z35=\"\",IF($G35=\"\",\"\",\"RR\"&LEFT($G35,1)&$H35&IF($J35<=9,\"0\"&$J35,$J35)&$L35&\"A4\"&LEFT($O35,2)&\"N\"),VLOOKUP($Z35,Ref!$AE:$AG,3,0)&$L35)","v":""},"","",{"$f":"IF($Z35=\"\",IF($G35=\"\",\"\",$D35*$W35*$K$1),VLOOKUP($Z35,Ref!$AE:$AG,2,0)*$Q35*$K$1*(1-$H$4/100))","v":""},{"$nulls":3},{"$f":"SUMIF(pricelist!$W:$W,'подбор радиатора TESI'!$AA35,pricelist!$J:$J)","v":0},null,0,null,{"$f":"IF($L35=\"\",\"\",VLOOKUP($L35,Ref!$D:$J,7,0))","v":""},{"$f":"SUMIF(Ref!$D:$D,'подбор радиатора TESI'!$L:$L,Ref!$E:$E)","v":{"v":0,"d":"0.00"}},null,{"$f":"SUMIF(Ref!$F:$F,'подбор радиатора TESI'!$O:$O,Ref!$G:$G)","v":{"v":0,"d":"0.00"}},null,{"$f":"SUMIF(pricelist!$W:$W,'подбор радиатора TESI'!$AA:$AA,pricelist!$K:$K)*$J35","v":{"v":0,"d":"0.00"}},{"$f":"SUMIF(pricelist!$W:$W,$AA:$AA,INDIRECT($S$12&$S$14))*$J35","v":{"v":0,"d":"0.00"}},0,null,{"$f":"SUMIF(Ref!$H:$H,'подбор радиатора TESI'!$U:$U,Ref!$I:$I)","v":{"v":0,"d":"0.00"}},{"$f":"(($N35*SUMIF(pricelist!$W:$W,'подбор радиатора TESI'!$AA:$AA,pricelist!$S:$S)*$J35)+$P35+IF($U35=\"радиусный\",$V35*$J35,$V35)+IF($J35>$AC35,31*1.13,0))*(1-$H$4/100)","v":{"v":0,"d":"0.00"}},{"$nulls":3},"/","/",{"$f":"SUMIF(Ref!$R:$R,'подбор радиатора TESI'!$AB:$AB,Ref!$Q:$Q)","v":0},1]
["",{"$f":"IF($Z36=\"\",IF($G36=\"\",\"\",\"RR\"&LEFT($G36,1)&$H36&IF($J36<=9,\"0\"&$J36,$J36)&$L36&\"A4\"&LEFT($O36,2)&\"N\"),VLOOKUP($Z36,Ref!$AE:$AG,3,0)&$L36)","v":""},"","",{"$f":"IF($Z36=\"\",IF($G36=\"\",\"\",$D36*$W36*$K$1),VLOOKUP($Z36,Ref!$AE:$AG,2,0)*$Q36*$K$1*(1-$H$4/100))","v":""},{"$nulls":3},{"$f":"SUMIF(pricelist!$W:$W,'подбор радиатора TESI'!$AA36,pricelist!$J:$J)","v":0},null,0,null,{"$f":"IF($L36=\"\",\"\",VLOOKUP($L36,Ref!$D:$J,7,0))","v":""},{"$f":"SUMIF(Ref!$D:$D,'подбор радиатора TESI'!$L:$L,Ref!$E:$E)","v":{"v":0,"d":"0.00"}},null,{"$f":"SUMIF(Ref!$F:$F,'подбор радиатора TESI'!$O:$O,Ref!$G:$G)","v":{"v":0,"d":"0.00"}},null,{"$f":"SUMIF(pricelist!$W:$W,'подбор радиатора TESI'!$AA:$AA,pricelist!$K:$K)*$J36","v":{"v":0,"d":"0.00"}},{"$f":"SUMIF(pricelist!$W:$W,$AA:$AA,INDIRECT($S$12&$S$14))*$J36","v":{"v":0,"d":"0.00"}},0,null,{"$f":"SUMIF(Ref!$H:$H,'подбор радиатора TESI'!$U:$U,Ref!$I:$I)","v":{"v":0,"d":"0.00"}},{"$f":"(($N36*SUMIF(pricelist!$W:$W,'подбор радиатора TESI'!$AA:$AA,pricelist!$S:$S)*$J36)+$P36+IF($U36=\"радиусный\",$V36*$J36,$V36)+IF($J36>$AC36,31*1.13,0))*(1-$H$4/100)","v":{"v":0,"d":"0.00"}},{"$nulls":3},"/","/",{"$f":"SUMIF(Ref!$R:$R,'подбор радиатора TESI'!$AB:$AB,Ref!$Q:$Q)","v":0},1]
["",{"$f":"IF($Z37=\"\",IF($G37=\"\",\"\",\"RR\"&LEFT($G37,1)&$H37&IF($J37<=9,\"0\"&$J37,$J37)&$L37&\"A4\"&LEFT($O37,2)&\"N\"),VLOOKUP($Z37,Ref!$AE:$AG,3,0)&$L37)","v":""},"","",{"$f":"IF($Z37=\"\",IF($G37=\"\",\"\",$D37*$W37*$K$1),VLOOKUP($Z37,Ref!$AE:$AG,2,0)*$Q37*$K$1*(1-$H$4/100))","v":""},{"$nulls":3},{"$f":"SUMIF(pricelist!$W:$W,'подбор радиатора TESI'!$AA37,pricelist!$J:$J)","v":0},null,0,null,{"$f":"IF($L37=\"\",\"\",VLOOKUP($L37,Ref!$D:$J,7,0))","v":""},{"$f":"SUMIF(Ref!$D:$D,'подбор радиатора TESI'!$L:$L,Ref!$E:$E)","v":{"v":0,"d":"0.00"}},null,{"$f":"SUMIF(Ref!$F:$F,'подбор радиатора TESI'!$O:$O,Ref!$G:$G)","v":{"v":0,"d":"0.00"}},null,{"$f":"SUMIF(pricelist!$W:$W,'подбор радиатора TESI'!$AA:$AA,pricelist!$K:$K)*$J37","v":{"v":0,"d":"0.00"}},{"$f":"SUMIF(pricelist!$W:$W,$AA:$AA,INDIRECT($S$12&$S$14))*$J37","v":{"v":0,"d":"0.00"}},0,null,{"$f":"SUMIF(Ref!$H:$H,'подбор радиатора TESI'!$U:$U,Ref!$I:$I)","v":{"v":0,"d":"0.00"}},{"$f":"(($N37*SUMIF(pricelist!$W:$W,'подбор радиатора TESI'!$AA:$AA,pricelist!$S:$S)*$J37)+$P37+IF($U37=\"радиусный\",$V37*$J37,$V37)+IF($J37>$AC37,31*1.13,0))*(1-$H$4/100)","v":{"v":0,"d":"0.00"}},{"$nulls":3},"/","/",{"$f":"SUMIF(Ref!$R:$R,'подбор радиатора TESI'!$AB:$AB,Ref!$Q:$Q)","v":0},1]
["",{"$f":"IF($Z38=\"\",IF($G38=\"\",\"\",\"RR\"&LEFT($G38,1)&$H38&IF($J38<=9,\"0\"&$J38,$J38)&$L38&\"A4\"&LEFT($O38,2)&\"N\"),VLOOKUP($Z38,Ref!$AE:$AG,3,0)&$L38)","v":""},"","",{"$f":"IF($Z38=\"\",IF($G38=\"\",\"\",$D38*$W38*$K$1),VLOOKUP($Z38,Ref!$AE:$AG,2,0)*$Q38*$K$1*(1-$H$4/100))","v":""},{"$nulls":3},{"$f":"SUMIF(pricelist!$W:$W,'подбор радиатора TESI'!$AA38,pricelist!$J:$J)","v":0},null,0,null,{"$f":"IF($L38=\"\",\"\",VLOOKUP($L38,Ref!$D:$J,7,0))","v":""},{"$f":"SUMIF(Ref!$D:$D,'подбор радиатора TESI'!$L:$L,Ref!$E:$E)","v":{"v":0,"d":"0.00"}},null,{"$f":"SUMIF(Ref!$F:$F,'подбор радиатора TESI'!$O:$O,Ref!$G:$G)","v":{"v":0,"d":"0.00"}},null,{"$f":"SUMIF(pricelist!$W:$W,'подбор радиатора TESI'!$AA:$AA,pricelist!$K:$K)*$J38","v":{"v":0,"d":"0.00"}},{"$f":"SUMIF(pricelist!$W:$W,$AA:$AA,INDIRECT($S$12&$S$14))*$J38","v":{"v":0,"d":"0.00"}},0,null,{"$f":"SUMIF(Ref!$H:$H,'подбор радиатора TESI'!$U:$U,Ref!$I:$I)","v":{"v":0,"d":"0.00"}},{"$f":"(($N38*SUMIF(pricelist!$W:$W,'подбор радиатора TESI'!$AA:$AA,pricelist!$S:$S)*$J38)+$P38+IF($U38=\"радиусный\",$V38*$J38,$V38)+IF($J38>$AC38,31*1.13,0))*(1-$H$4/100)","v":{"v":0,"d":"0.00"}},{"$nulls":3},"/","/",{"$f":"SUMIF(Ref!$R:$R,'подбор радиатора TESI'!$AB:$AB,Ref!$Q:$Q)","v":0},1]
["",{"$f":"IF($Z39=\"\",IF($G39=\"\",\"\",\"RR\"&LEFT($G39,1)&$H39&IF($J39<=9,\"0\"&$J39,$J39)&$L39&\"A4\"&LEFT($O39,2)&\"N\"),VLOOKUP($Z39,Ref!$AE:$AG,3,0)&$L39)","v":""},"","",{"$f":"IF($Z39=\"\",IF($G39=\"\",\"\",$D39*$W39*$K$1),VLOOKUP($Z39,Ref!$AE:$AG,2,0)*$Q39*$K$1*(1-$H$4/100))","v":""},{"$nulls":3},{"$f":"SUMIF(pricelist!$W:$W,'подбор радиатора TESI'!$AA39,pricelist!$J:$J)","v":0},null,0,null,{"$f":"IF($L39=\"\",\"\",VLOOKUP($L39,Ref!$D:$J,7,0))","v":""},{"$f":"SUMIF(Ref!$D:$D,'подбор радиатора TESI'!$L:$L,Ref!$E:$E)","v":{"v":0,"d":"0.00"}},null,{"$f":"SUMIF(Ref!$F:$F,'подбор радиатора TESI'!$O:$O,Ref!$G:$G)","v":{"v":0,"d":"0.00"}},null,{"$f":"SUMIF(pricelist!$W:$W,'подбор радиатора TESI'!$AA:$AA,pricelist!$K:$K)*$J39","v":{"v":0,"d":"0.00"}},{"$f":"SUMIF(pricelist!$W:$W,$AA:$AA,INDIRECT($S$12&$S$14))*$J39","v":{"v":0,"d":"0.00"}},0,null,{"$f":"SUMIF(Ref!$H:$H,'подбор радиатора TESI'!$U:$U,Ref!$I:$I)","v":{"v":0,"d":"0.00"}},{"$f":"(($N39*SUMIF(pricelist!$W:$W,'подбор радиатора TESI'!$AA:$AA,pricelist!$S:$S)*$J39)+$P39+IF($U39=\"радиусный\",$V39*$J39,$V39)+IF($J39>$AC39,31*1.13,0))*(1-$H$4/100)","v":{"v":0,"d":"0.00"}},{"$nulls":3},"/","/",{"$f":"SUMIF(Ref!$R:$R,'подбор радиатора TESI'!$AB:$AB,Ref!$Q:$Q)","v":0},1]
["",{"$f":"IF($Z40=\"\",IF($G40=\"\",\"\",\"RR\"&LEFT($G40,1)&$H40&IF($J40<=9,\"0\"&$J40,$J40)&$L40&\"A4\"&LEFT($O40,2)&\"N\"),VLOOKUP($Z40,Ref!$AE:$AG,3,0)&$L40)","v":""},"","",{"$f":"IF($Z40=\"\",IF($G40=\"\",\"\",$D40*$W40*$K$1),VLOOKUP($Z40,Ref!$AE:$AG,2,0)*$Q40*$K$1*(1-$H$4/100))","v":""},{"$nulls":3},{"$f":"SUMIF(pricelist!$W:$W,'подбор радиатора TESI'!$AA40,pricelist!$J:$J)","v":0},null,0,null,{"$f":"IF($L40=\"\",\"\",VLOOKUP($L40,Ref!$D:$J,7,0))","v":""},{"$f":"SUMIF(Ref!$D:$D,'подбор радиатора TESI'!$L:$L,Ref!$E:$E)","v":{"v":0,"d":"0.00"}},null,{"$f":"SUMIF(Ref!$F:$F,'подбор радиатора TESI'!$O:$O,Ref!$G:$G)","v":{"v":0,"d":"0.00"}},null,{"$f":"SUMIF(pricelist!$W:$W,'подбор радиатора TESI'!$AA:$AA,pricelist!$K:$K)*$J40","v":{"v":0,"d":"0.00"}},{"$f":"SUMIF(pricelist!$W:$W,$AA:$AA,INDIRECT($S$12&$S$14))*$J40","v":{"v":0,"d":"0.00"}},0,null,{"$f":"SUMIF(Ref!$H:$H,'подбор радиатора TESI'!$U:$U,Ref!$I:$I)","v":{"v":0,"d":"0.00"}},{"$f":"(($N40*SUMIF(pricelist!$W:$W,'подбор радиатора TESI'!$AA:$AA,pricelist!$S:$S)*$J40)+$P40+IF($U40=\"радиусный\",$V40*$J40,$V40)+IF($J40>$AC40,31*1.13,0))*(1-$H$4/100)","v":{"v":0,"d":"0.00"}},{"$nulls":3},"/","/",{"$f":"SUMIF(Ref!$R:$R,'подбор радиатора TESI'!$AB:$AB,Ref!$Q:$Q)","v":0},1]
["",{"$f":"IF($Z41=\"\",IF($G41=\"\",\"\",\"RR\"&LEFT($G41,1)&$H41&IF($J41<=9,\"0\"&$J41,$J41)&$L41&\"A4\"&LEFT($O41,2)&\"N\"),VLOOKUP($Z41,Ref!$AE:$AG,3,0)&$L41)","v":""},"","",{"$f":"IF($Z41=\"\",IF($G41=\"\",\"\",$D41*$W41*$K$1),VLOOKUP($Z41,Ref!$AE:$AG,2,0)*$Q41*$K$1*(1-$H$4/100))","v":""},{"$nulls":3},{"$f":"SUMIF(pricelist!$W:$W,'подбор радиатора TESI'!$AA41,pricelist!$J:$J)","v":0},null,0,null,{"$f":"IF($L41=\"\",\"\",VLOOKUP($L41,Ref!$D:$J,7,0))","v":""},{"$f":"SUMIF(Ref!$D:$D,'подбор радиатора TESI'!$L:$L,Ref!$E:$E)","v":{"v":0,"d":"0.00"}},null,{"$f":"SUMIF(Ref!$F:$F,'подбор радиатора TESI'!$O:$O,Ref!$G:$G)","v":{"v":0,"d":"0.00"}},null,{"$f":"SUMIF(pricelist!$W:$W,'подбор радиатора TESI'!$AA:$AA,pricelist!$K:$K)*$J41","v":{"v":0,"d":"0.00"}},{"$f":"SUMIF(pricelist!$W:$W,$AA:$AA,INDIRECT($S$12&$S$14))*$J41","v":{"v":0,"d":"0.00"}},0,null,{"$f":"SUMIF(Ref!$H:$H,'подбор радиатора TESI'!$U:$U,Ref!$I:$I)","v":{"v":0,"d":"0.00"}},{"$f":"(($N41*SUMIF(pricelist!$W:$W,'подбор радиатора TESI'!$AA:$AA,pricelist!$S:$S)*$J41)+$P41+IF($U41=\"радиусный\",$V41*$J41,$V41)+IF($J41>$AC41,31*1.13,0))*(1-$H$4/100)","v":{"v":0,"d":"0.00"}},{"$nulls":3},"/","/",{"$f":"SUMIF(Ref!$R:$R,'подбор радиатора TESI'!$AB:$AB,Ref!$Q:$Q)","v":0},1]
["",{"$f":"IF($Z42=\"\",IF($G42=\"\",\"\",\"RR\"&LEFT($G42,1)&$H42&IF($J42<=9,\"0\"&$J42,$J42)&$L42&\"A4\"&LEFT($O42,2)&\"N\"),VLOOKUP($Z42,Ref!$AE:$AG,3,0)&$L42)","v":""},"","",{"$f":"IF($Z42=\"\",IF($G42=\"\",\"\",$D42*$W42*$K$1),VLOOKUP($Z42,Ref!$AE:$AG,2,0)*$Q42*$K$1*(1-$H$4/100))","v":""},{"$nulls":3},{"$f":"SUMIF(pricelist!$W:$W,'подбор радиатора TESI'!$AA42,pricelist!$J:$J)","v":0},null,0,null,{"$f":"IF($L42=\"\",\"\",VLOOKUP($L42,Ref!$D:$J,7,0))","v":""},{"$f":"SUMIF(Ref!$D:$D,'подбор радиатора TESI'!$L:$L,Ref!$E:$E)","v":{"v":0,"d":"0.00"}},null,{"$f":"SUMIF(Ref!$F:$F,'подбор радиатора TESI'!$O:$O,Ref!$G:$G)","v":{"v":0,"d":"0.00"}},null,{"$f":"SUMIF(pricelist!$W:$W,'подбор радиатора TESI'!$AA:$AA,pricelist!$K:$K)*$J42","v":{"v":0,"d":"0.00"}},{"$f":"SUMIF(pricelist!$W:$W,$AA:$AA,INDIRECT($S$12&$S$14))*$J42","v":{"v":0,"d":"0.00"}},0,null,{"$f":"SUMIF(Ref!$H:$H,'подбор радиатора TESI'!$U:$U,Ref!$I:$I)","v":{"v":0,"d":"0.00"}},{"$f":"(($N42*SUMIF(pricelist!$W:$W,'подбор радиатора TESI'!$AA:$AA,pricelist!$S:$S)*$J42)+$P42+IF($U42=\"радиусный\",$V42*$J42,$V42)+IF($J42>$AC42,31*1.13,0))*(1-$H$4/100)","v":{"v":0,"d":"0.00"}},{"$nulls":3},"/","/",{"$f":"SUMIF(Ref!$R:$R,'подбор радиатора TESI'!$AB:$AB,Ref!$Q:$Q)","v":0},1]
["",{"$f":"IF($Z43=\"\",IF($G43=\"\",\"\",\"RR\"&LEFT($G43,1)&$H43&IF($J43<=9,\"0\"&$J43,$J43)&$L43&\"A4\"&LEFT($O43,2)&\"N\"),VLOOKUP($Z43,Ref!$AE:$AG,3,0)&$L43)","v":""},"","",{"$f":"IF($Z43=\"\",IF($G43=\"\",\"\",$D43*$W43*$K$1),VLOOKUP($Z43,Ref!$AE:$AG,2,0)*$Q43*$K$1*(1-$H$4/100))","v":""},{"$nulls":3},{"$f":"SUMIF(pricelist!$W:$W,'подбор радиатора TESI'!$AA43,pricelist!$J:$J)","v":0},null,0,null,{"$f":"IF($L43=\"\",\"\",VLOOKUP($L43,Ref!$D:$J,7,0))","v":""},{"$f":"SUMIF(Ref!$D:$D,'подбор радиатора TESI'!$L:$L,Ref!$E:$E)","v":{"v":0,"d":"0.00"}},null,{"$f":"SUMIF(Ref!$F:$F,'подбор радиатора TESI'!$O:$O,Ref!$G:$G)","v":{"v":0,"d":"0.00"}},null,{"$f":"SUMIF(pricelist!$W:$W,'подбор радиатора TESI'!$AA:$AA,pricelist!$K:$K)*$J43","v":{"v":0,"d":"0.00"}},{"$f":"SUMIF(pricelist!$W:$W,$AA:$AA,INDIRECT($S$12&$S$14))*$J43","v":{"v":0,"d":"0.00"}},0,null,{"$f":"SUMIF(Ref!$H:$H,'подбор радиатора TESI'!$U:$U,Ref!$I:$I)","v":{"v":0,"d":"0.00"}},{"$f":"(($N43*SUMIF(pricelist!$W:$W,'подбор радиатора TESI'!$AA:$AA,pricelist!$S:$S)*$J43)+$P43+IF($U43=\"радиусный\",$V43*$J43,$V43)+IF($J43>$AC43,31*1.13,0))*(1-$H$4/100)","v":{"v":0,"d":"0.00"}},{"$nulls":3},"/","/",{"$f":"SUMIF(Ref!$R:$R,'подбор радиатора TESI'!$AB:$AB,Ref!$Q:$Q)","v":0},1]
["",{"$f":"IF($Z44=\"\",IF($G44=\"\",\"\",\"RR\"&LEFT($G44,1)&$H44&IF($J44<=9,\"0\"&$J44,$J44)&$L44&\"A4\"&LEFT($O44,2)&\"N\"),VLOOKUP($Z44,Ref!$AE:$AG,3,0)&$L44)","v":""},"","",{"$f":"IF($Z44=\"\",IF($G44=\"\",\"\",$D44*$W44*$K$1),VLOOKUP($Z44,Ref!$AE:$AG,2,0)*$Q44*$K$1*(1-$H$4/100))","v":""},{"$nulls":3},{"$f":"SUMIF(pricelist!$W:$W,'подбор радиатора TESI'!$AA44,pricelist!$J:$J)","v":0},null,0,null,{"$f":"IF($L44=\"\",\"\",VLOOKUP($L44,Ref!$D:$J,7,0))","v":""},{"$f":"SUMIF(Ref!$D:$D,'подбор радиатора TESI'!$L:$L,Ref!$E:$E)","v":{"v":0,"d":"0.00"}},null,{"$f":"SUMIF(Ref!$F:$F,'подбор радиатора TESI'!$O:$O,Ref!$G:$G)","v":{"v":0,"d":"0.00"}},null,{"$f":"SUMIF(pricelist!$W:$W,'подбор радиатора TESI'!$AA:$AA,pricelist!$K:$K)*$J44","v":{"v":0,"d":"0.00"}},{"$f":"SUMIF(pricelist!$W:$W,$AA:$AA,INDIRECT($S$12&$S$14))*$J44","v":{"v":0,"d":"0.00"}},0,null,{"$f":"SUMIF(Ref!$H:$H,'подбор радиатора TESI'!$U:$U,Ref!$I:$I)","v":{"v":0,"d":"0.00"}},{"$f":"(($N44*SUMIF(pricelist!$W:$W,'подбор радиатора TESI'!$AA:$AA,pricelist!$S:$S)*$J44)+$P44+IF($U44=\"радиусный\",$V44*$J44,$V44)+IF($J44>$AC44,31*1.13,0))*(1-$H$4/100)","v":{"v":0,"d":"0.00"}},{"$nulls":3},"/","/",{"$f":"SUMIF(Ref!$R:$R,'подбор радиатора TESI'!$AB:$AB,Ref!$Q:$Q)","v":0},1]
["",{"$f":"IF($Z45=\"\",IF($G45=\"\",\"\",\"RR\"&LEFT($G45,1)&$H45&IF($J45<=9,\"0\"&$J45,$J45)&$L45&\"A4\"&LEFT($O45,2)&\"N\"),VLOOKUP($Z45,Ref!$AE:$AG,3,0)&$L45)","v":""},"","",{"$f":"IF($Z45=\"\",IF($G45=\"\",\"\",$D45*$W45*$K$1),VLOOKUP($Z45,Ref!$AE:$AG,2,0)*$Q45*$K$1*(1-$H$4/100))","v":""},{"$nulls":3},{"$f":"SUMIF(pricelist!$W:$W,'подбор радиатора TESI'!$AA45,pricelist!$J:$J)","v":0},null,0,null,{"$f":"IF($L45=\"\",\"\",VLOOKUP($L45,Ref!$D:$J,7,0))","v":""},{"$f":"SUMIF(Ref!$D:$D,'подбор радиатора TESI'!$L:$L,Ref!$E:$E)","v":{"v":0,"d":"0.00"}},null,{"$f":"SUMIF(Ref!$F:$F,'подбор радиатора TESI'!$O:$O,Ref!$G:$G)","v":{"v":0,"d":"0.00"}},null,{"$f":"SUMIF(pricelist!$W:$W,'подбор радиатора TESI'!$AA:$AA,pricelist!$K:$K)*$J45","v":{"v":0,"d":"0.00"}},{"$f":"SUMIF(pricelist!$W:$W,$AA:$AA,INDIRECT($S$12&$S$14))*$J45","v":{"v":0,"d":"0.00"}},0,null,{"$f":"SUMIF(Ref!$H:$H,'подбор радиатора TESI'!$U:$U,Ref!$I:$I)","v":{"v":0,"d":"0.00"}},{"$f":"(($N45*SUMIF(pricelist!$W:$W,'подбор радиатора TESI'!$AA:$AA,pricelist!$S:$S)*$J45)+$P45+IF($U45=\"радиусный\",$V45*$J45,$V45)+IF($J45>$AC45,31*1.13,0))*(1-$H$4/100)","v":{"v":0,"d":"0.00"}},{"$nulls":3},"/","/",{"$f":"SUMIF(Ref!$R:$R,'подбор радиатора TESI'!$AB:$AB,Ref!$Q:$Q)","v":0},1]
["",{"$f":"IF($Z46=\"\",IF($G46=\"\",\"\",\"RR\"&LEFT($G46,1)&$H46&IF($J46<=9,\"0\"&$J46,$J46)&$L46&\"A4\"&LEFT($O46,2)&\"N\"),VLOOKUP($Z46,Ref!$AE:$AG,3,0)&$L46)","v":""},"","",{"$f":"IF($Z46=\"\",IF($G46=\"\",\"\",$D46*$W46*$K$1),VLOOKUP($Z46,Ref!$AE:$AG,2,0)*$Q46*$K$1*(1-$H$4/100))","v":""},{"$nulls":3},{"$f":"SUMIF(pricelist!$W:$W,'подбор радиатора TESI'!$AA46,pricelist!$J:$J)","v":0},null,0,null,{"$f":"IF($L46=\"\",\"\",VLOOKUP($L46,Ref!$D:$J,7,0))","v":""},{"$f":"SUMIF(Ref!$D:$D,'подбор радиатора TESI'!$L:$L,Ref!$E:$E)","v":{"v":0,"d":"0.00"}},null,{"$f":"SUMIF(Ref!$F:$F,'подбор радиатора TESI'!$O:$O,Ref!$G:$G)","v":{"v":0,"d":"0.00"}},null,{"$f":"SUMIF(pricelist!$W:$W,'подбор радиатора TESI'!$AA:$AA,pricelist!$K:$K)*$J46","v":{"v":0,"d":"0.00"}},{"$f":"SUMIF(pricelist!$W:$W,$AA:$AA,INDIRECT($S$12&$S$14))*$J46","v":{"v":0,"d":"0.00"}},0,null,{"$f":"SUMIF(Ref!$H:$H,'подбор радиатора TESI'!$U:$U,Ref!$I:$I)","v":{"v":0,"d":"0.00"}},{"$f":"(($N46*SUMIF(pricelist!$W:$W,'подбор радиатора TESI'!$AA:$AA,pricelist!$S:$S)*$J46)+$P46+IF($U46=\"радиусный\",$V46*$J46,$V46)+IF($J46>$AC46,31*1.13,0))*(1-$H$4/100)","v":{"v":0,"d":"0.00"}},{"$nulls":3},"/","/",{"$f":"SUMIF(Ref!$R:$R,'подбор радиатора TESI'!$AB:$AB,Ref!$Q:$Q)","v":0},1]
["",{"$f":"IF($Z47=\"\",IF($G47=\"\",\"\",\"RR\"&LEFT($G47,1)&$H47&IF($J47<=9,\"0\"&$J47,$J47)&$L47&\"A4\"&LEFT($O47,2)&\"N\"),VLOOKUP($Z47,Ref!$AE:$AG,3,0)&$L47)","v":""},"","",{"$f":"IF($Z47=\"\",IF($G47=\"\",\"\",$D47*$W47*$K$1),VLOOKUP($Z47,Ref!$AE:$AG,2,0)*$Q47*$K$1*(1-$H$4/100))","v":""},{"$nulls":3},{"$f":"SUMIF(pricelist!$W:$W,'подбор радиатора TESI'!$AA47,pricelist!$J:$J)","v":0},null,0,null,{"$f":"IF($L47=\"\",\"\",VLOOKUP($L47,Ref!$D:$J,7,0))","v":""},{"$f":"SUMIF(Ref!$D:$D,'подбор радиатора TESI'!$L:$L,Ref!$E:$E)","v":{"v":0,"d":"0.00"}},null,{"$f":"SUMIF(Ref!$F:$F,'подбор радиатора TESI'!$O:$O,Ref!$G:$G)","v":{"v":0,"d":"0.00"}},null,{"$f":"SUMIF(pricelist!$W:$W,'подбор радиатора TESI'!$AA:$AA,pricelist!$K:$K)*$J47","v":{"v":0,"d":"0.00"}},{"$f":"SUMIF(pricelist!$W:$W,$AA:$AA,INDIRECT($S$12&$S$14))*$J47","v":{"v":0,"d":"0.00"}},0,null,{"$f":"SUMIF(Ref!$H:$H,'подбор радиатора TESI'!$U:$U,Ref!$I:$I)","v":{"v":0,"d":"0.00"}},{"$f":"(($N47*SUMIF(pricelist!$W:$W,'подбор радиатора TESI'!$AA:$AA,pricelist!$S:$S)*$J47)+$P47+IF($U47=\"радиусный\",$V47*$J47,$V47)+IF($J47>$AC47,31*1.13,0))*(1-$H$4/100)","v":{"v":0,"d":"0.00"}},{"$nulls":3},"/","/",{"$f":"SUMIF(Ref!$R:$R,'подбор радиатора TESI'!$AB:$AB,Ref!$Q:$Q)","v":0},1]
["",{"$f":"IF($Z48=\"\",IF($G48=\"\",\"\",\"RR\"&LEFT($G48,1)&$H48&IF($J48<=9,\"0\"&$J48,$J48)&$L48&\"A4\"&LEFT($O48,2)&\"N\"),VLOOKUP($Z48,Ref!$AE:$AG,3,0)&$L48)","v":""},"","",{"$f":"IF($Z48=\"\",IF($G48=\"\",\"\",$D48*$W48*$K$1),VLOOKUP($Z48,Ref!$AE:$AG,2,0)*$Q48*$K$1*(1-$H$4/100))","v":""},{"$nulls":3},{"$f":"SUMIF(pricelist!$W:$W,'подбор радиатора TESI'!$AA48,pricelist!$J:$J)","v":0},null,0,null,{"$f":"IF($L48=\"\",\"\",VLOOKUP($L48,Ref!$D:$J,7,0))","v":""},{"$f":"SUMIF(Ref!$D:$D,'подбор радиатора TESI'!$L:$L,Ref!$E:$E)","v":{"v":0,"d":"0.00"}},null,{"$f":"SUMIF(Ref!$F:$F,'подбор радиатора TESI'!$O:$O,Ref!$G:$G)","v":{"v":0,"d":"0.00"}},null,{"$f":"SUMIF(pricelist!$W:$W,'подбор радиатора TESI'!$AA:$AA,pricelist!$K:$K)*$J48","v":{"v":0,"d":"0.00"}},{"$f":"SUMIF(pricelist!$W:$W,$AA:$AA,INDIRECT($S$12&$S$14))*$J48","v":{"v":0,"d":"0.00"}},0,null,{"$f":"SUMIF(Ref!$H:$H,'подбор радиатора TESI'!$U:$U,Ref!$I:$I)","v":{"v":0,"d":"0.00"}},{"$f":"(($N48*SUMIF(pricelist!$W:$W,'подбор радиатора TESI'!$AA:$AA,pricelist!$S:$S)*$J48)+$P48+IF($U48=\"радиусный\",$V48*$J48,$V48)+IF($J48>$AC48,31*1.13,0))*(1-$H$4/100)","v":{"v":0,"d":"0.00"}},{"$nulls":3},"/","/",{"$f":"SUMIF(Ref!$R:$R,'подбор радиатора TESI'!$AB:$AB,Ref!$Q:$Q)","v":0},1]
["",{"$f":"IF($Z49=\"\",IF($G49=\"\",\"\",\"RR\"&LEFT($G49,1)&$H49&IF($J49<=9,\"0\"&$J49,$J49)&$L49&\"A4\"&LEFT($O49,2)&\"N\"),VLOOKUP($Z49,Ref!$AE:$AG,3,0)&$L49)","v":""},"","",{"$f":"IF($Z49=\"\",IF($G49=\"\",\"\",$D49*$W49*$K$1),VLOOKUP($Z49,Ref!$AE:$AG,2,0)*$Q49*$K$1*(1-$H$4/100))","v":""},{"$nulls":3},{"$f":"SUMIF(pricelist!$W:$W,'подбор радиатора TESI'!$AA49,pricelist!$J:$J)","v":0},null,0,null,{"$f":"IF($L49=\"\",\"\",VLOOKUP($L49,Ref!$D:$J,7,0))","v":""},{"$f":"SUMIF(Ref!$D:$D,'подбор радиатора TESI'!$L:$L,Ref!$E:$E)","v":{"v":0,"d":"0.00"}},null,{"$f":"SUMIF(Ref!$F:$F,'подбор радиатора TESI'!$O:$O,Ref!$G:$G)","v":{"v":0,"d":"0.00"}},null,{"$f":"SUMIF(pricelist!$W:$W,'подбор радиатора TESI'!$AA:$AA,pricelist!$K:$K)*$J49","v":{"v":0,"d":"0.00"}},{"$f":"SUMIF(pricelist!$W:$W,$AA:$AA,INDIRECT($S$12&$S$14))*$J49","v":{"v":0,"d":"0.00"}},0,null,{"$f":"SUMIF(Ref!$H:$H,'подбор радиатора TESI'!$U:$U,Ref!$I:$I)","v":{"v":0,"d":"0.00"}},{"$f":"(($N49*SUMIF(pricelist!$W:$W,'подбор радиатора TESI'!$AA:$AA,pricelist!$S:$S)*$J49)+$P49+IF($U49=\"радиусный\",$V49*$J49,$V49)+IF($J49>$AC49,31*1.13,0))*(1-$H$4/100)","v":{"v":0,"d":"0.00"}},{"$nulls":3},"/","/",{"$f":"SUMIF(Ref!$R:$R,'подбор радиатора TESI'!$AB:$AB,Ref!$Q:$Q)","v":0},1]
["",{"$f":"IF($Z50=\"\",IF($G50=\"\",\"\",\"RR\"&LEFT($G50,1)&$H50&IF($J50<=9,\"0\"&$J50,$J50)&$L50&\"A4\"&LEFT($O50,2)&\"N\"),VLOOKUP($Z50,Ref!$AE:$AG,3,0)&$L50)","v":""},"","",{"$f":"IF($Z50=\"\",IF($G50=\"\",\"\",$D50*$W50*$K$1),VLOOKUP($Z50,Ref!$AE:$AG,2,0)*$Q50*$K$1*(1-$H$4/100))","v":""},{"$nulls":3},{"$f":"SUMIF(pricelist!$W:$W,'подбор радиатора TESI'!$AA50,pricelist!$J:$J)","v":0},null,0,null,{"$f":"IF($L50=\"\",\"\",VLOOKUP($L50,Ref!$D:$J,7,0))","v":""},{"$f":"SUMIF(Ref!$D:$D,'подбор радиатора TESI'!$L:$L,Ref!$E:$E)","v":{"v":0,"d":"0.00"}},null,{"$f":"SUMIF(Ref!$F:$F,'подбор радиатора TESI'!$O:$O,Ref!$G:$G)","v":{"v":0,"d":"0.00"}},null,{"$f":"SUMIF(pricelist!$W:$W,'подбор радиатора TESI'!$AA:$AA,pricelist!$K:$K)*$J50","v":{"v":0,"d":"0.00"}},{"$f":"SUMIF(pricelist!$W:$W,$AA:$AA,INDIRECT($S$12&$S$14))*$J50","v":{"v":0,"d":"0.00"}},0,null,{"$f":"SUMIF(Ref!$H:$H,'подбор радиатора TESI'!$U:$U,Ref!$I:$I)","v":{"v":0,"d":"0.00"}},{"$f":"(($N50*SUMIF(pricelist!$W:$W,'подбор радиатора TESI'!$AA:$AA,pricelist!$S:$S)*$J50)+$P50+IF($U50=\"радиусный\",$V50*$J50,$V50)+IF($J50>$AC50,31*1.13,0))*(1-$H$4/100)","v":{"v":0,"d":"0.00"}},{"$nulls":3},"/","/",{"$f":"SUMIF(Ref!$R:$R,'подбор радиатора TESI'!$AB:$AB,Ref!$Q:$Q)","v":0},1]
["",{"$f":"IF($Z51=\"\",IF($G51=\"\",\"\",\"RR\"&LEFT($G51,1)&$H51&IF($J51<=9,\"0\"&$J51,$J51)&$L51&\"A4\"&LEFT($O51,2)&\"N\"),VLOOKUP($Z51,Ref!$AE:$AG,3,0)&$L51)","v":""},"","",{"$f":"IF($Z51=\"\",IF($G51=\"\",\"\",$D51*$W51*$K$1),VLOOKUP($Z51,Ref!$AE:$AG,2,0)*$Q51*$K$1*(1-$H$4/100))","v":""},{"$nulls":3},{"$f":"SUMIF(pricelist!$W:$W,'подбор радиатора TESI'!$AA51,pricelist!$J:$J)","v":0},null,0,null,{"$f":"IF($L51=\"\",\"\",VLOOKUP($L51,Ref!$D:$J,7,0))","v":""},{"$f":"SUMIF(Ref!$D:$D,'подбор радиатора TESI'!$L:$L,Ref!$E:$E)","v":{"v":0,"d":"0.00"}},null,{"$f":"SUMIF(Ref!$F:$F,'подбор радиатора TESI'!$O:$O,Ref!$G:$G)","v":{"v":0,"d":"0.00"}},null,{"$f":"SUMIF(pricelist!$W:$W,'подбор радиатора TESI'!$AA:$AA,pricelist!$K:$K)*$J51","v":{"v":0,"d":"0.00"}},{"$f":"SUMIF(pricelist!$W:$W,$AA:$AA,INDIRECT($S$12&$S$14))*$J51","v":{"v":0,"d":"0.00"}},0,null,{"$f":"SUMIF(Ref!$H:$H,'подбор радиатора TESI'!$U:$U,Ref!$I:$I)","v":{"v":0,"d":"0.00"}},{"$f":"(($N51*SUMIF(pricelist!$W:$W,'подбор радиатора TESI'!$AA:$AA,pricelist!$S:$S)*$J51)+$P51+IF($U51=\"радиусный\",$V51*$J51,$V51)+IF($J51>$AC51,31*1.13,0))*(1-$H$4/100)","v":{"v":0,"d":"0.00"}},{"$nulls":3},{"$f":"LEFT($G51,1)&\"/\"&$H51","v":"/"},"/",{"$f":"SUMIF(Ref!$R:$R,'подбор радиатора TESI'!$AB:$AB,Ref!$Q:$Q)","v":0},1]
["",{"$f":"IF($Z52=\"\",IF($G52=\"\",\"\",\"RR\"&LEFT($G52,1)&$H52&IF($J52<=9,\"0\"&$J52,$J52)&$L52&\"A4\"&LEFT($O52,2)&\"N\"),VLOOKUP($Z52,Ref!$AE:$AG,3,0)&$L52)","v":""},"","",{"$f":"IF($Z52=\"\",IF($G52=\"\",\"\",$D52*$W52*$K$1),VLOOKUP($Z52,Ref!$AE:$AG,2,0)*$Q52*$K$1*(1-$H$4/100))","v":""},{"$nulls":3},{"$f":"SUMIF(pricelist!$W:$W,'подбор радиатора TESI'!$AA52,pricelist!$J:$J)","v":0},null,0,null,{"$f":"IF($L52=\"\",\"\",VLOOKUP($L52,Ref!$D:$J,7,0))","v":""},{"$f":"SUMIF(Ref!$D:$D,'подбор радиатора TESI'!$L:$L,Ref!$E:$E)","v":{"v":0,"d":"0.00"}},null,{"$f":"SUMIF(Ref!$F:$F,'подбор радиатора TESI'!$O:$O,Ref!$G:$G)","v":{"v":0,"d":"0.00"}},null,{"$f":"SUMIF(pricelist!$W:$W,'подбор радиатора TESI'!$AA:$AA,pricelist!$K:$K)*$J52","v":{"v":0,"d":"0.00"}},{"$f":"SUMIF(pricelist!$W:$W,$AA:$AA,INDIRECT($S$12&$S$14))*$J52","v":{"v":0,"d":"0.00"}},0,null,{"$f":"SUMIF(Ref!$H:$H,'подбор радиатора TESI'!$U:$U,Ref!$I:$I)","v":{"v":0,"d":"0.00"}},{"$f":"(($N52*SUMIF(pricelist!$W:$W,'подбор радиатора TESI'!$AA:$AA,pricelist!$S:$S)*$J52)+$P52+IF($U52=\"радиусный\",$V52*$J52,$V52)+IF($J52>$AC52,31*1.13,0))*(1-$H$4/100)","v":{"v":0,"d":"0.00"}},{"$nulls":3},"/","/",{"$f":"SUMIF(Ref!$R:$R,'подбор радиатора TESI'!$AB:$AB,Ref!$Q:$Q)","v":0},1]
["",{"$f":"IF($Z53=\"\",IF($G53=\"\",\"\",\"RR\"&LEFT($G53,1)&$H53&IF($J53<=9,\"0\"&$J53,$J53)&$L53&\"A4\"&LEFT($O53,2)&\"N\"),VLOOKUP($Z53,Ref!$AE:$AG,3,0)&$L53)","v":""},"","",{"$f":"IF($Z53=\"\",IF($G53=\"\",\"\",$D53*$W53*$K$1),VLOOKUP($Z53,Ref!$AE:$AG,2,0)*$Q53*$K$1*(1-$H$4/100))","v":""},{"$nulls":3},{"$f":"SUMIF(pricelist!$W:$W,'подбор радиатора TESI'!$AA53,pricelist!$J:$J)","v":0},null,0,null,{"$f":"IF($L53=\"\",\"\",VLOOKUP($L53,Ref!$D:$J,7,0))","v":""},{"$f":"SUMIF(Ref!$D:$D,'подбор радиатора TESI'!$L:$L,Ref!$E:$E)","v":{"v":0,"d":"0.00"}},null,{"$f":"SUMIF(Ref!$F:$F,'подбор радиатора TESI'!$O:$O,Ref!$G:$G)","v":{"v":0,"d":"0.00"}},null,{"$f":"SUMIF(pricelist!$W:$W,'подбор радиатора TESI'!$AA:$AA,pricelist!$K:$K)*$J53","v":{"v":0,"d":"0.00"}},{"$f":"SUMIF(pricelist!$W:$W,$AA:$AA,INDIRECT($S$12&$S$14))*$J53","v":{"v":0,"d":"0.00"}},0,null,{"$f":"SUMIF(Ref!$H:$H,'подбор радиатора TESI'!$U:$U,Ref!$I:$I)","v":{"v":0,"d":"0.00"}},{"$f":"(($N53*SUMIF(pricelist!$W:$W,'подбор радиатора TESI'!$AA:$AA,pricelist!$S:$S)*$J53)+$P53+IF($U53=\"радиусный\",$V53*$J53,$V53)+IF($J53>$AC53,31*1.13,0))*(1-$H$4/100)","v":{"v":0,"d":"0.00"}},{"$nulls":3},"/","/",{"$f":"SUMIF(Ref!$R:$R,'подбор радиатора TESI'!$AB:$AB,Ref!$Q:$Q)","v":0},1]
["",{"$f":"IF($Z54=\"\",IF($G54=\"\",\"\",\"RR\"&LEFT($G54,1)&$H54&IF($J54<=9,\"0\"&$J54,$J54)&$L54&\"A4\"&LEFT($O54,2)&\"N\"),VLOOKUP($Z54,Ref!$AE:$AG,3,0)&$L54)","v":""},"","",{"$f":"IF($Z54=\"\",IF($G54=\"\",\"\",$D54*$W54*$K$1),VLOOKUP($Z54,Ref!$AE:$AG,2,0)*$Q54*$K$1*(1-$H$4/100))","v":""},{"$nulls":3},{"$f":"SUMIF(pricelist!$W:$W,'подбор радиатора TESI'!$AA54,pricelist!$J:$J)","v":0},null,0,null,{"$f":"IF($L54=\"\",\"\",VLOOKUP($L54,Ref!$D:$J,7,0))","v":""},{"$f":"SUMIF(Ref!$D:$D,'подбор радиатора TESI'!$L:$L,Ref!$E:$E)","v":{"v":0,"d":"0.00"}},null,{"$f":"SUMIF(Ref!$F:$F,'подбор радиатора TESI'!$O:$O,Ref!$G:$G)","v":{"v":0,"d":"0.00"}},null,{"$f":"SUMIF(pricelist!$W:$W,'подбор радиатора TESI'!$AA:$AA,pricelist!$K:$K)*$J54","v":{"v":0,"d":"0.00"}},{"$f":"SUMIF(pricelist!$W:$W,$AA:$AA,INDIRECT($S$12&$S$14))*$J54","v":{"v":0,"d":"0.00"}},0,null,{"$f":"SUMIF(Ref!$H:$H,'подбор радиатора TESI'!$U:$U,Ref!$I:$I)","v":{"v":0,"d":"0.00"}},{"$f":"(($N54*SUMIF(pricelist!$W:$W,'подбор радиатора TESI'!$AA:$AA,pricelist!$S:$S)*$J54)+$P54+IF($U54=\"радиусный\",$V54*$J54,$V54)+IF($J54>$AC54,31*1.13,0))*(1-$H$4/100)","v":{"v":0,"d":"0.00"}},{"$nulls":3},"/","/",{"$f":"SUMIF(Ref!$R:$R,'подбор радиатора TESI'!$AB:$AB,Ref!$Q:$Q)","v":0},1]
["",{"$f":"IF($Z55=\"\",IF($G55=\"\",\"\",\"RR\"&LEFT($G55,1)&$H55&IF($J55<=9,\"0\"&$J55,$J55)&$L55&\"A4\"&LEFT($O55,2)&\"N\"),VLOOKUP($Z55,Ref!$AE:$AG,3,0)&$L55)","v":""},"","",{"$f":"IF($Z55=\"\",IF($G55=\"\",\"\",$D55*$W55*$K$1),VLOOKUP($Z55,Ref!$AE:$AG,2,0)*$Q55*$K$1*(1-$H$4/100))","v":""},{"$nulls":3},{"$f":"SUMIF(pricelist!$W:$W,'подбор радиатора TESI'!$AA55,pricelist!$J:$J)","v":0},null,0,null,{"$f":"IF($L55=\"\",\"\",VLOOKUP($L55,Ref!$D:$J,7,0))","v":""},{"$f":"SUMIF(Ref!$D:$D,'подбор радиатора TESI'!$L:$L,Ref!$E:$E)","v":{"v":0,"d":"0.00"}},null,{"$f":"SUMIF(Ref!$F:$F,'подбор радиатора TESI'!$O:$O,Ref!$G:$G)","v":{"v":0,"d":"0.00"}},null,{"$f":"SUMIF(pricelist!$W:$W,'подбор радиатора TESI'!$AA:$AA,pricelist!$K:$K)*$J55","v":{"v":0,"d":"0.00"}},{"$f":"SUMIF(pricelist!$W:$W,$AA:$AA,INDIRECT($S$12&$S$14))*$J55","v":{"v":0,"d":"0.00"}},0,null,{"$f":"SUMIF(Ref!$H:$H,'подбор радиатора TESI'!$U:$U,Ref!$I:$I)","v":{"v":0,"d":"0.00"}},{"$f":"(($N55*SUMIF(pricelist!$W:$W,'подбор радиатора TESI'!$AA:$AA,pricelist!$S:$S)*$J55)+$P55+IF($U55=\"радиусный\",$V55*$J55,$V55)+IF($J55>$AC55,31*1.13,0))*(1-$H$4/100)","v":{"v":0,"d":"0.00"}},{"$nulls":3},"/","/",{"$f":"SUMIF(Ref!$R:$R,'подбор радиатора TESI'!$AB:$AB,Ref!$Q:$Q)","v":0},1]
["",{"$f":"IF($Z56=\"\",IF($G56=\"\",\"\",\"RR\"&LEFT($G56,1)&$H56&IF($J56<=9,\"0\"&$J56,$J56)&$L56&\"A4\"&LEFT($O56,2)&\"N\"),VLOOKUP($Z56,Ref!$AE:$AG,3,0)&$L56)","v":""},"","",{"$f":"IF($Z56=\"\",IF($G56=\"\",\"\",$D56*$W56*$K$1),VLOOKUP($Z56,Ref!$AE:$AG,2,0)*$Q56*$K$1*(1-$H$4/100))","v":""},{"$nulls":3},{"$f":"SUMIF(pricelist!$W:$W,'подбор радиатора TESI'!$AA56,pricelist!$J:$J)","v":0},null,0,null,{"$f":"IF($L56=\"\",\"\",VLOOKUP($L56,Ref!$D:$J,7,0))","v":""},{"$f":"SUMIF(Ref!$D:$D,'подбор радиатора TESI'!$L:$L,Ref!$E:$E)","v":{"v":0,"d":"0.00"}},null,{"$f":"SUMIF(Ref!$F:$F,'подбор радиатора TESI'!$O:$O,Ref!$G:$G)","v":{"v":0,"d":"0.00"}},null,{"$f":"SUMIF(pricelist!$W:$W,'подбор радиатора TESI'!$AA:$AA,pricelist!$K:$K)*$J56","v":{"v":0,"d":"0.00"}},{"$f":"SUMIF(pricelist!$W:$W,$AA:$AA,INDIRECT($S$12&$S$14))*$J56","v":{"v":0,"d":"0.00"}},0,null,{"$f":"SUMIF(Ref!$H:$H,'подбор радиатора TESI'!$U:$U,Ref!$I:$I)","v":{"v":0,"d":"0.00"}},{"$f":"(($N56*SUMIF(pricelist!$W:$W,'подбор радиатора TESI'!$AA:$AA,pricelist!$S:$S)*$J56)+$P56+IF($U56=\"радиусный\",$V56*$J56,$V56)+IF($J56>$AC56,31*1.13,0))*(1-$H$4/100)","v":{"v":0,"d":"0.00"}},{"$nulls":3},"/","/",{"$f":"SUMIF(Ref!$R:$R,'подбор радиатора TESI'!$AB:$AB,Ref!$Q:$Q)","v":0},1]
["",{"$f":"IF($Z57=\"\",IF($G57=\"\",\"\",\"RR\"&LEFT($G57,1)&$H57&IF($J57<=9,\"0\"&$J57,$J57)&$L57&\"A4\"&LEFT($O57,2)&\"N\"),VLOOKUP($Z57,Ref!$AE:$AG,3,0)&$L57)","v":""},"","",{"$f":"IF($Z57=\"\",IF($G57=\"\",\"\",$D57*$W57*$K$1),VLOOKUP($Z57,Ref!$AE:$AG,2,0)*$Q57*$K$1*(1-$H$4/100))","v":""},{"$nulls":3},{"$f":"SUMIF(pricelist!$W:$W,'подбор радиатора TESI'!$AA57,pricelist!$J:$J)","v":0},null,0,null,{"$f":"IF($L57=\"\",\"\",VLOOKUP($L57,Ref!$D:$J,7,0))","v":""},{"$f":"SUMIF(Ref!$D:$D,'подбор радиатора TESI'!$L:$L,Ref!$E:$E)","v":{"v":0,"d":"0.00"}},null,{"$f":"SUMIF(Ref!$F:$F,'подбор радиатора TESI'!$O:$O,Ref!$G:$G)","v":{"v":0,"d":"0.00"}},null,{"$f":"SUMIF(pricelist!$W:$W,'подбор радиатора TESI'!$AA:$AA,pricelist!$K:$K)*$J57","v":{"v":0,"d":"0.00"}},{"$f":"SUMIF(pricelist!$W:$W,$AA:$AA,INDIRECT($S$12&$S$14))*$J57","v":{"v":0,"d":"0.00"}},0,null,{"$f":"SUMIF(Ref!$H:$H,'подбор радиатора TESI'!$U:$U,Ref!$I:$I)","v":{"v":0,"d":"0.00"}},{"$f":"(($N57*SUMIF(pricelist!$W:$W,'подбор радиатора TESI'!$AA:$AA,pricelist!$S:$S)*$J57)+$P57+IF($U57=\"радиусный\",$V57*$J57,$V57)+IF($J57>$AC57,31*1.13,0))*(1-$H$4/100)","v":{"v":0,"d":"0.00"}},{"$nulls":3},"/","/",{"$f":"SUMIF(Ref!$R:$R,'подбор радиатора TESI'!$AB:$AB,Ref!$Q:$Q)","v":0},1]
["",{"$f":"IF($Z58=\"\",IF($G58=\"\",\"\",\"RR\"&LEFT($G58,1)&$H58&IF($J58<=9,\"0\"&$J58,$J58)&$L58&\"A4\"&LEFT($O58,2)&\"N\"),VLOOKUP($Z58,Ref!$AE:$AG,3,0)&$L58)","v":""},"","",{"$f":"IF($Z58=\"\",IF($G58=\"\",\"\",$D58*$W58*$K$1),VLOOKUP($Z58,Ref!$AE:$AG,2,0)*$Q58*$K$1*(1-$H$4/100))","v":""},{"$nulls":3},{"$f":"SUMIF(pricelist!$W:$W,'подбор радиатора TESI'!$AA58,pricelist!$J:$J)","v":0},null,0,null,{"$f":"IF($L58=\"\",\"\",VLOOKUP($L58,Ref!$D:$J,7,0))","v":""},{"$f":"SUMIF(Ref!$D:$D,'подбор радиатора TESI'!$L:$L,Ref!$E:$E)","v":{"v":0,"d":"0.00"}},null,{"$f":"SUMIF(Ref!$F:$F,'подбор радиатора TESI'!$O:$O,Ref!$G:$G)","v":{"v":0,"d":"0.00"}},null,{"$f":"SUMIF(pricelist!$W:$W,'подбор радиатора TESI'!$AA:$AA,pricelist!$K:$K)*$J58","v":{"v":0,"d":"0.00"}},{"$f":"SUMIF(pricelist!$W:$W,$AA:$AA,INDIRECT($S$12&$S$14))*$J58","v":{"v":0,"d":"0.00"}},0,null,{"$f":"SUMIF(Ref!$H:$H,'подбор радиатора TESI'!$U:$U,Ref!$I:$I)","v":{"v":0,"d":"0.00"}},{"$f":"(($N58*SUMIF(pricelist!$W:$W,'подбор радиатора TESI'!$AA:$AA,pricelist!$S:$S)*$J58)+$P58+IF($U58=\"радиусный\",$V58*$J58,$V58)+IF($J58>$AC58,31*1.13,0))*(1-$H$4/100)","v":{"v":0,"d":"0.00"}},{"$nulls":3},"/","/",{"$f":"SUMIF(Ref!$R:$R,'подбор радиатора TESI'!$AB:$AB,Ref!$Q:$Q)","v":0},1]
["",{"$f":"IF($Z59=\"\",IF($G59=\"\",\"\",\"RR\"&LEFT($G59,1)&$H59&IF($J59<=9,\"0\"&$J59,$J59)&$L59&\"A4\"&LEFT($O59,2)&\"N\"),VLOOKUP($Z59,Ref!$AE:$AG,3,0)&$L59)","v":""},"","",{"$f":"IF($Z59=\"\",IF($G59=\"\",\"\",$D59*$W59*$K$1),VLOOKUP($Z59,Ref!$AE:$AG,2,0)*$Q59*$K$1*(1-$H$4/100))","v":""},{"$nulls":3},{"$f":"SUMIF(pricelist!$W:$W,'подбор радиатора TESI'!$AA59,pricelist!$J:$J)","v":0},null,0,null,{"$f":"IF($L59=\"\",\"\",VLOOKUP($L59,Ref!$D:$J,7,0))","v":""},{"$f":"SUMIF(Ref!$D:$D,'подбор радиатора TESI'!$L:$L,Ref!$E:$E)","v":{"v":0,"d":"0.00"}},null,{"$f":"SUMIF(Ref!$F:$F,'подбор радиатора TESI'!$O:$O,Ref!$G:$G)","v":{"v":0,"d":"0.00"}},null,{"$f":"SUMIF(pricelist!$W:$W,'подбор радиатора TESI'!$AA:$AA,pricelist!$K:$K)*$J59","v":{"v":0,"d":"0.00"}},{"$f":"SUMIF(pricelist!$W:$W,$AA:$AA,INDIRECT($S$12&$S$14))*$J59","v":{"v":0,"d":"0.00"}},0,null,{"$f":"SUMIF(Ref!$H:$H,'подбор радиатора TESI'!$U:$U,Ref!$I:$I)","v":{"v":0,"d":"0.00"}},{"$f":"(($N59*SUMIF(pricelist!$W:$W,'подбор радиатора TESI'!$AA:$AA,pricelist!$S:$S)*$J59)+$P59+IF($U59=\"радиусный\",$V59*$J59,$V59)+IF($J59>$AC59,31*1.13,0))*(1-$H$4/100)","v":{"v":0,"d":"0.00"}},{"$nulls":3},"/","/",{"$f":"SUMIF(Ref!$R:$R,'подбор радиатора TESI'!$AB:$AB,Ref!$Q:$Q)","v":0},1]
["",{"$f":"IF($Z60=\"\",IF($G60=\"\",\"\",\"RR\"&LEFT($G60,1)&$H60&IF($J60<=9,\"0\"&$J60,$J60)&$L60&\"A4\"&LEFT($O60,2)&\"N\"),VLOOKUP($Z60,Ref!$AE:$AG,3,0)&$L60)","v":""},"","",{"$f":"IF($Z60=\"\",IF($G60=\"\",\"\",$D60*$W60*$K$1),VLOOKUP($Z60,Ref!$AE:$AG,2,0)*$Q60*$K$1*(1-$H$4/100))","v":""},{"$nulls":3},{"$f":"SUMIF(pricelist!$W:$W,'подбор радиатора TESI'!$AA60,pricelist!$J:$J)","v":0},null,0,null,{"$f":"IF($L60=\"\",\"\",VLOOKUP($L60,Ref!$D:$J,7,0))","v":""},{"$f":"SUMIF(Ref!$D:$D,'подбор радиатора TESI'!$L:$L,Ref!$E:$E)","v":{"v":0,"d":"0.00"}},null,{"$f":"SUMIF(Ref!$F:$F,'подбор радиатора TESI'!$O:$O,Ref!$G:$G)","v":{"v":0,"d":"0.00"}},null,{"$f":"SUMIF(pricelist!$W:$W,'подбор радиатора TESI'!$AA:$AA,pricelist!$K:$K)*$J60","v":{"v":0,"d":"0.00"}},{"$f":"SUMIF(pricelist!$W:$W,$AA:$AA,INDIRECT($S$12&$S$14))*$J60","v":{"v":0,"d":"0.00"}},0,null,{"$f":"SUMIF(Ref!$H:$H,'подбор радиатора TESI'!$U:$U,Ref!$I:$I)","v":{"v":0,"d":"0.00"}},{"$f":"(($N60*SUMIF(pricelist!$W:$W,'подбор радиатора TESI'!$AA:$AA,pricelist!$S:$S)*$J60)+$P60+IF($U60=\"радиусный\",$V60*$J60,$V60)+IF($J60>$AC60,31*1.13,0))*(1-$H$4/100)","v":{"v":0,"d":"0.00"}},{"$nulls":3},"/","/",{"$f":"SUMIF(Ref!$R:$R,'подбор радиатора TESI'!$AB:$AB,Ref!$Q:$Q)","v":0},1]
["",{"$f":"IF($Z61=\"\",IF($G61=\"\",\"\",\"RR\"&LEFT($G61,1)&$H61&IF($J61<=9,\"0\"&$J61,$J61)&$L61&\"A4\"&LEFT($O61,2)&\"N\"),VLOOKUP($Z61,Ref!$AE:$AG,3,0)&$L61)","v":""},"","",{"$f":"IF($Z61=\"\",IF($G61=\"\",\"\",$D61*$W61*$K$1),VLOOKUP($Z61,Ref!$AE:$AG,2,0)*$Q61*$K$1*(1-$H$4/100))","v":""},{"$nulls":3},{"$f":"SUMIF(pricelist!$W:$W,'подбор радиатора TESI'!$AA61,pricelist!$J:$J)","v":0},null,0,null,{"$f":"IF($L61=\"\",\"\",VLOOKUP($L61,Ref!$D:$J,7,0))","v":""},{"$f":"SUMIF(Ref!$D:$D,'подбор радиатора TESI'!$L:$L,Ref!$E:$E)","v":{"v":0,"d":"0.00"}},null,{"$f":"SUMIF(Ref!$F:$F,'подбор радиатора TESI'!$O:$O,Ref!$G:$G)","v":{"v":0,"d":"0.00"}},null,{"$f":"SUMIF(pricelist!$W:$W,'подбор радиатора TESI'!$AA:$AA,pricelist!$K:$K)*$J61","v":{"v":0,"d":"0.00"}},{"$f":"SUMIF(pricelist!$W:$W,$AA:$AA,INDIRECT($S$12&$S$14))*$J61","v":{"v":0,"d":"0.00"}},0,null,{"$f":"SUMIF(Ref!$H:$H,'подбор радиатора TESI'!$U:$U,Ref!$I:$I)","v":{"v":0,"d":"0.00"}},{"$f":"(($N61*SUMIF(pricelist!$W:$W,'подбор радиатора TESI'!$AA:$AA,pricelist!$S:$S)*$J61)+$P61+IF($U61=\"радиусный\",$V61*$J61,$V61)+IF($J61>$AC61,31*1.13,0))*(1-$H$4/100)","v":{"v":0,"d":"0.00"}},{"$nulls":3},"/","/",{"$f":"SUMIF(Ref!$R:$R,'подбор радиатора TESI'!$AB:$AB,Ref!$Q:$Q)","v":0},1]
["",{"$f":"IF($Z62=\"\",IF($G62=\"\",\"\",\"RR\"&LEFT($G62,1)&$H62&IF($J62<=9,\"0\"&$J62,$J62)&$L62&\"A4\"&LEFT($O62,2)&\"N\"),VLOOKUP($Z62,Ref!$AE:$AG,3,0)&$L62)","v":""},"","",{"$f":"IF($Z62=\"\",IF($G62=\"\",\"\",$D62*$W62*$K$1),VLOOKUP($Z62,Ref!$AE:$AG,2,0)*$Q62*$K$1*(1-$H$4/100))","v":""},{"$nulls":3},{"$f":"SUMIF(pricelist!$W:$W,'подбор радиатора TESI'!$AA62,pricelist!$J:$J)","v":0},null,0,null,{"$f":"IF($L62=\"\",\"\",VLOOKUP($L62,Ref!$D:$J,7,0))","v":""},{"$f":"SUMIF(Ref!$D:$D,'подбор радиатора TESI'!$L:$L,Ref!$E:$E)","v":{"v":0,"d":"0.00"}},null,{"$f":"SUMIF(Ref!$F:$F,'подбор радиатора TESI'!$O:$O,Ref!$G:$G)","v":{"v":0,"d":"0.00"}},null,{"$f":"SUMIF(pricelist!$W:$W,'подбор радиатора TESI'!$AA:$AA,pricelist!$K:$K)*$J62","v":{"v":0,"d":"0.00"}},{"$f":"SUMIF(pricelist!$W:$W,$AA:$AA,INDIRECT($S$12&$S$14))*$J62","v":{"v":0,"d":"0.00"}},0,null,{"$f":"SUMIF(Ref!$H:$H,'подбор радиатора TESI'!$U:$U,Ref!$I:$I)","v":{"v":0,"d":"0.00"}},{"$f":"(($N62*SUMIF(pricelist!$W:$W,'подбор радиатора TESI'!$AA:$AA,pricelist!$S:$S)*$J62)+$P62+IF($U62=\"радиусный\",$V62*$J62,$V62)+IF($J62>$AC62,31*1.13,0))*(1-$H$4/100)","v":{"v":0,"d":"0.00"}},{"$nulls":3},"/","/",{"$f":"SUMIF(Ref!$R:$R,'подбор радиатора TESI'!$AB:$AB,Ref!$Q:$Q)","v":0},1]
["",{"$f":"IF($Z63=\"\",IF($G63=\"\",\"\",\"RR\"&LEFT($G63,1)&$H63&IF($J63<=9,\"0\"&$J63,$J63)&$L63&\"A4\"&LEFT($O63,2)&\"N\"),VLOOKUP($Z63,Ref!$AE:$AG,3,0)&$L63)","v":""},"","",{"$f":"IF($Z63=\"\",IF($G63=\"\",\"\",$D63*$W63*$K$1),VLOOKUP($Z63,Ref!$AE:$AG,2,0)*$Q63*$K$1*(1-$H$4/100))","v":""},{"$nulls":3},{"$f":"SUMIF(pricelist!$W:$W,'подбор радиатора TESI'!$AA63,pricelist!$J:$J)","v":0},null,0,null,{"$f":"IF($L63=\"\",\"\",VLOOKUP($L63,Ref!$D:$J,7,0))","v":""},{"$f":"SUMIF(Ref!$D:$D,'подбор радиатора TESI'!$L:$L,Ref!$E:$E)","v":{"v":0,"d":"0.00"}},null,{"$f":"SUMIF(Ref!$F:$F,'подбор радиатора TESI'!$O:$O,Ref!$G:$G)","v":{"v":0,"d":"0.00"}},null,{"$f":"SUMIF(pricelist!$W:$W,'подбор радиатора TESI'!$AA:$AA,pricelist!$K:$K)*$J63","v":{"v":0,"d":"0.00"}},{"$f":"SUMIF(pricelist!$W:$W,$AA:$AA,INDIRECT($S$12&$S$14))*$J63","v":{"v":0,"d":"0.00"}},0,null,{"$f":"SUMIF(Ref!$H:$H,'подбор радиатора TESI'!$U:$U,Ref!$I:$I)","v":{"v":0,"d":"0.00"}},{"$f":"(($N63*SUMIF(pricelist!$W:$W,'подбор радиатора TESI'!$AA:$AA,pricelist!$S:$S)*$J63)+$P63+IF($U63=\"радиусный\",$V63*$J63,$V63)+IF($J63>$AC63,31*1.13,0))*(1-$H$4/100)","v":{"v":0,"d":"0.00"}},{"$nulls":3},"/","/",{"$f":"SUMIF(Ref!$R:$R,'подбор радиатора TESI'!$AB:$AB,Ref!$Q:$Q)","v":0},1]
["",{"$f":"IF($Z64=\"\",IF($G64=\"\",\"\",\"RR\"&LEFT($G64,1)&$H64&IF($J64<=9,\"0\"&$J64,$J64)&$L64&\"A4\"&LEFT($O64,2)&\"N\"),VLOOKUP($Z64,Ref!$AE:$AG,3,0)&$L64)","v":""},"","",{"$f":"IF($Z64=\"\",IF($G64=\"\",\"\",$D64*$W64*$K$1),VLOOKUP($Z64,Ref!$AE:$AG,2,0)*$Q64*$K$1*(1-$H$4/100))","v":""},{"$nulls":3},{"$f":"SUMIF(pricelist!$W:$W,'подбор радиатора TESI'!$AA64,pricelist!$J:$J)","v":0},null,0,null,{"$f":"IF($L64=\"\",\"\",VLOOKUP($L64,Ref!$D:$J,7,0))","v":""},{"$f":"SUMIF(Ref!$D:$D,'подбор радиатора TESI'!$L:$L,Ref!$E:$E)","v":{"v":0,"d":"0.00"}},null,{"$f":"SUMIF(Ref!$F:$F,'подбор радиатора TESI'!$O:$O,Ref!$G:$G)","v":{"v":0,"d":"0.00"}},null,{"$f":"SUMIF(pricelist!$W:$W,'подбор радиатора TESI'!$AA:$AA,pricelist!$K:$K)*$J64","v":{"v":0,"d":"0.00"}},{"$f":"SUMIF(pricelist!$W:$W,$AA:$AA,INDIRECT($S$12&$S$14))*$J64","v":{"v":0,"d":"0.00"}},0,null,{"$f":"SUMIF(Ref!$H:$H,'подбор радиатора TESI'!$U:$U,Ref!$I:$I)","v":{"v":0,"d":"0.00"}},{"$f":"(($N64*SUMIF(pricelist!$W:$W,'подбор радиатора TESI'!$AA:$AA,pricelist!$S:$S)*$J64)+$P64+IF($U64=\"радиусный\",$V64*$J64,$V64)+IF($J64>$AC64,31*1.13,0))*(1-$H$4/100)","v":{"v":0,"d":"0.00"}},{"$nulls":3},"/","/",{"$f":"SUMIF(Ref!$R:$R,'подбор радиатора TESI'!$AB:$AB,Ref!$Q:$Q)","v":0},1]
["",{"$f":"IF($Z65=\"\",IF($G65=\"\",\"\",\"RR\"&LEFT($G65,1)&$H65&IF($J65<=9,\"0\"&$J65,$J65)&$L65&\"A4\"&LEFT($O65,2)&\"N\"),VLOOKUP($Z65,Ref!$AE:$AG,3,0)&$L65)","v":""},"","",{"$f":"IF($Z65=\"\",IF($G65=\"\",\"\",$D65*$W65*$K$1),VLOOKUP($Z65,Ref!$AE:$AG,2,0)*$Q65*$K$1*(1-$H$4/100))","v":""},{"$nulls":3},{"$f":"SUMIF(pricelist!$W:$W,'подбор радиатора TESI'!$AA65,pricelist!$J:$J)","v":0},null,0,null,{"$f":"IF($L65=\"\",\"\",VLOOKUP($L65,Ref!$D:$J,7,0))","v":""},{"$f":"SUMIF(Ref!$D:$D,'подбор радиатора TESI'!$L:$L,Ref!$E:$E)","v":{"v":0,"d":"0.00"}},null,{"$f":"SUMIF(Ref!$F:$F,'подбор радиатора TESI'!$O:$O,Ref!$G:$G)","v":{"v":0,"d":"0.00"}},null,{"$f":"SUMIF(pricelist!$W:$W,'подбор радиатора TESI'!$AA:$AA,pricelist!$K:$K)*$J65","v":{"v":0,"d":"0.00"}},{"$f":"SUMIF(pricelist!$W:$W,$AA:$AA,INDIRECT($S$12&$S$14))*$J65","v":{"v":0,"d":"0.00"}},0,null,{"$f":"SUMIF(Ref!$H:$H,'подбор радиатора TESI'!$U:$U,Ref!$I:$I)","v":{"v":0,"d":"0.00"}},{"$f":"(($N65*SUMIF(pricelist!$W:$W,'подбор радиатора TESI'!$AA:$AA,pricelist!$S:$S)*$J65)+$P65+IF($U65=\"радиусный\",$V65*$J65,$V65)+IF($J65>$AC65,31*1.13,0))*(1-$H$4/100)","v":{"v":0,"d":"0.00"}},{"$nulls":3},"/","/",{"$f":"SUMIF(Ref!$R:$R,'подбор радиатора TESI'!$AB:$AB,Ref!$Q:$Q)","v":0},1]
["",{"$f":"IF($Z66=\"\",IF($G66=\"\",\"\",\"RR\"&LEFT($G66,1)&$H66&IF($J66<=9,\"0\"&$J66,$J66)&$L66&\"A4\"&LEFT($O66,2)&\"N\"),VLOOKUP($Z66,Ref!$AE:$AG,3,0)&$L66)","v":""},"","",{"$f":"IF($Z66=\"\",IF($G66=\"\",\"\",$D66*$W66*$K$1),VLOOKUP($Z66,Ref!$AE:$AG,2,0)*$Q66*$K$1*(1-$H$4/100))","v":""},{"$nulls":3},{"$f":"SUMIF(pricelist!$W:$W,'подбор радиатора TESI'!$AA66,pricelist!$J:$J)","v":0},null,0,null,{"$f":"IF($L66=\"\",\"\",VLOOKUP($L66,Ref!$D:$J,7,0))","v":""},{"$f":"SUMIF(Ref!$D:$D,'подбор радиатора TESI'!$L:$L,Ref!$E:$E)","v":{"v":0,"d":"0.00"}},null,{"$f":"SUMIF(Ref!$F:$F,'подбор радиатора TESI'!$O:$O,Ref!$G:$G)","v":{"v":0,"d":"0.00"}},null,{"$f":"SUMIF(pricelist!$W:$W,'подбор радиатора TESI'!$AA:$AA,pricelist!$K:$K)*$J66","v":{"v":0,"d":"0.00"}},{"$f":"SUMIF(pricelist!$W:$W,$AA:$AA,INDIRECT($S$12&$S$14))*$J66","v":{"v":0,"d":"0.00"}},0,null,{"$f":"SUMIF(Ref!$H:$H,'подбор радиатора TESI'!$U:$U,Ref!$I:$I)","v":{"v":0,"d":"0.00"}},{"$f":"(($N66*SUMIF(pricelist!$W:$W,'подбор радиатора TESI'!$AA:$AA,pricelist!$S:$S)*$J66)+$P66+IF($U66=\"радиусный\",$V66*$J66,$V66)+IF($J66>$AC66,31*1.13,0))*(1-$H$4/100)","v":{"v":0,"d":"0.00"}},{"$nulls":3},"/","/",{"$f":"SUMIF(Ref!$R:$R,'подбор радиатора TESI'!$AB:$AB,Ref!$Q:$Q)","v":0},1]
["",{"$f":"IF($Z67=\"\",IF($G67=\"\",\"\",\"RR\"&LEFT($G67,1)&$H67&IF($J67<=9,\"0\"&$J67,$J67)&$L67&\"A4\"&LEFT($O67,2)&\"N\"),VLOOKUP($Z67,Ref!$AE:$AG,3,0)&$L67)","v":""},"","",{"$f":"IF($Z67=\"\",IF($G67=\"\",\"\",$D67*$W67*$K$1),VLOOKUP($Z67,Ref!$AE:$AG,2,0)*$Q67*$K$1*(1-$H$4/100))","v":""},{"$nulls":3},{"$f":"SUMIF(pricelist!$W:$W,'подбор радиатора TESI'!$AA67,pricelist!$J:$J)","v":0},null,0,null,{"$f":"IF($L67=\"\",\"\",VLOOKUP($L67,Ref!$D:$J,7,0))","v":""},{"$f":"SUMIF(Ref!$D:$D,'подбор радиатора TESI'!$L:$L,Ref!$E:$E)","v":{"v":0,"d":"0.00"}},null,{"$f":"SUMIF(Ref!$F:$F,'подбор радиатора TESI'!$O:$O,Ref!$G:$G)","v":{"v":0,"d":"0.00"}},null,{"$f":"SUMIF(pricelist!$W:$W,'подбор радиатора TESI'!$AA:$AA,pricelist!$K:$K)*$J67","v":{"v":0,"d":"0.00"}},{"$f":"SUMIF(pricelist!$W:$W,$AA:$AA,INDIRECT($S$12&$S$14))*$J67","v":{"v":0,"d":"0.00"}},0,null,{"$f":"SUMIF(Ref!$H:$H,'подбор радиатора TESI'!$U:$U,Ref!$I:$I)","v":{"v":0,"d":"0.00"}},{"$f":"(($N67*SUMIF(pricelist!$W:$W,'подбор радиатора TESI'!$AA:$AA,pricelist!$S:$S)*$J67)+$P67+IF($U67=\"радиусный\",$V67*$J67,$V67)+IF($J67>$AC67,31*1.13,0))*(1-$H$4/100)","v":{"v":0,"d":"0.00"}},{"$nulls":3},"/","/",{"$f":"SUMIF(Ref!$R:$R,'подбор радиатора TESI'!$AB:$AB,Ref!$Q:$Q)","v":0},1]
["",{"$f":"IF($Z68=\"\",IF($G68=\"\",\"\",\"RR\"&LEFT($G68,1)&$H68&IF($J68<=9,\"0\"&$J68,$J68)&$L68&\"A4\"&LEFT($O68,2)&\"N\"),VLOOKUP($Z68,Ref!$AE:$AG,3,0)&$L68)","v":""},"","",{"$f":"IF($Z68=\"\",IF($G68=\"\",\"\",$D68*$W68*$K$1),VLOOKUP($Z68,Ref!$AE:$AG,2,0)*$Q68*$K$1*(1-$H$4/100))","v":""},{"$nulls":3},{"$f":"SUMIF(pricelist!$W:$W,'подбор радиатора TESI'!$AA68,pricelist!$J:$J)","v":0},null,0,null,{"$f":"IF($L68=\"\",\"\",VLOOKUP($L68,Ref!$D:$J,7,0))","v":""},{"$f":"SUMIF(Ref!$D:$D,'подбор радиатора TESI'!$L:$L,Ref!$E:$E)","v":{"v":0,"d":"0.00"}},null,{"$f":"SUMIF(Ref!$F:$F,'подбор радиатора TESI'!$O:$O,Ref!$G:$G)","v":{"v":0,"d":"0.00"}},null,{"$f":"SUMIF(pricelist!$W:$W,'подбор радиатора TESI'!$AA:$AA,pricelist!$K:$K)*$J68","v":{"v":0,"d":"0.00"}},{"$f":"SUMIF(pricelist!$W:$W,$AA:$AA,INDIRECT($S$12&$S$14))*$J68","v":{"v":0,"d":"0.00"}},0,null,{"$f":"SUMIF(Ref!$H:$H,'подбор радиатора TESI'!$U:$U,Ref!$I:$I)","v":{"v":0,"d":"0.00"}},{"$f":"(($N68*SUMIF(pricelist!$W:$W,'подбор радиатора TESI'!$AA:$AA,pricelist!$S:$S)*$J68)+$P68+IF($U68=\"радиусный\",$V68*$J68,$V68)+IF($J68>$AC68,31*1.13,0))*(1-$H$4/100)","v":{"v":0,"d":"0.00"}},{"$nulls":3},"/","/",{"$f":"SUMIF(Ref!$R:$R,'подбор радиатора TESI'!$AB:$AB,Ref!$Q:$Q)","v":0},1]
["",{"$f":"IF($Z69=\"\",IF($G69=\"\",\"\",\"RR\"&LEFT($G69,1)&$H69&IF($J69<=9,\"0\"&$J69,$J69)&$L69&\"A4\"&LEFT($O69,2)&\"N\"),VLOOKUP($Z69,Ref!$AE:$AG,3,0)&$L69)","v":""},"","",{"$f":"IF($Z69=\"\",IF($G69=\"\",\"\",$D69*$W69*$K$1),VLOOKUP($Z69,Ref!$AE:$AG,2,0)*$Q69*$K$1*(1-$H$4/100))","v":""},{"$nulls":3},{"$f":"SUMIF(pricelist!$W:$W,'подбор радиатора TESI'!$AA69,pricelist!$J:$J)","v":0},null,0,null,{"$f":"IF($L69=\"\",\"\",VLOOKUP($L69,Ref!$D:$J,7,0))","v":""},{"$f":"SUMIF(Ref!$D:$D,'подбор радиатора TESI'!$L:$L,Ref!$E:$E)","v":{"v":0,"d":"0.00"}},null,{"$f":"SUMIF(Ref!$F:$F,'подбор радиатора TESI'!$O:$O,Ref!$G:$G)","v":{"v":0,"d":"0.00"}},null,{"$f":"SUMIF(pricelist!$W:$W,'подбор радиатора TESI'!$AA:$AA,pricelist!$K:$K)*$J69","v":{"v":0,"d":"0.00"}},{"$f":"SUMIF(pricelist!$W:$W,$AA:$AA,INDIRECT($S$12&$S$14))*$J69","v":{"v":0,"d":"0.00"}},0,null,{"$f":"SUMIF(Ref!$H:$H,'подбор радиатора TESI'!$U:$U,Ref!$I:$I)","v":{"v":0,"d":"0.00"}},{"$f":"(($N69*SUMIF(pricelist!$W:$W,'подбор радиатора TESI'!$AA:$AA,pricelist!$S:$S)*$J69)+$P69+IF($U69=\"радиусный\",$V69*$J69,$V69)+IF($J69>$AC69,31*1.13,0))*(1-$H$4/100)","v":{"v":0,"d":"0.00"}},{"$nulls":3},"/","/",{"$f":"SUMIF(Ref!$R:$R,'подбор радиатора TESI'!$AB:$AB,Ref!$Q:$Q)","v":0},1]
["",{"$f":"IF($Z70=\"\",IF($G70=\"\",\"\",\"RR\"&LEFT($G70,1)&$H70&IF($J70<=9,\"0\"&$J70,$J70)&$L70&\"A4\"&LEFT($O70,2)&\"N\"),VLOOKUP($Z70,Ref!$AE:$AG,3,0)&$L70)","v":""},"","",{"$f":"IF($Z70=\"\",IF($G70=\"\",\"\",$D70*$W70*$K$1),VLOOKUP($Z70,Ref!$AE:$AG,2,0)*$Q70*$K$1*(1-$H$4/100))","v":""},{"$nulls":3},{"$f":"SUMIF(pricelist!$W:$W,'подбор радиатора TESI'!$AA70,pricelist!$J:$J)","v":0},null,0,null,{"$f":"IF($L70=\"\",\"\",VLOOKUP($L70,Ref!$D:$J,7,0))","v":""},{"$f":"SUMIF(Ref!$D:$D,'подбор радиатора TESI'!$L:$L,Ref!$E:$E)","v":{"v":0,"d":"0.00"}},null,{"$f":"SUMIF(Ref!$F:$F,'подбор радиатора TESI'!$O:$O,Ref!$G:$G)","v":{"v":0,"d":"0.00"}},null,{"$f":"SUMIF(pricelist!$W:$W,'подбор радиатора TESI'!$AA:$AA,pricelist!$K:$K)*$J70","v":{"v":0,"d":"0.00"}},{"$f":"SUMIF(pricelist!$W:$W,$AA:$AA,INDIRECT($S$12&$S$14))*$J70","v":{"v":0,"d":"0.00"}},0,null,{"$f":"SUMIF(Ref!$H:$H,'подбор радиатора TESI'!$U:$U,Ref!$I:$I)","v":{"v":0,"d":"0.00"}},{"$f":"(($N70*SUMIF(pricelist!$W:$W,'подбор радиатора TESI'!$AA:$AA,pricelist!$S:$S)*$J70)+$P70+IF($U70=\"радиусный\",$V70*$J70,$V70)+IF($J70>$AC70,31*1.13,0))*(1-$H$4/100)","v":{"v":0,"d":"0.00"}},{"$nulls":3},"/","/",{"$f":"SUMIF(Ref!$R:$R,'подбор радиатора TESI'!$AB:$AB,Ref!$Q:$Q)","v":0},1]
["",{"$f":"IF($Z71=\"\",IF($G71=\"\",\"\",\"RR\"&LEFT($G71,1)&$H71&IF($J71<=9,\"0\"&$J71,$J71)&$L71&\"A4\"&LEFT($O71,2)&\"N\"),VLOOKUP($Z71,Ref!$AE:$AG,3,0)&$L71)","v":""},"","",{"$f":"IF($Z71=\"\",IF($G71=\"\",\"\",$D71*$W71*$K$1),VLOOKUP($Z71,Ref!$AE:$AG,2,0)*$Q71*$K$1*(1-$H$4/100))","v":""},{"$nulls":3},{"$f":"SUMIF(pricelist!$W:$W,'подбор радиатора TESI'!$AA71,pricelist!$J:$J)","v":0},null,0,null,{"$f":"IF($L71=\"\",\"\",VLOOKUP($L71,Ref!$D:$J,7,0))","v":""},{"$f":"SUMIF(Ref!$D:$D,'подбор радиатора TESI'!$L:$L,Ref!$E:$E)","v":{"v":0,"d":"0.00"}},null,{"$f":"SUMIF(Ref!$F:$F,'подбор радиатора TESI'!$O:$O,Ref!$G:$G)","v":{"v":0,"d":"0.00"}},null,{"$f":"SUMIF(pricelist!$W:$W,'подбор радиатора TESI'!$AA:$AA,pricelist!$K:$K)*$J71","v":{"v":0,"d":"0.00"}},{"$f":"SUMIF(pricelist!$W:$W,$AA:$AA,INDIRECT($S$12&$S$14))*$J71","v":{"v":0,"d":"0.00"}},0,null,{"$f":"SUMIF(Ref!$H:$H,'подбор радиатора TESI'!$U:$U,Ref!$I:$I)","v":{"v":0,"d":"0.00"}},{"$f":"(($N71*SUMIF(pricelist!$W:$W,'подбор радиатора TESI'!$AA:$AA,pricelist!$S:$S)*$J71)+$P71+IF($U71=\"радиусный\",$V71*$J71,$V71)+IF($J71>$AC71,31*1.13,0))*(1-$H$4/100)","v":{"v":0,"d":"0.00"}},{"$nulls":3},"/","/",{"$f":"SUMIF(Ref!$R:$R,'подбор радиатора TESI'!$AB:$AB,Ref!$Q:$Q)","v":0},1]
["",{"$f":"IF($Z72=\"\",IF($G72=\"\",\"\",\"RR\"&LEFT($G72,1)&$H72&IF($J72<=9,\"0\"&$J72,$J72)&$L72&\"A4\"&LEFT($O72,2)&\"N\"),VLOOKUP($Z72,Ref!$AE:$AG,3,0)&$L72)","v":""},"","",{"$f":"IF($Z72=\"\",IF($G72=\"\",\"\",$D72*$W72*$K$1),VLOOKUP($Z72,Ref!$AE:$AG,2,0)*$Q72*$K$1*(1-$H$4/100))","v":""},{"$nulls":3},{"$f":"SUMIF(pricelist!$W:$W,'подбор радиатора TESI'!$AA72,pricelist!$J:$J)","v":0},null,0,null,{"$f":"IF($L72=\"\",\"\",VLOOKUP($L72,Ref!$D:$J,7,0))","v":""},{"$f":"SUMIF(Ref!$D:$D,'подбор радиатора TESI'!$L:$L,Ref!$E:$E)","v":{"v":0,"d":"0.00"}},null,{"$f":"SUMIF(Ref!$F:$F,'подбор радиатора TESI'!$O:$O,Ref!$G:$G)","v":{"v":0,"d":"0.00"}},null,{"$f":"SUMIF(pricelist!$W:$W,'подбор радиатора TESI'!$AA:$AA,pricelist!$K:$K)*$J72","v":{"v":0,"d":"0.00"}},{"$f":"SUMIF(pricelist!$W:$W,$AA:$AA,INDIRECT($S$12&$S$14))*$J72","v":{"v":0,"d":"0.00"}},0,null,{"$f":"SUMIF(Ref!$H:$H,'подбор радиатора TESI'!$U:$U,Ref!$I:$I)","v":{"v":0,"d":"0.00"}},{"$f":"(($N72*SUMIF(pricelist!$W:$W,'подбор радиатора TESI'!$AA:$AA,pricelist!$S:$S)*$J72)+$P72+IF($U72=\"радиусный\",$V72*$J72,$V72)+IF($J72>$AC72,31*1.13,0))*(1-$H$4/100)","v":{"v":0,"d":"0.00"}},{"$nulls":3},"/","/",{"$f":"SUMIF(Ref!$R:$R,'подбор радиатора TESI'!$AB:$AB,Ref!$Q:$Q)","v":0},1]
["",{"$f":"IF($Z73=\"\",IF($G73=\"\",\"\",\"RR\"&LEFT($G73,1)&$H73&IF($J73<=9,\"0\"&$J73,$J73)&$L73&\"A4\"&LEFT($O73,2)&\"N\"),VLOOKUP($Z73,Ref!$AE:$AG,3,0)&$L73)","v":""},"","",{"$f":"IF($Z73=\"\",IF($G73=\"\",\"\",$D73*$W73*$K$1),VLOOKUP($Z73,Ref!$AE:$AG,2,0)*$Q73*$K$1*(1-$H$4/100))","v":""},{"$nulls":3},{"$f":"SUMIF(pricelist!$W:$W,'подбор радиатора TESI'!$AA73,pricelist!$J:$J)","v":0},null,0,null,{"$f":"IF($L73=\"\",\"\",VLOOKUP($L73,Ref!$D:$J,7,0))","v":""},{"$f":"SUMIF(Ref!$D:$D,'подбор радиатора TESI'!$L:$L,Ref!$E:$E)","v":{"v":0,"d":"0.00"}},null,{"$f":"SUMIF(Ref!$F:$F,'подбор радиатора TESI'!$O:$O,Ref!$G:$G)","v":{"v":0,"d":"0.00"}},null,{"$f":"SUMIF(pricelist!$W:$W,'подбор радиатора TESI'!$AA:$AA,pricelist!$K:$K)*$J73","v":{"v":0,"d":"0.00"}},{"$f":"SUMIF(pricelist!$W:$W,$AA:$AA,INDIRECT($S$12&$S$14))*$J73","v":{"v":0,"d":"0.00"}},0,null,{"$f":"SUMIF(Ref!$H:$H,'подбор радиатора TESI'!$U:$U,Ref!$I:$I)","v":{"v":0,"d":"0.00"}},{"$f":"(($N73*SUMIF(pricelist!$W:$W,'подбор радиатора TESI'!$AA:$AA,pricelist!$S:$S)*$J73)+$P73+IF($U73=\"радиусный\",$V73*$J73,$V73)+IF($J73>$AC73,31*1.13,0))*(1-$H$4/100)","v":{"v":0,"d":"0.00"}},{"$nulls":3},"/","/",{"$f":"SUMIF(Ref!$R:$R,'подбор радиатора TESI'!$AB:$AB,Ref!$Q:$Q)","v":0},1]
["",{"$f":"IF($Z74=\"\",IF($G74=\"\",\"\",\"RR\"&LEFT($G74,1)&$H74&IF($J74<=9,\"0\"&$J74,$J74)&$L74&\"A4\"&LEFT($O74,2)&\"N\"),VLOOKUP($Z74,Ref!$AE:$AG,3,0)&$L74)","v":""},"","",{"$f":"IF($Z74=\"\",IF($G74=\"\",\"\",$D74*$W74*$K$1),VLOOKUP($Z74,Ref!$AE:$AG,2,0)*$Q74*$K$1*(1-$H$4/100))","v":""},{"$nulls":3},{"$f":"SUMIF(pricelist!$W:$W,'подбор радиатора TESI'!$AA74,pricelist!$J:$J)","v":0},null,0,null,{"$f":"IF($L74=\"\",\"\",VLOOKUP($L74,Ref!$D:$J,7,0))","v":""},{"$f":"SUMIF(Ref!$D:$D,'подбор радиатора TESI'!$L:$L,Ref!$E:$E)","v":{"v":0,"d":"0.00"}},null,{"$f":"SUMIF(Ref!$F:$F,'подбор радиатора TESI'!$O:$O,Ref!$G:$G)","v":{"v":0,"d":"0.00"}},null,{"$f":"SUMIF(pricelist!$W:$W,'подбор радиатора TESI'!$AA:$AA,pricelist!$K:$K)*$J74","v":{"v":0,"d":"0.00"}},{"$f":"SUMIF(pricelist!$W:$W,$AA:$AA,INDIRECT($S$12&$S$14))*$J74","v":{"v":0,"d":"0.00"}},0,null,{"$f":"SUMIF(Ref!$H:$H,'подбор радиатора TESI'!$U:$U,Ref!$I:$I)","v":{"v":0,"d":"0.00"}},{"$f":"(($N74*SUMIF(pricelist!$W:$W,'подбор радиатора TESI'!$AA:$AA,pricelist!$S:$S)*$J74)+$P74+IF($U74=\"радиусный\",$V74*$J74,$V74)+IF($J74>$AC74,31*1.13,0))*(1-$H$4/100)","v":{"v":0,"d":"0.00"}},{"$nulls":3},"/","/",{"$f":"SUMIF(Ref!$R:$R,'подбор радиатора TESI'!$AB:$AB,Ref!$Q:$Q)","v":0},1]
["",{"$f":"IF($Z75=\"\",IF($G75=\"\",\"\",\"RR\"&LEFT($G75,1)&$H75&IF($J75<=9,\"0\"&$J75,$J75)&$L75&\"A4\"&LEFT($O75,2)&\"N\"),VLOOKUP($Z75,Ref!$AE:$AG,3,0)&$L75)","v":""},"","",{"$f":"IF($Z75=\"\",IF($G75=\"\",\"\",$D75*$W75*$K$1),VLOOKUP($Z75,Ref!$AE:$AG,2,0)*$Q75*$K$1*(1-$H$4/100))","v":""},{"$nulls":3},{"$f":"SUMIF(pricelist!$W:$W,'подбор радиатора TESI'!$AA75,pricelist!$J:$J)","v":0},null,0,null,{"$f":"IF($L75=\"\",\"\",VLOOKUP($L75,Ref!$D:$J,7,0))","v":""},{"$f":"SUMIF(Ref!$D:$D,'подбор радиатора TESI'!$L:$L,Ref!$E:$E)","v":{"v":0,"d":"0.00"}},null,{"$f":"SUMIF(Ref!$F:$F,'подбор радиатора TESI'!$O:$O,Ref!$G:$G)","v":{"v":0,"d":"0.00"}},null,{"$f":"SUMIF(pricelist!$W:$W,'подбор радиатора TESI'!$AA:$AA,pricelist!$K:$K)*$J75","v":{"v":0,"d":"0.00"}},{"$f":"SUMIF(pricelist!$W:$W,$AA:$AA,INDIRECT($S$12&$S$14))*$J75","v":{"v":0,"d":"0.00"}},0,null,{"$f":"SUMIF(Ref!$H:$H,'подбор радиатора TESI'!$U:$U,Ref!$I:$I)","v":{"v":0,"d":"0.00"}},{"$f":"(($N75*SUMIF(pricelist!$W:$W,'подбор радиатора TESI'!$AA:$AA,pricelist!$S:$S)*$J75)+$P75+IF($U75=\"радиусный\",$V75*$J75,$V75)+IF($J75>$AC75,31*1.13,0))*(1-$H$4/100)","v":{"v":0,"d":"0.00"}},{"$nulls":3},"/","/",{"$f":"SUMIF(Ref!$R:$R,'подбор радиатора TESI'!$AB:$AB,Ref!$Q:$Q)","v":0},1]
["",{"$f":"IF($Z76=\"\",IF($G76=\"\",\"\",\"RR\"&LEFT($G76,1)&$H76&IF($J76<=9,\"0\"&$J76,$J76)&$L76&\"A4\"&LEFT($O76,2)&\"N\"),VLOOKUP($Z76,Ref!$AE:$AG,3,0)&$L76)","v":""},"","",{"$f":"IF($Z76=\"\",IF($G76=\"\",\"\",$D76*$W76*$K$1),VLOOKUP($Z76,Ref!$AE:$AG,2,0)*$Q76*$K$1*(1-$H$4/100))","v":""},{"$nulls":3},{"$f":"SUMIF(pricelist!$W:$W,'подбор радиатора TESI'!$AA76,pricelist!$J:$J)","v":0},null,0,null,{"$f":"IF($L76=\"\",\"\",VLOOKUP($L76,Ref!$D:$J,7,0))","v":""},{"$f":"SUMIF(Ref!$D:$D,'подбор радиатора TESI'!$L:$L,Ref!$E:$E)","v":{"v":0,"d":"0.00"}},null,{"$f":"SUMIF(Ref!$F:$F,'подбор радиатора TESI'!$O:$O,Ref!$G:$G)","v":{"v":0,"d":"0.00"}},null,{"$f":"SUMIF(pricelist!$W:$W,'подбор радиатора TESI'!$AA:$AA,pricelist!$K:$K)*$J76","v":{"v":0,"d":"0.00"}},{"$f":"SUMIF(pricelist!$W:$W,$AA:$AA,INDIRECT($S$12&$S$14))*$J76","v":{"v":0,"d":"0.00"}},0,null,{"$f":"SUMIF(Ref!$H:$H,'подбор радиатора TESI'!$U:$U,Ref!$I:$I)","v":{"v":0,"d":"0.00"}},{"$f":"(($N76*SUMIF(pricelist!$W:$W,'подбор радиатора TESI'!$AA:$AA,pricelist!$S:$S)*$J76)+$P76+IF($U76=\"радиусный\",$V76*$J76,$V76)+IF($J76>$AC76,31*1.13,0))*(1-$H$4/100)","v":{"v":0,"d":"0.00"}},{"$nulls":3},"/","/",{"$f":"SUMIF(Ref!$R:$R,'подбор радиатора TESI'!$AB:$AB,Ref!$Q:$Q)","v":0},1]
["",{"$f":"IF($Z77=\"\",IF($G77=\"\",\"\",\"RR\"&LEFT($G77,1)&$H77&IF($J77<=9,\"0\"&$J77,$J77)&$L77&\"A4\"&LEFT($O77,2)&\"N\"),VLOOKUP($Z77,Ref!$AE:$AG,3,0)&$L77)","v":""},"","",{"$f":"IF($Z77=\"\",IF($G77=\"\",\"\",$D77*$W77*$K$1),VLOOKUP($Z77,Ref!$AE:$AG,2,0)*$Q77*$K$1*(1-$H$4/100))","v":""},{"$nulls":3},{"$f":"SUMIF(pricelist!$W:$W,'подбор радиатора TESI'!$AA77,pricelist!$J:$J)","v":0},null,0,null,{"$f":"IF($L77=\"\",\"\",VLOOKUP($L77,Ref!$D:$J,7,0))","v":""},{"$f":"SUMIF(Ref!$D:$D,'подбор радиатора TESI'!$L:$L,Ref!$E:$E)","v":{"v":0,"d":"0.00"}},null,{"$f":"SUMIF(Ref!$F:$F,'подбор радиатора TESI'!$O:$O,Ref!$G:$G)","v":{"v":0,"d":"0.00"}},null,{"$f":"SUMIF(pricelist!$W:$W,'подбор радиатора TESI'!$AA:$AA,pricelist!$K:$K)*$J77","v":{"v":0,"d":"0.00"}},{"$f":"SUMIF(pricelist!$W:$W,$AA:$AA,INDIRECT($S$12&$S$14))*$J77","v":{"v":0,"d":"0.00"}},0,null,{"$f":"SUMIF(Ref!$H:$H,'подбор радиатора TESI'!$U:$U,Ref!$I:$I)","v":{"v":0,"d":"0.00"}},{"$f":"(($N77*SUMIF(pricelist!$W:$W,'подбор радиатора TESI'!$AA:$AA,pricelist!$S:$S)*$J77)+$P77+IF($U77=\"радиусный\",$V77*$J77,$V77)+IF($J77>$AC77,31*1.13,0))*(1-$H$4/100)","v":{"v":0,"d":"0.00"}},{"$nulls":3},"/","/",{"$f":"SUMIF(Ref!$R:$R,'подбор радиатора TESI'!$AB:$AB,Ref!$Q:$Q)","v":0},1]
["",{"$f":"IF($Z78=\"\",IF($G78=\"\",\"\",\"RR\"&LEFT($G78,1)&$H78&IF($J78<=9,\"0\"&$J78,$J78)&$L78&\"A4\"&LEFT($O78,2)&\"N\"),VLOOKUP($Z78,Ref!$AE:$AG,3,0)&$L78)","v":""},"","",{"$f":"IF($Z78=\"\",IF($G78=\"\",\"\",$D78*$W78*$K$1),VLOOKUP($Z78,Ref!$AE:$AG,2,0)*$Q78*$K$1*(1-$H$4/100))","v":""},{"$nulls":3},{"$f":"SUMIF(pricelist!$W:$W,'подбор радиатора TESI'!$AA78,pricelist!$J:$J)","v":0},null,0,null,{"$f":"IF($L78=\"\",\"\",VLOOKUP($L78,Ref!$D:$J,7,0))","v":""},{"$f":"SUMIF(Ref!$D:$D,'подбор радиатора TESI'!$L:$L,Ref!$E:$E)","v":{"v":0,"d":"0.00"}},null,{"$f":"SUMIF(Ref!$F:$F,'подбор радиатора TESI'!$O:$O,Ref!$G:$G)","v":{"v":0,"d":"0.00"}},null,{"$f":"SUMIF(pricelist!$W:$W,'подбор радиатора TESI'!$AA:$AA,pricelist!$K:$K)*$J78","v":{"v":0,"d":"0.00"}},{"$f":"SUMIF(pricelist!$W:$W,$AA:$AA,INDIRECT($S$12&$S$14))*$J78","v":{"v":0,"d":"0.00"}},0,null,{"$f":"SUMIF(Ref!$H:$H,'подбор радиатора TESI'!$U:$U,Ref!$I:$I)","v":{"v":0,"d":"0.00"}},{"$f":"(($N78*SUMIF(pricelist!$W:$W,'подбор радиатора TESI'!$AA:$AA,pricelist!$S:$S)*$J78)+$P78+IF($U78=\"радиусный\",$V78*$J78,$V78)+IF($J78>$AC78,31*1.13,0))*(1-$H$4/100)","v":{"v":0,"d":"0.00"}},{"$nulls":3},"/","/",{"$f":"SUMIF(Ref!$R:$R,'подбор радиатора TESI'!$AB:$AB,Ref!$Q:$Q)","v":0},1]
["",{"$f":"IF($Z79=\"\",IF($G79=\"\",\"\",\"RR\"&LEFT($G79,1)&$H79&IF($J79<=9,\"0\"&$J79,$J79)&$L79&\"A4\"&LEFT($O79,2)&\"N\"),VLOOKUP($Z79,Ref!$AE:$AG,3,0)&$L79)","v":""},"","",{"$f":"IF($Z79=\"\",IF($G79=\"\",\"\",$D79*$W79*$K$1),VLOOKUP($Z79,Ref!$AE:$AG,2,0)*$Q79*$K$1*(1-$H$4/100))","v":""},{"$nulls":3},{"$f":"SUMIF(pricelist!$W:$W,'подбор радиатора TESI'!$AA79,pricelist!$J:$J)","v":0},null,0,null,{"$f":"IF($L79=\"\",\"\",VLOOKUP($L79,Ref!$D:$J,7,0))","v":""},{"$f":"SUMIF(Ref!$D:$D,'подбор радиатора TESI'!$L:$L,Ref!$E:$E)","v":{"v":0,"d":"0.00"}},null,{"$f":"SUMIF(Ref!$F:$F,'подбор радиатора TESI'!$O:$O,Ref!$G:$G)","v":{"v":0,"d":"0.00"}},null,{"$f":"SUMIF(pricelist!$W:$W,'подбор радиатора TESI'!$AA:$AA,pricelist!$K:$K)*$J79","v":{"v":0,"d":"0.00"}},{"$f":"SUMIF(pricelist!$W:$W,$AA:$AA,INDIRECT($S$12&$S$14))*$J79","v":{"v":0,"d":"0.00"}},0,null,{"$f":"SUMIF(Ref!$H:$H,'подбор радиатора TESI'!$U:$U,Ref!$I:$I)","v":{"v":0,"d":"0.00"}},{"$f":"(($N79*SUMIF(pricelist!$W:$W,'подбор радиатора TESI'!$AA:$AA,pricelist!$S:$S)*$J79)+$P79+IF($U79=\"радиусный\",$V79*$J79,$V79)+IF($J79>$AC79,31*1.13,0))*(1-$H$4/100)","v":{"v":0,"d":"0.00"}},{"$nulls":3},"/","/",{"$f":"SUMIF(Ref!$R:$R,'подбор радиатора TESI'!$AB:$AB,Ref!$Q:$Q)","v":0},1]
["",{"$f":"IF($Z80=\"\",IF($G80=\"\",\"\",\"RR\"&LEFT($G80,1)&$H80&IF($J80<=9,\"0\"&$J80,$J80)&$L80&\"A4\"&LEFT($O80,2)&\"N\"),VLOOKUP($Z80,Ref!$AE:$AG,3,0)&$L80)","v":""},"","",{"$f":"IF($Z80=\"\",IF($G80=\"\",\"\",$D80*$W80*$K$1),VLOOKUP($Z80,Ref!$AE:$AG,2,0)*$Q80*$K$1*(1-$H$4/100))","v":""},{"$nulls":3},{"$f":"SUMIF(pricelist!$W:$W,'подбор радиатора TESI'!$AA80,pricelist!$J:$J)","v":0},null,0,null,{"$f":"IF($L80=\"\",\"\",VLOOKUP($L80,Ref!$D:$J,7,0))","v":""},{"$f":"SUMIF(Ref!$D:$D,'подбор радиатора TESI'!$L:$L,Ref!$E:$E)","v":{"v":0,"d":"0.00"}},null,{"$f":"SUMIF(Ref!$F:$F,'подбор радиатора TESI'!$O:$O,Ref!$G:$G)","v":{"v":0,"d":"0.00"}},null,{"$f":"SUMIF(pricelist!$W:$W,'подбор радиатора TESI'!$AA:$AA,pricelist!$K:$K)*$J80","v":{"v":0,"d":"0.00"}},{"$f":"SUMIF(pricelist!$W:$W,$AA:$AA,INDIRECT($S$12&$S$14))*$J80","v":{"v":0,"d":"0.00"}},0,null,{"$f":"SUMIF(Ref!$H:$H,'подбор радиатора TESI'!$U:$U,Ref!$I:$I)","v":{"v":0,"d":"0.00"}},{"$f":"(($N80*SUMIF(pricelist!$W:$W,'подбор радиатора TESI'!$AA:$AA,pricelist!$S:$S)*$J80)+$P80+IF($U80=\"радиусный\",$V80*$J80,$V80)+IF($J80>$AC80,31*1.13,0))*(1-$H$4/100)","v":{"v":0,"d":"0.00"}},{"$nulls":3},"/","/",{"$f":"SUMIF(Ref!$R:$R,'подбор радиатора TESI'!$AB:$AB,Ref!$Q:$Q)","v":0},1]
["",{"$f":"IF($Z81=\"\",IF($G81=\"\",\"\",\"RR\"&LEFT($G81,1)&$H81&IF($J81<=9,\"0\"&$J81,$J81)&$L81&\"A4\"&LEFT($O81,2)&\"N\"),VLOOKUP($Z81,Ref!$AE:$AG,3,0)&$L81)","v":""},"","",{"$f":"IF($Z81=\"\",IF($G81=\"\",\"\",$D81*$W81*$K$1),VLOOKUP($Z81,Ref!$AE:$AG,2,0)*$Q81*$K$1*(1-$H$4/100))","v":""},{"$nulls":3},{"$f":"SUMIF(pricelist!$W:$W,'подбор радиатора TESI'!$AA81,pricelist!$J:$J)","v":0},null,0,null,{"$f":"IF($L81=\"\",\"\",VLOOKUP($L81,Ref!$D:$J,7,0))","v":""},{"$f":"SUMIF(Ref!$D:$D,'подбор радиатора TESI'!$L:$L,Ref!$E:$E)","v":{"v":0,"d":"0.00"}},null,{"$f":"SUMIF(Ref!$F:$F,'подбор радиатора TESI'!$O:$O,Ref!$G:$G)","v":{"v":0,"d":"0.00"}},null,{"$f":"SUMIF(pricelist!$W:$W,'подбор радиатора TESI'!$AA:$AA,pricelist!$K:$K)*$J81","v":{"v":0,"d":"0.00"}},{"$f":"SUMIF(pricelist!$W:$W,$AA:$AA,INDIRECT($S$12&$S$14))*$J81","v":{"v":0,"d":"0.00"}},0,null,{"$f":"SUMIF(Ref!$H:$H,'подбор радиатора TESI'!$U:$U,Ref!$I:$I)","v":{"v":0,"d":"0.00"}},{"$f":"(($N81*SUMIF(pricelist!$W:$W,'подбор радиатора TESI'!$AA:$AA,pricelist!$S:$S)*$J81)+$P81+IF($U81=\"радиусный\",$V81*$J81,$V81)+IF($J81>$AC81,31*1.13,0))*(1-$H$4/100)","v":{"v":0,"d":"0.00"}},{"$nulls":3},"/","/",{"$f":"SUMIF(Ref!$R:$R,'подбор радиатора TESI'!$AB:$AB,Ref!$Q:$Q)","v":0},1]
["",{"$f":"IF($Z82=\"\",IF($G82=\"\",\"\",\"RR\"&LEFT($G82,1)&$H82&IF($J82<=9,\"0\"&$J82,$J82)&$L82&\"A4\"&LEFT($O82,2)&\"N\"),VLOOKUP($Z82,Ref!$AE:$AG,3,0)&$L82)","v":""},"",{"$f":"IF($Z82=\"\",IF($G82=\"\",\"\",$Q82),$Q82)","v":""},{"$f":"IF($Z82=\"\",IF($G82=\"\",\"\",$D82*$W82*$K$1),VLOOKUP($Z82,Ref!$AE:$AG,2,0)*$Q82*$K$1*(1-$H$4/100))","v":""},{"$nulls":3},{"$f":"SUMIF(pricelist!$W:$W,'подбор радиатора TESI'!$AA82,pricelist!$J:$J)","v":0},null,0,null,{"$f":"IF($L82=\"\",\"\",VLOOKUP($L82,Ref!$D:$J,7,0))","v":""},{"$f":"SUMIF(Ref!$D:$D,'подбор радиатора TESI'!$L:$L,Ref!$E:$E)","v":{"v":0,"d":"0.00"}},null,{"$f":"SUMIF(Ref!$F:$F,'подбор радиатора TESI'!$O:$O,Ref!$G:$G)","v":{"v":0,"d":"0.00"}},null,{"$f":"SUMIF(pricelist!$W:$W,'подбор радиатора TESI'!$AA:$AA,pricelist!$K:$K)*$J82","v":{"v":0,"d":"0.00"}},{"$f":"SUMIF(pricelist!$W:$W,$AA:$AA,INDIRECT($S$12&$S$14))*$J82","v":{"v":0,"d":"0.00"}},{"$f":"$J82*$Q82","v":0},null,{"$f":"SUMIF(Ref!$H:$H,'подбор радиатора TESI'!$U:$U,Ref!$I:$I)","v":{"v":0,"d":"0.00"}},{"$f":"(($N82*SUMIF(pricelist!$W:$W,'подбор радиатора TESI'!$AA:$AA,pricelist!$S:$S)*$J82)+$P82+IF($U82=\"радиусный\",$V82*$J82,$V82)+IF($J82>$AC82,31*1.13,0))*(1-$H$4/100)","v":{"v":0,"d":"0.00"}},{"$nulls":3},"/","/",{"$f":"SUMIF(Ref!$R:$R,'подбор радиатора TESI'!$AB:$AB,Ref!$Q:$Q)","v":0},1]
[{"$f":"IF($C83=\"\",\"\",A82+1)","v":""},{"$f":"IF($Z83=\"\",IF($G83=\"\",\"\",\"RR\"&LEFT($G83,1)&$H83&IF($J83<=9,\"0\"&$J83,$J83)&$L83&\"A4\"&LEFT($O83,2)&\"N\"),VLOOKUP($Z83,Ref!$AE:$AG,3,0)&$L83)","v":""},{"$f":"IF($Z83=\"\",IF($G83=\"\",\"\",\"RR\"&LEFT($G83,1)&\" \"&$H83&\", секций \"&$J83&\", цвет \"&$L83&\", подкл. \"&LEFT($O83,3)&\", \"&$U83),$Z83&\" \"&$L83)","v":""},"",{"$f":"IF($Z83=\"\",IF($G83=\"\",\"\",$D83*$W83*$K$1),VLOOKUP($Z83,Ref!$AE:$AG,2,0)*$Q83*$K$1*(1-$H$4/100))","v":""},{"$nulls":3},{"$f":"SUMIF(pricelist!$W:$W,'подбор радиатора TESI'!$AA83,pricelist!$J:$J)","v":0},null,{"$f":"$J83*45","v":0},null,{"$f":"IF($L83=\"\",\"\",VLOOKUP($L83,Ref!$D:$J,7,0))","v":""},{"$f":"SUMIF(Ref!$D:$D,'подбор радиатора TESI'!$L:$L,Ref!$E:$E)","v":{"v":0,"d":"0.00"}},null,{"$f":"SUMIF(Ref!$F:$F,'подбор радиатора TESI'!$O:$O,Ref!$G:$G)","v":{"v":0,"d":"0.00"}},null,{"$f":"SUMIF(pricelist!$W:$W,'подбор радиатора TESI'!$AA:$AA,pricelist!$K:$K)*$J83","v":{"v":0,"d":"0.00"}},{"$f":"SUMIF(pricelist!$W:$W,$AA:$AA,INDIRECT($S$12&$S$14))*$J83","v":{"v":0,"d":"0.00"}},0,null,{"$f":"SUMIF(Ref!$H:$H,'подбор радиатора TESI'!$U:$U,Ref!$I:$I)","v":{"v":0,"d":"0.00"}},{"$f":"(($N83*SUMIF(pricelist!$W:$W,'подбор радиатора TESI'!$AA:$AA,pricelist!$S:$S)*$J83)+$P83+IF($U83=\"радиусный\",$V83*$J83,$V83)+IF($J83>$AC83,31*1.13,0))*(1-$H$4/100)","v":{"v":0,"d":"0.00"}},{"$nulls":3},{"$f":"LEFT($G83,1)&\"/\"&$H83","v":"/"},"/",{"$f":"SUMIF(Ref!$R:$R,'подбор радиатора TESI'!$AB:$AB,Ref!$Q:$Q)","v":0},{"$f":"IF($Z83=\"\",1,0)","v":1}]
["",{"$f":"IF($Z84=\"\",IF($G84=\"\",\"\",\"RR\"&LEFT($G84,1)&$H84&IF($J84<=9,\"0\"&$J84,$J84)&$L84&\"A4\"&LEFT($O84,2)&\"N\"),VLOOKUP($Z84,Ref!$AE:$AG,3,0)&$L84)","v":""},"","",{"$f":"IF($Z84=\"\",IF($G84=\"\",\"\",$D84*$W84*$K$1),VLOOKUP($Z84,Ref!$AE:$AG,2,0)*$Q84*$K$1*(1-$H$4/100))","v":""},{"$nulls":3},{"$f":"SUMIF(pricelist!$W:$W,'подбор радиатора TESI'!$AA84,pricelist!$J:$J)","v":0},null,0,null,{"$f":"IF($L84=\"\",\"\",VLOOKUP($L84,Ref!$D:$J,7,0))","v":""},{"$f":"SUMIF(Ref!$D:$D,'подбор радиатора TESI'!$L:$L,Ref!$E:$E)","v":{"v":0,"d":"0.00"}},null,{"$f":"SUMIF(Ref!$F:$F,'подбор радиатора TESI'!$O:$O,Ref!$G:$G)","v":{"v":0,"d":"0.00"}},null,{"$f":"SUMIF(pricelist!$W:$W,'подбор радиатора TESI'!$AA:$AA,pricelist!$K:$K)*$J84","v":{"v":0,"d":"0.00"}},{"$f":"SUMIF(pricelist!$W:$W,$AA:$AA,INDIRECT($S$12&$S$14))*$J84","v":{"v":0,"d":"0.00"}},0,null,{"$f":"SUMIF(Ref!$H:$H,'подбор радиатора TESI'!$U:$U,Ref!$I:$I)","v":{"v":0,"d":"0.00"}},{"$f":"(($N84*SUMIF(pricelist!$W:$W,'подбор радиатора TESI'!$AA:$AA,pricelist!$S:$S)*$J84)+$P84+IF($U84=\"радиусный\",$V84*$J84,$V84)+IF($J84>$AC84,31*1.13,0))*(1-$H$4/100)","v":{"v":0,"d":"0.00"}},{"$nulls":3},"/","/",{"$f":"SUMIF(Ref!$R:$R,'подбор радиатора TESI'!$AB:$AB,Ref!$Q:$Q)","v":0},1]
["",{"$f":"IF($Z85=\"\",IF($G85=\"\",\"\",\"RR\"&LEFT($G85,1)&$H85&IF($J85<=9,\"0\"&$J85,$J85)&$L85&\"A4\"&LEFT($O85,2)&\"N\"),VLOOKUP($Z85,Ref!$AE:$AG,3,0)&$L85)","v":""},"","",{"$f":"IF($Z85=\"\",IF($G85=\"\",\"\",$D85*$W85*$K$1),VLOOKUP($Z85,Ref!$AE:$AG,2,0)*$Q85*$K$1*(1-$H$4/100))","v":""},{"$nulls":3},{"$f":"SUMIF(pricelist!$W:$W,'подбор радиатора TESI'!$AA85,pricelist!$J:$J)","v":0},null,0,null,{"$f":"IF($L85=\"\",\"\",VLOOKUP($L85,Ref!$D:$J,7,0))","v":""},{"$f":"SUMIF(Ref!$D:$D,'подбор радиатора TESI'!$L:$L,Ref!$E:$E)","v":{"v":0,"d":"0.00"}},null,{"$f":"SUMIF(Ref!$F:$F,'подбор радиатора TESI'!$O:$O,Ref!$G:$G)","v":{"v":0,"d":"0.00"}},null,{"$f":"SUMIF(pricelist!$W:$W,'подбор радиатора TESI'!$AA:$AA,pricelist!$K:$K)*$J85","v":{"v":0,"d":"0.00"}},{"$f":"SUMIF(pricelist!$W:$W,$AA:$AA,INDIRECT($S$12&$S$14))*$J85","v":{"v":0,"d":"0.00"}},0,null,{"$f":"SUMIF(Ref!$H:$H,'подбор радиатора TESI'!$U:$U,Ref!$I:$I)","v":{"v":0,"d":"0.00"}},{"$f":"(($N85*SUMIF(pricelist!$W:$W,'подбор радиатора TESI'!$AA:$AA,pricelist!$S:$S)*$J85)+$P85+IF($U85=\"радиусный\",$V85*$J85,$V85)+IF($J85>$AC85,31*1.13,0))*(1-$H$4/100)","v":{"v":0,"d":"0.00"}},{"$nulls":3},"/","/",{"$f":"SUMIF(Ref!$R:$R,'подбор радиатора TESI'!$AB:$AB,Ref!$Q:$Q)","v":0},1]
["",{"$f":"IF($Z86=\"\",IF($G86=\"\",\"\",\"RR\"&LEFT($G86,1)&$H86&IF($J86<=9,\"0\"&$J86,$J86)&$L86&\"A4\"&LEFT($O86,2)&\"N\"),VLOOKUP($Z86,Ref!$AE:$AG,3,0)&$L86)","v":""},"","",{"$f":"IF($Z86=\"\",IF($G86=\"\",\"\",$D86*$W86*$K$1),VLOOKUP($Z86,Ref!$AE:$AG,2,0)*$Q86*$K$1*(1-$H$4/100))","v":""},{"$nulls":3},{"$f":"SUMIF(pricelist!$W:$W,'подбор радиатора TESI'!$AA86,pricelist!$J:$J)","v":0},null,0,null,{"$f":"IF($L86=\"\",\"\",VLOOKUP($L86,Ref!$D:$J,7,0))","v":""},{"$f":"SUMIF(Ref!$D:$D,'подбор радиатора TESI'!$L:$L,Ref!$E:$E)","v":{"v":0,"d":"0.00"}},null,{"$f":"SUMIF(Ref!$F:$F,'подбор радиатора TESI'!$O:$O,Ref!$G:$G)","v":{"v":0,"d":"0.00"}},null,{"$f":"SUMIF(pricelist!$W:$W,'подбор радиатора TESI'!$AA:$AA,pricelist!$K:$K)*$J86","v":{"v":0,"d":"0.00"}},{"$f":"SUMIF(pricelist!$W:$W,$AA:$AA,INDIRECT($S$12&$S$14))*$J86","v":{"v":0,"d":"0.00"}},0,null,{"$f":"SUMIF(Ref!$H:$H,'подбор радиатора TESI'!$U:$U,Ref!$I:$I)","v":{"v":0,"d":"0.00"}},{"$f":"(($N86*SUMIF(pricelist!$W:$W,'подбор радиатора TESI'!$AA:$AA,pricelist!$S:$S)*$J86)+$P86+IF($U86=\"радиусный\",$V86*$J86,$V86)+IF($J86>$AC86,31*1.13,0))*(1-$H$4/100)","v":{"v":0,"d":"0.00"}},{"$nulls":3},"/","/",{"$f":"SUMIF(Ref!$R:$R,'подбор радиатора TESI'!$AB:$AB,Ref!$Q:$Q)","v":0},1]
["",{"$f":"IF($Z87=\"\",IF($G87=\"\",\"\",\"RR\"&LEFT($G87,1)&$H87&IF($J87<=9,\"0\"&$J87,$J87)&$L87&\"A4\"&LEFT($O87,2)&\"N\"),VLOOKUP($Z87,Ref!$AE:$AG,3,0)&$L87)","v":""},"","",{"$f":"IF($Z87=\"\",IF($G87=\"\",\"\",$D87*$W87*$K$1),VLOOKUP($Z87,Ref!$AE:$AG,2,0)*$Q87*$K$1*(1-$H$4/100))","v":""},{"$nulls":3},{"$f":"SUMIF(pricelist!$W:$W,'подбор радиатора TESI'!$AA87,pricelist!$J:$J)","v":0},null,0,null,{"$f":"IF($L87=\"\",\"\",VLOOKUP($L87,Ref!$D:$J,7,0))","v":""},{"$f":"SUMIF(Ref!$D:$D,'подбор радиатора TESI'!$L:$L,Ref!$E:$E)","v":{"v":0,"d":"0.00"}},null,{"$f":"SUMIF(Ref!$F:$F,'подбор радиатора TESI'!$O:$O,Ref!$G:$G)","v":{"v":0,"d":"0.00"}},null,{"$f":"SUMIF(pricelist!$W:$W,'подбор радиатора TESI'!$AA:$AA,pricelist!$K:$K)*$J87","v":{"v":0,"d":"0.00"}},{"$f":"SUMIF(pricelist!$W:$W,$AA:$AA,INDIRECT($S$12&$S$14))*$J87","v":{"v":0,"d":"0.00"}},0,null,{"$f":"SUMIF(Ref!$H:$H,'подбор радиатора TESI'!$U:$U,Ref!$I:$I)","v":{"v":0,"d":"0.00"}},{"$f":"(($N87*SUMIF(pricelist!$W:$W,'подбор радиатора TESI'!$AA:$AA,pricelist!$S:$S)*$J87)+$P87+IF($U87=\"радиусный\",$V87*$J87,$V87)+IF($J87>$AC87,31*1.13,0))*(1-$H$4/100)","v":{"v":0,"d":"0.00"}},{"$nulls":3},"/","/",{"$f":"SUMIF(Ref!$R:$R,'подбор радиатора TESI'!$AB:$AB,Ref!$Q:$Q)","v":0},1]
["",{"$f":"IF($Z88=\"\",IF($G88=\"\",\"\",\"RR\"&LEFT($G88,1)&$H88&IF($J88<=9,\"0\"&$J88,$J88)&$L88&\"A4\"&LEFT($O88,2)&\"N\"),VLOOKUP($Z88,Ref!$AE:$AG,3,0)&$L88)","v":""},"","",{"$f":"IF($Z88=\"\",IF($G88=\"\",\"\",$D88*$W88*$K$1),VLOOKUP($Z88,Ref!$AE:$AG,2,0)*$Q88*$K$1*(1-$H$4/100))","v":""},{"$nulls":3},{"$f":"SUMIF(pricelist!$W:$W,'подбор радиатора TESI'!$AA88,pricelist!$J:$J)","v":0},null,0,null,{"$f":"IF($L88=\"\",\"\",VLOOKUP($L88,Ref!$D:$J,7,0))","v":""},{"$f":"SUMIF(Ref!$D:$D,'подбор радиатора TESI'!$L:$L,Ref!$E:$E)","v":{"v":0,"d":"0.00"}},null,{"$f":"SUMIF(Ref!$F:$F,'подбор радиатора TESI'!$O:$O,Ref!$G:$G)","v":{"v":0,"d":"0.00"}},null,{"$f":"SUMIF(pricelist!$W:$W,'подбор радиатора TESI'!$AA:$AA,pricelist!$K:$K)*$J88","v":{"v":0,"d":"0.00"}},{"$f":"SUMIF(pricelist!$W:$W,$AA:$AA,INDIRECT($S$12&$S$14))*$J88","v":{"v":0,"d":"0.00"}},0,null,{"$f":"SUMIF(Ref!$H:$H,'подбор радиатора TESI'!$U:$U,Ref!$I:$I)","v":{"v":0,"d":"0.00"}},{"$f":"(($N88*SUMIF(pricelist!$W:$W,'подбор радиатора TESI'!$AA:$AA,pricelist!$S:$S)*$J88)+$P88+IF($U88=\"радиусный\",$V88*$J88,$V88)+IF($J88>$AC88,31*1.13,0))*(1-$H$4/100)","v":{"v":0,"d":"0.00"}},{"$nulls":3},"/","/",{"$f":"SUMIF(Ref!$R:$R,'подбор радиатора TESI'!$AB:$AB,Ref!$Q:$Q)","v":0},1]
["",{"$f":"IF($Z89=\"\",IF($G89=\"\",\"\",\"RR\"&LEFT($G89,1)&$H89&IF($J89<=9,\"0\"&$J89,$J89)&$L89&\"A4\"&LEFT($O89,2)&\"N\"),VLOOKUP($Z89,Ref!$AE:$AG,3,0)&$L89)","v":""},"","",{"$f":"IF($Z89=\"\",IF($G89=\"\",\"\",$D89*$W89*$K$1),VLOOKUP($Z89,Ref!$AE:$AG,2,0)*$Q89*$K$1*(1-$H$4/100))","v":""},{"$nulls":3},{"$f":"SUMIF(pricelist!$W:$W,'подбор радиатора TESI'!$AA89,pricelist!$J:$J)","v":0},null,0,null,{"$f":"IF($L89=\"\",\"\",VLOOKUP($L89,Ref!$D:$J,7,0))","v":""},{"$f":"SUMIF(Ref!$D:$D,'подбор радиатора TESI'!$L:$L,Ref!$E:$E)","v":{"v":0,"d":"0.00"}},null,{"$f":"SUMIF(Ref!$F:$F,'подбор радиатора TESI'!$O:$O,Ref!$G:$G)","v":{"v":0,"d":"0.00"}},null,{"$f":"SUMIF(pricelist!$W:$W,'подбор радиатора TESI'!$AA:$AA,pricelist!$K:$K)*$J89","v":{"v":0,"d":"0.00"}},{"$f":"SUMIF(pricelist!$W:$W,$AA:$AA,INDIRECT($S$12&$S$14))*$J89","v":{"v":0,"d":"0.00"}},0,null,{"$f":"SUMIF(Ref!$H:$H,'подбор радиатора TESI'!$U:$U,Ref!$I:$I)","v":{"v":0,"d":"0.00"}},{"$f":"(($N89*SUMIF(pricelist!$W:$W,'подбор радиатора TESI'!$AA:$AA,pricelist!$S:$S)*$J89)+$P89+IF($U89=\"радиусный\",$V89*$J89,$V89)+IF($J89>$AC89,31*1.13,0))*(1-$H$4/100)","v":{"v":0,"d":"0.00"}},{"$nulls":3},"/","/",{"$f":"SUMIF(Ref!$R:$R,'подбор радиатора TESI'!$AB:$AB,Ref!$Q:$Q)","v":0},1]
["",{"$f":"IF($Z90=\"\",IF($G90=\"\",\"\",\"RR\"&LEFT($G90,1)&$H90&IF($J90<=9,\"0\"&$J90,$J90)&$L90&\"A4\"&LEFT($O90,2)&\"N\"),VLOOKUP($Z90,Ref!$AE:$AG,3,0)&$L90)","v":""},"","",{"$f":"IF($Z90=\"\",IF($G90=\"\",\"\",$D90*$W90*$K$1),VLOOKUP($Z90,Ref!$AE:$AG,2,0)*$Q90*$K$1*(1-$H$4/100))","v":""},{"$nulls":3},{"$f":"SUMIF(pricelist!$W:$W,'подбор радиатора TESI'!$AA90,pricelist!$J:$J)","v":0},null,0,null,{"$f":"IF($L90=\"\",\"\",VLOOKUP($L90,Ref!$D:$J,7,0))","v":""},{"$f":"SUMIF(Ref!$D:$D,'подбор радиатора TESI'!$L:$L,Ref!$E:$E)","v":{"v":0,"d":"0.00"}},null,{"$f":"SUMIF(Ref!$F:$F,'подбор радиатора TESI'!$O:$O,Ref!$G:$G)","v":{"v":0,"d":"0.00"}},null,{"$f":"SUMIF(pricelist!$W:$W,'подбор радиатора TESI'!$AA:$AA,pricelist!$K:$K)*$J90","v":{"v":0,"d":"0.00"}},{"$f":"SUMIF(pricelist!$W:$W,$AA:$AA,INDIRECT($S$12&$S$14))*$J90","v":{"v":0,"d":"0.00"}},0,null,{"$f":"SUMIF(Ref!$H:$H,'подбор радиатора TESI'!$U:$U,Ref!$I:$I)","v":{"v":0,"d":"0.00"}},{"$f":"(($N90*SUMIF(pricelist!$W:$W,'подбор радиатора TESI'!$AA:$AA,pricelist!$S:$S)*$J90)+$P90+IF($U90=\"радиусный\",$V90*$J90,$V90)+IF($J90>$AC90,31*1.13,0))*(1-$H$4/100)","v":{"v":0,"d":"0.00"}},{"$nulls":3},"/","/",{"$f":"SUMIF(Ref!$R:$R,'подбор радиатора TESI'!$AB:$AB,Ref!$Q:$Q)","v":0},1]
["",{"$f":"IF($Z91=\"\",IF($G91=\"\",\"\",\"RR\"&LEFT($G91,1)&$H91&IF($J91<=9,\"0\"&$J91,$J91)&$L91&\"A4\"&LEFT($O91,2)&\"N\"),VLOOKUP($Z91,Ref!$AE:$AG,3,0)&$L91)","v":""},"","",{"$f":"IF($Z91=\"\",IF($G91=\"\",\"\",$D91*$W91*$K$1),VLOOKUP($Z91,Ref!$AE:$AG,2,0)*$Q91*$K$1*(1-$H$4/100))","v":""},{"$nulls":3},{"$f":"SUMIF(pricelist!$W:$W,'подбор радиатора TESI'!$AA91,pricelist!$J:$J)","v":0},null,0,null,{"$f":"IF($L91=\"\",\"\",VLOOKUP($L91,Ref!$D:$J,7,0))","v":""},{"$f":"SUMIF(Ref!$D:$D,'подбор радиатора TESI'!$L:$L,Ref!$E:$E)","v":{"v":0,"d":"0.00"}},null,{"$f":"SUMIF(Ref!$F:$F,'подбор радиатора TESI'!$O:$O,Ref!$G:$G)","v":{"v":0,"d":"0.00"}},null,{"$f":"SUMIF(pricelist!$W:$W,'подбор радиатора TESI'!$AA:$AA,pricelist!$K:$K)*$J91","v":{"v":0,"d":"0.00"}},{"$f":"SUMIF(pricelist!$W:$W,$AA:$AA,INDIRECT($S$12&$S$14))*$J91","v":{"v":0,"d":"0.00"}},0,null,{"$f":"SUMIF(Ref!$H:$H,'подбор радиатора TESI'!$U:$U,Ref!$I:$I)","v":{"v":0,"d":"0.00"}},{"$f":"(($N91*SUMIF(pricelist!$W:$W,'подбор радиатора TESI'!$AA:$AA,pricelist!$S:$S)*$J91)+$P91+IF($U91=\"радиусный\",$V91*$J91,$V91)+IF($J91>$AC91,31*1.13,0))*(1-$H$4/100)","v":{"v":0,"d":"0.00"}},{"$nulls":3},"/","/",{"$f":"SUMIF(Ref!$R:$R,'подбор радиатора TESI'!$AB:$AB,Ref!$Q:$Q)","v":0},1]
["",{"$f":"IF($Z92=\"\",IF($G92=\"\",\"\",\"RR\"&LEFT($G92,1)&$H92&IF($J92<=9,\"0\"&$J92,$J92)&$L92&\"A4\"&LEFT($O92,2)&\"N\"),VLOOKUP($Z92,Ref!$AE:$AG,3,0)&$L92)","v":""},"","",{"$f":"IF($Z92=\"\",IF($G92=\"\",\"\",$D92*$W92*$K$1),VLOOKUP($Z92,Ref!$AE:$AG,2,0)*$Q92*$K$1*(1-$H$4/100))","v":""},{"$nulls":3},{"$f":"SUMIF(pricelist!$W:$W,'подбор радиатора TESI'!$AA92,pricelist!$J:$J)","v":0},null,0,null,{"$f":"IF($L92=\"\",\"\",VLOOKUP($L92,Ref!$D:$J,7,0))","v":""},{"$f":"SUMIF(Ref!$D:$D,'подбор радиатора TESI'!$L:$L,Ref!$E:$E)","v":{"v":0,"d":"0.00"}},null,{"$f":"SUMIF(Ref!$F:$F,'подбор радиатора TESI'!$O:$O,Ref!$G:$G)","v":{"v":0,"d":"0.00"}},null,{"$f":"SUMIF(pricelist!$W:$W,'подбор радиатора TESI'!$AA:$AA,pricelist!$K:$K)*$J92","v":{"v":0,"d":"0.00"}},{"$f":"SUMIF(pricelist!$W:$W,$AA:$AA,INDIRECT($S$12&$S$14))*$J92","v":{"v":0,"d":"0.00"}},0,null,{"$f":"SUMIF(Ref!$H:$H,'подбор радиатора TESI'!$U:$U,Ref!$I:$I)","v":{"v":0,"d":"0.00"}},{"$f":"(($N92*SUMIF(pricelist!$W:$W,'подбор радиатора TESI'!$AA:$AA,pricelist!$S:$S)*$J92)+$P92+IF($U92=\"радиусный\",$V92*$J92,$V92)+IF($J92>$AC92,31*1.13,0))*(1-$H$4/100)","v":{"v":0,"d":"0.00"}},{"$nulls":3},"/","/",{"$f":"SUMIF(Ref!$R:$R,'подбор радиатора TESI'!$AB:$AB,Ref!$Q:$Q)","v":0},1]
["",{"$f":"IF($Z93=\"\",IF($G93=\"\",\"\",\"RR\"&LEFT($G93,1)&$H93&IF($J93<=9,\"0\"&$J93,$J93)&$L93&\"A4\"&LEFT($O93,2)&\"N\"),VLOOKUP($Z93,Ref!$AE:$AG,3,0)&$L93)","v":""},"","",{"$f":"IF($Z93=\"\",IF($G93=\"\",\"\",$D93*$W93*$K$1),VLOOKUP($Z93,Ref!$AE:$AG,2,0)*$Q93*$K$1*(1-$H$4/100))","v":""},{"$nulls":3},{"$f":"SUMIF(pricelist!$W:$W,'подбор радиатора TESI'!$AA93,pricelist!$J:$J)","v":0},null,0,null,{"$f":"IF($L93=\"\",\"\",VLOOKUP($L93,Ref!$D:$J,7,0))","v":""},{"$f":"SUMIF(Ref!$D:$D,'подбор радиатора TESI'!$L:$L,Ref!$E:$E)","v":{"v":0,"d":"0.00"}},null,{"$f":"SUMIF(Ref!$F:$F,'подбор радиатора TESI'!$O:$O,Ref!$G:$G)","v":{"v":0,"d":"0.00"}},null,{"$f":"SUMIF(pricelist!$W:$W,'подбор радиатора TESI'!$AA:$AA,pricelist!$K:$K)*$J93","v":{"v":0,"d":"0.00"}},{"$f":"SUMIF(pricelist!$W:$W,$AA:$AA,INDIRECT($S$12&$S$14))*$J93","v":{"v":0,"d":"0.00"}},0,null,{"$f":"SUMIF(Ref!$H:$H,'подбор радиатора TESI'!$U:$U,Ref!$I:$I)","v":{"v":0,"d":"0.00"}},{"$f":"(($N93*SUMIF(pricelist!$W:$W,'подбор радиатора TESI'!$AA:$AA,pricelist!$S:$S)*$J93)+$P93+IF($U93=\"радиусный\",$V93*$J93,$V93)+IF($J93>$AC93,31*1.13,0))*(1-$H$4/100)","v":{"v":0,"d":"0.00"}},{"$nulls":3},"/","/",{"$f":"SUMIF(Ref!$R:$R,'подбор радиатора TESI'!$AB:$AB,Ref!$Q:$Q)","v":0},1]
["",{"$f":"IF($Z94=\"\",IF($G94=\"\",\"\",\"RR\"&LEFT($G94,1)&$H94&IF($J94<=9,\"0\"&$J94,$J94)&$L94&\"A4\"&LEFT($O94,2)&\"N\"),VLOOKUP($Z94,Ref!$AE:$AG,3,0)&$L94)","v":""},"","",{"$f":"IF($Z94=\"\",IF($G94=\"\",\"\",$D94*$W94*$K$1),VLOOKUP($Z94,Ref!$AE:$AG,2,0)*$Q94*$K$1*(1-$H$4/100))","v":""},{"$nulls":3},{"$f":"SUMIF(pricelist!$W:$W,'подбор радиатора TESI'!$AA94,pricelist!$J:$J)","v":0},null,0,null,{"$f":"IF($L94=\"\",\"\",VLOOKUP($L94,Ref!$D:$J,7,0))","v":""},{"$f":"SUMIF(Ref!$D:$D,'подбор радиатора TESI'!$L:$L,Ref!$E:$E)","v":{"v":0,"d":"0.00"}},null,{"$f":"SUMIF(Ref!$F:$F,'подбор радиатора TESI'!$O:$O,Ref!$G:$G)","v":{"v":0,"d":"0.00"}},null,{"$f":"SUMIF(pricelist!$W:$W,'подбор радиатора TESI'!$AA:$AA,pricelist!$K:$K)*$J94","v":{"v":0,"d":"0.00"}},{"$f":"SUMIF(pricelist!$W:$W,$AA:$AA,INDIRECT($S$12&$S$14))*$J94","v":{"v":0,"d":"0.00"}},0,null,{"$f":"SUMIF(Ref!$H:$H,'подбор радиатора TESI'!$U:$U,Ref!$I:$I)","v":{"v":0,"d":"0.00"}},{"$f":"(($N94*SUMIF(pricelist!$W:$W,'подбор радиатора TESI'!$AA:$AA,pricelist!$S:$S)*$J94)+$P94+IF($U94=\"радиусный\",$V94*$J94,$V94)+IF($J94>$AC94,31*1.13,0))*(1-$H$4/100)","v":{"v":0,"d":"0.00"}},{"$nulls":3},"/","/",{"$f":"SUMIF(Ref!$R:$R,'подбор радиатора TESI'!$AB:$AB,Ref!$Q:$Q)","v":0},1]
["",{"$f":"IF($Z95=\"\",IF($G95=\"\",\"\",\"RR\"&LEFT($G95,1)&$H95&IF($J95<=9,\"0\"&$J95,$J95)&$L95&\"A4\"&LEFT($O95,2)&\"N\"),VLOOKUP($Z95,Ref!$AE:$AG,3,0)&$L95)","v":""},"","",{"$f":"IF($Z95=\"\",IF($G95=\"\",\"\",$D95*$W95*$K$1),VLOOKUP($Z95,Ref!$AE:$AG,2,0)*$Q95*$K$1*(1-$H$4/100))","v":""},{"$nulls":3},{"$f":"SUMIF(pricelist!$W:$W,'подбор радиатора TESI'!$AA95,pricelist!$J:$J)","v":0},null,0,null,{"$f":"IF($L95=\"\",\"\",VLOOKUP($L95,Ref!$D:$J,7,0))","v":""},{"$f":"SUMIF(Ref!$D:$D,'подбор радиатора TESI'!$L:$L,Ref!$E:$E)","v":{"v":0,"d":"0.00"}},null,{"$f":"SUMIF(Ref!$F:$F,'подбор радиатора TESI'!$O:$O,Ref!$G:$G)","v":{"v":0,"d":"0.00"}},null,{"$f":"SUMIF(pricelist!$W:$W,'подбор радиатора TESI'!$AA:$AA,pricelist!$K:$K)*$J95","v":{"v":0,"d":"0.00"}},{"$f":"SUMIF(pricelist!$W:$W,$AA:$AA,INDIRECT($S$12&$S$14))*$J95","v":{"v":0,"d":"0.00"}},0,null,{"$f":"SUMIF(Ref!$H:$H,'подбор радиатора TESI'!$U:$U,Ref!$I:$I)","v":{"v":0,"d":"0.00"}},{"$f":"(($N95*SUMIF(pricelist!$W:$W,'подбор радиатора TESI'!$AA:$AA,pricelist!$S:$S)*$J95)+$P95+IF($U95=\"радиусный\",$V95*$J95,$V95)+IF($J95>$AC95,31*1.13,0))*(1-$H$4/100)","v":{"v":0,"d":"0.00"}},{"$nulls":3},"/","/",{"$f":"SUMIF(Ref!$R:$R,'подбор радиатора TESI'!$AB:$AB,Ref!$Q:$Q)","v":0},1]
["",{"$f":"IF($Z96=\"\",IF($G96=\"\",\"\",\"RR\"&LEFT($G96,1)&$H96&IF($J96<=9,\"0\"&$J96,$J96)&$L96&\"A4\"&LEFT($O96,2)&\"N\"),VLOOKUP($Z96,Ref!$AE:$AG,3,0)&$L96)","v":""},"","",{"$f":"IF($Z96=\"\",IF($G96=\"\",\"\",$D96*$W96*$K$1),VLOOKUP($Z96,Ref!$AE:$AG,2,0)*$Q96*$K$1*(1-$H$4/100))","v":""},{"$nulls":3},{"$f":"SUMIF(pricelist!$W:$W,'подбор радиатора TESI'!$AA96,pricelist!$J:$J)","v":0},null,0,null,{"$f":"IF($L96=\"\",\"\",VLOOKUP($L96,Ref!$D:$J,7,0))","v":""},{"$f":"SUMIF(Ref!$D:$D,'подбор радиатора TESI'!$L:$L,Ref!$E:$E)","v":{"v":0,"d":"0.00"}},null,{"$f":"SUMIF(Ref!$F:$F,'подбор радиатора TESI'!$O:$O,Ref!$G:$G)","v":{"v":0,"d":"0.00"}},null,{"$f":"SUMIF(pricelist!$W:$W,'подбор радиатора TESI'!$AA:$AA,pricelist!$K:$K)*$J96","v":{"v":0,"d":"0.00"}},{"$f":"SUMIF(pricelist!$W:$W,$AA:$AA,INDIRECT($S$12&$S$14))*$J96","v":{"v":0,"d":"0.00"}},0,null,{"$f":"SUMIF(Ref!$H:$H,'подбор радиатора TESI'!$U:$U,Ref!$I:$I)","v":{"v":0,"d":"0.00"}},{"$f":"(($N96*SUMIF(pricelist!$W:$W,'подбор радиатора TESI'!$AA:$AA,pricelist!$S:$S)*$J96)+$P96+IF($U96=\"радиусный\",$V96*$J96,$V96)+IF($J96>$AC96,31*1.13,0))*(1-$H$4/100)","v":{"v":0,"d":"0.00"}},{"$nulls":3},"/","/",{"$f":"SUMIF(Ref!$R:$R,'подбор радиатора TESI'!$AB:$AB,Ref!$Q:$Q)","v":0},1]
["",{"$f":"IF($Z97=\"\",IF($G97=\"\",\"\",\"RR\"&LEFT($G97,1)&$H97&IF($J97<=9,\"0\"&$J97,$J97)&$L97&\"A4\"&LEFT($O97,2)&\"N\"),VLOOKUP($Z97,Ref!$AE:$AG,3,0)&$L97)","v":""},"","",{"$f":"IF($Z97=\"\",IF($G97=\"\",\"\",$D97*$W97*$K$1),VLOOKUP($Z97,Ref!$AE:$AG,2,0)*$Q97*$K$1*(1-$H$4/100))","v":""},{"$nulls":3},{"$f":"SUMIF(pricelist!$W:$W,'подбор радиатора TESI'!$AA97,pricelist!$J:$J)","v":0},null,0,null,{"$f":"IF($L97=\"\",\"\",VLOOKUP($L97,Ref!$D:$J,7,0))","v":""},{"$f":"SUMIF(Ref!$D:$D,'подбор радиатора TESI'!$L:$L,Ref!$E:$E)","v":{"v":0,"d":"0.00"}},null,{"$f":"SUMIF(Ref!$F:$F,'подбор радиатора TESI'!$O:$O,Ref!$G:$G)","v":{"v":0,"d":"0.00"}},null,{"$f":"SUMIF(pricelist!$W:$W,'подбор радиатора TESI'!$AA:$AA,pricelist!$K:$K)*$J97","v":{"v":0,"d":"0.00"}},{"$f":"SUMIF(pricelist!$W:$W,$AA:$AA,INDIRECT($S$12&$S$14))*$J97","v":{"v":0,"d":"0.00"}},0,null,{"$f":"SUMIF(Ref!$H:$H,'подбор радиатора TESI'!$U:$U,Ref!$I:$I)","v":{"v":0,"d":"0.00"}},{"$f":"(($N97*SUMIF(pricelist!$W:$W,'подбор радиатора TESI'!$AA:$AA,pricelist!$S:$S)*$J97)+$P97+IF($U97=\"радиусный\",$V97*$J97,$V97)+IF($J97>$AC97,31*1.13,0))*(1-$H$4/100)","v":{"v":0,"d":"0.00"}},{"$nulls":3},"/","/",{"$f":"SUMIF(Ref!$R:$R,'подбор радиатора TESI'!$AB:$AB,Ref!$Q:$Q)","v":0},1]
["",{"$f":"IF($Z98=\"\",IF($G98=\"\",\"\",\"RR\"&LEFT($G98,1)&$H98&IF($J98<=9,\"0\"&$J98,$J98)&$L98&\"A4\"&LEFT($O98,2)&\"N\"),VLOOKUP($Z98,Ref!$AE:$AG,3,0)&$L98)","v":""},"","",{"$f":"IF($Z98=\"\",IF($G98=\"\",\"\",$D98*$W98*$K$1),VLOOKUP($Z98,Ref!$AE:$AG,2,0)*$Q98*$K$1*(1-$H$4/100))","v":""},{"$nulls":3},{"$f":"SUMIF(pricelist!$W:$W,'подбор радиатора TESI'!$AA98,pricelist!$J:$J)","v":0},null,0,null,{"$f":"IF($L98=\"\",\"\",VLOOKUP($L98,Ref!$D:$J,7,0))","v":""},{"$f":"SUMIF(Ref!$D:$D,'подбор радиатора TESI'!$L:$L,Ref!$E:$E)","v":{"v":0,"d":"0.00"}},null,{"$f":"SUMIF(Ref!$F:$F,'подбор радиатора TESI'!$O:$O,Ref!$G:$G)","v":{"v":0,"d":"0.00"}},null,{"$f":"SUMIF(pricelist!$W:$W,'подбор радиатора TESI'!$AA:$AA,pricelist!$K:$K)*$J98","v":{"v":0,"d":"0.00"}},{"$f":"SUMIF(pricelist!$W:$W,$AA:$AA,INDIRECT($S$12&$S$14))*$J98","v":{"v":0,"d":"0.00"}},0,null,{"$f":"SUMIF(Ref!$H:$H,'подбор радиатора TESI'!$U:$U,Ref!$I:$I)","v":{"v":0,"d":"0.00"}},{"$f":"(($N98*SUMIF(pricelist!$W:$W,'подбор радиатора TESI'!$AA:$AA,pricelist!$S:$S)*$J98)+$P98+IF($U98=\"радиусный\",$V98*$J98,$V98)+IF($J98>$AC98,31*1.13,0))*(1-$H$4/100)","v":{"v":0,"d":"0.00"}},{"$nulls":3},"/","/",{"$f":"SUMIF(Ref!$R:$R,'подбор радиатора TESI'!$AB:$AB,Ref!$Q:$Q)","v":0},1]
["",{"$f":"IF($Z99=\"\",IF($G99=\"\",\"\",\"RR\"&LEFT($G99,1)&$H99&IF($J99<=9,\"0\"&$J99,$J99)&$L99&\"A4\"&LEFT($O99,2)&\"N\"),VLOOKUP($Z99,Ref!$AE:$AG,3,0)&$L99)","v":""},"","",{"$f":"IF($Z99=\"\",IF($G99=\"\",\"\",$D99*$W99*$K$1),VLOOKUP($Z99,Ref!$AE:$AG,2,0)*$Q99*$K$1*(1-$H$4/100))","v":""},{"$nulls":3},{"$f":"SUMIF(pricelist!$W:$W,'подбор радиатора TESI'!$AA99,pricelist!$J:$J)","v":0},null,0,null,{"$f":"IF($L99=\"\",\"\",VLOOKUP($L99,Ref!$D:$J,7,0))","v":""},{"$f":"SUMIF(Ref!$D:$D,'подбор радиатора TESI'!$L:$L,Ref!$E:$E)","v":{"v":0,"d":"0.00"}},null,{"$f":"SUMIF(Ref!$F:$F,'подбор радиатора TESI'!$O:$O,Ref!$G:$G)","v":{"v":0,"d":"0.00"}},null,{"$f":"SUMIF(pricelist!$W:$W,'подбор радиатора TESI'!$AA:$AA,pricelist!$K:$K)*$J99","v":{"v":0,"d":"0.00"}},{"$f":"SUMIF(pricelist!$W:$W,$AA:$AA,INDIRECT($S$12&$S$14))*$J99","v":{"v":0,"d":"0.00"}},0,null,{"$f":"SUMIF(Ref!$H:$H,'подбор радиатора TESI'!$U:$U,Ref!$I:$I)","v":{"v":0,"d":"0.00"}},{"$f":"(($N99*SUMIF(pricelist!$W:$W,'подбор радиатора TESI'!$AA:$AA,pricelist!$S:$S)*$J99)+$P99+IF($U99=\"радиусный\",$V99*$J99,$V99)+IF($J99>$AC99,31*1.13,0))*(1-$H$4/100)","v":{"v":0,"d":"0.00"}},{"$nulls":3},"/","/",{"$f":"SUMIF(Ref!$R:$R,'подбор радиатора TESI'!$AB:$AB,Ref!$Q:$Q)","v":0},1]
["",{"$f":"IF($Z100=\"\",IF($G100=\"\",\"\",\"RR\"&LEFT($G100,1)&$H100&IF($J100<=9,\"0\"&$J100,$J100)&$L100&\"A4\"&LEFT($O100,2)&\"N\"),VLOOKUP($Z100,Ref!$AE:$AG,3,0)&$L100)","v":""},"","",{"$f":"IF($Z100=\"\",IF($G100=\"\",\"\",$D100*$W100*$K$1),VLOOKUP($Z100,Ref!$AE:$AG,2,0)*$Q100*$K$1*(1-$H$4/100))","v":""},{"$nulls":3},{"$f":"SUMIF(pricelist!$W:$W,'подбор радиатора TESI'!$AA100,pricelist!$J:$J)","v":0},null,0,null,{"$f":"IF($L100=\"\",\"\",VLOOKUP($L100,Ref!$D:$J,7,0))","v":""},{"$f":"SUMIF(Ref!$D:$D,'подбор радиатора TESI'!$L:$L,Ref!$E:$E)","v":{"v":0,"d":"0.00"}},null,{"$f":"SUMIF(Ref!$F:$F,'подбор радиатора TESI'!$O:$O,Ref!$G:$G)","v":{"v":0,"d":"0.00"}},null,{"$f":"SUMIF(pricelist!$W:$W,'подбор радиатора TESI'!$AA:$AA,pricelist!$K:$K)*$J100","v":{"v":0,"d":"0.00"}},{"$f":"SUMIF(pricelist!$W:$W,$AA:$AA,INDIRECT($S$12&$S$14))*$J100","v":{"v":0,"d":"0.00"}},0,null,{"$f":"SUMIF(Ref!$H:$H,'подбор радиатора TESI'!$U:$U,Ref!$I:$I)","v":{"v":0,"d":"0.00"}},{"$f":"(($N100*SUMIF(pricelist!$W:$W,'подбор радиатора TESI'!$AA:$AA,pricelist!$S:$S)*$J100)+$P100+IF($U100=\"радиусный\",$V100*$J100,$V100)+IF($J100>$AC100,31*1.13,0))*(1-$H$4/100)","v":{"v":0,"d":"0.00"}},{"$nulls":3},"/","/",{"$f":"SUMIF(Ref!$R:$R,'подбор радиатора TESI'!$AB:$AB,Ref!$Q:$Q)","v":0},1]
["",{"$f":"IF($Z101=\"\",IF($G101=\"\",\"\",\"RR\"&LEFT($G101,1)&$H101&IF($J101<=9,\"0\"&$J101,$J101)&$L101&\"A4\"&LEFT($O101,2)&\"N\"),VLOOKUP($Z101,Ref!$AE:$AG,3,0)&$L101)","v":""},"","",{"$f":"IF($Z101=\"\",IF($G101=\"\",\"\",$D101*$W101*$K$1),VLOOKUP($Z101,Ref!$AE:$AG,2,0)*$Q101*$K$1*(1-$H$4/100))","v":""},{"$nulls":3},{"$f":"SUMIF(pricelist!$W:$W,'подбор радиатора TESI'!$AA101,pricelist!$J:$J)","v":0},null,0,null,{"$f":"IF($L101=\"\",\"\",VLOOKUP($L101,Ref!$D:$J,7,0))","v":""},{"$f":"SUMIF(Ref!$D:$D,'подбор радиатора TESI'!$L:$L,Ref!$E:$E)","v":{"v":0,"d":"0.00"}},null,{"$f":"SUMIF(Ref!$F:$F,'подбор радиатора TESI'!$O:$O,Ref!$G:$G)","v":{"v":0,"d":"0.00"}},null,{"$f":"SUMIF(pricelist!$W:$W,'подбор радиатора TESI'!$AA:$AA,pricelist!$K:$K)*$J101","v":{"v":0,"d":"0.00"}},{"$f":"SUMIF(pricelist!$W:$W,$AA:$AA,INDIRECT($S$12&$S$14))*$J101","v":{"v":0,"d":"0.00"}},0,null,{"$f":"SUMIF(Ref!$H:$H,'подбор радиатора TESI'!$U:$U,Ref!$I:$I)","v":{"v":0,"d":"0.00"}},{"$f":"(($N101*SUMIF(pricelist!$W:$W,'подбор радиатора TESI'!$AA:$AA,pricelist!$S:$S)*$J101)+$P101+IF($U101=\"радиусный\",$V101*$J101,$V101)+IF($J101>$AC101,31*1.13,0))*(1-$H$4/100)","v":{"v":0,"d":"0.00"}},{"$nulls":3},"/","/",{"$f":"SUMIF(Ref!$R:$R,'подбор радиатора TESI'!$AB:$AB,Ref!$Q:$Q)","v":0},1]
["",{"$f":"IF($Z102=\"\",IF($G102=\"\",\"\",\"RR\"&LEFT($G102,1)&$H102&IF($J102<=9,\"0\"&$J102,$J102)&$L102&\"A4\"&LEFT($O102,2)&\"N\"),VLOOKUP($Z102,Ref!$AE:$AG,3,0)&$L102)","v":""},"","",{"$f":"IF($Z102=\"\",IF($G102=\"\",\"\",$D102*$W102*$K$1),VLOOKUP($Z102,Ref!$AE:$AG,2,0)*$Q102*$K$1*(1-$H$4/100))","v":""},{"$nulls":3},{"$f":"SUMIF(pricelist!$W:$W,'подбор радиатора TESI'!$AA102,pricelist!$J:$J)","v":0},null,0,null,{"$f":"IF($L102=\"\",\"\",VLOOKUP($L102,Ref!$D:$J,7,0))","v":""},{"$f":"SUMIF(Ref!$D:$D,'подбор радиатора TESI'!$L:$L,Ref!$E:$E)","v":{"v":0,"d":"0.00"}},null,{"$f":"SUMIF(Ref!$F:$F,'подбор радиатора TESI'!$O:$O,Ref!$G:$G)","v":{"v":0,"d":"0.00"}},null,{"$f":"SUMIF(pricelist!$W:$W,'подбор радиатора TESI'!$AA:$AA,pricelist!$K:$K)*$J102","v":{"v":0,"d":"0.00"}},{"$f":"SUMIF(pricelist!$W:$W,$AA:$AA,INDIRECT($S$12&$S$14))*$J102","v":{"v":0,"d":"0.00"}},0,null,{"$f":"SUMIF(Ref!$H:$H,'подбор радиатора TESI'!$U:$U,Ref!$I:$I)","v":{"v":0,"d":"0.00"}},{"$f":"(($N102*SUMIF(pricelist!$W:$W,'подбор радиатора TESI'!$AA:$AA,pricelist!$S:$S)*$J102)+$P102+IF($U102=\"радиусный\",$V102*$J102,$V102)+IF($J102>$AC102,31*1.13,0))*(1-$H$4/100)","v":{"v":0,"d":"0.00"}},{"$nulls":3},"/","/",{"$f":"SUMIF(Ref!$R:$R,'подбор радиатора TESI'!$AB:$AB,Ref!$Q:$Q)","v":0},1]
["",{"$f":"IF($Z103=\"\",IF($G103=\"\",\"\",\"RR\"&LEFT($G103,1)&$H103&IF($J103<=9,\"0\"&$J103,$J103)&$L103&\"A4\"&LEFT($O103,2)&\"N\"),VLOOKUP($Z103,Ref!$AE:$AG,3,0)&$L103)","v":""},"","",{"$f":"IF($Z103=\"\",IF($G103=\"\",\"\",$D103*$W103*$K$1),VLOOKUP($Z103,Ref!$AE:$AG,2,0)*$Q103*$K$1*(1-$H$4/100))","v":""},{"$nulls":3},{"$f":"SUMIF(pricelist!$W:$W,'подбор радиатора TESI'!$AA103,pricelist!$J:$J)","v":0},null,0,null,{"$f":"IF($L103=\"\",\"\",VLOOKUP($L103,Ref!$D:$J,7,0))","v":""},{"$f":"SUMIF(Ref!$D:$D,'подбор радиатора TESI'!$L:$L,Ref!$E:$E)","v":{"v":0,"d":"0.00"}},null,{"$f":"SUMIF(Ref!$F:$F,'подбор радиатора TESI'!$O:$O,Ref!$G:$G)","v":{"v":0,"d":"0.00"}},null,{"$f":"SUMIF(pricelist!$W:$W,'подбор радиатора TESI'!$AA:$AA,pricelist!$K:$K)*$J103","v":{"v":0,"d":"0.00"}},{"$f":"SUMIF(pricelist!$W:$W,$AA:$AA,INDIRECT($S$12&$S$14))*$J103","v":{"v":0,"d":"0.00"}},0,null,{"$f":"SUMIF(Ref!$H:$H,'подбор радиатора TESI'!$U:$U,Ref!$I:$I)","v":{"v":0,"d":"0.00"}},{"$f":"(($N103*SUMIF(pricelist!$W:$W,'подбор радиатора TESI'!$AA:$AA,pricelist!$S:$S)*$J103)+$P103+IF($U103=\"радиусный\",$V103*$J103,$V103)+IF($J103>$AC103,31*1.13,0))*(1-$H$4/100)","v":{"v":0,"d":"0.00"}},{"$nulls":3},"/","/",{"$f":"SUMIF(Ref!$R:$R,'подбор радиатора TESI'!$AB:$AB,Ref!$Q:$Q)","v":0},1]
["",{"$f":"IF($Z104=\"\",IF($G104=\"\",\"\",\"RR\"&LEFT($G104,1)&$H104&IF($J104<=9,\"0\"&$J104,$J104)&$L104&\"A4\"&LEFT($O104,2)&\"N\"),VLOOKUP($Z104,Ref!$AE:$AG,3,0)&$L104)","v":""},"","",{"$f":"IF($Z104=\"\",IF($G104=\"\",\"\",$D104*$W104*$K$1),VLOOKUP($Z104,Ref!$AE:$AG,2,0)*$Q104*$K$1*(1-$H$4/100))","v":""},{"$nulls":3},{"$f":"SUMIF(pricelist!$W:$W,'подбор радиатора TESI'!$AA104,pricelist!$J:$J)","v":0},null,0,null,{"$f":"IF($L104=\"\",\"\",VLOOKUP($L104,Ref!$D:$J,7,0))","v":""},{"$f":"SUMIF(Ref!$D:$D,'подбор радиатора TESI'!$L:$L,Ref!$E:$E)","v":{"v":0,"d":"0.00"}},null,{"$f":"SUMIF(Ref!$F:$F,'подбор радиатора TESI'!$O:$O,Ref!$G:$G)","v":{"v":0,"d":"0.00"}},null,{"$f":"SUMIF(pricelist!$W:$W,'подбор радиатора TESI'!$AA:$AA,pricelist!$K:$K)*$J104","v":{"v":0,"d":"0.00"}},{"$f":"SUMIF(pricelist!$W:$W,$AA:$AA,INDIRECT($S$12&$S$14))*$J104","v":{"v":0,"d":"0.00"}},0,null,{"$f":"SUMIF(Ref!$H:$H,'подбор радиатора TESI'!$U:$U,Ref!$I:$I)","v":{"v":0,"d":"0.00"}},{"$f":"(($N104*SUMIF(pricelist!$W:$W,'подбор радиатора TESI'!$AA:$AA,pricelist!$S:$S)*$J104)+$P104+IF($U104=\"радиусный\",$V104*$J104,$V104)+IF($J104>$AC104,31*1.13,0))*(1-$H$4/100)","v":{"v":0,"d":"0.00"}},{"$nulls":3},"/","/",{"$f":"SUMIF(Ref!$R:$R,'подбор радиатора TESI'!$AB:$AB,Ref!$Q:$Q)","v":0},1]
["",{"$f":"IF($Z105=\"\",IF($G105=\"\",\"\",\"RR\"&LEFT($G105,1)&$H105&IF($J105<=9,\"0\"&$J105,$J105)&$L105&\"A4\"&LEFT($O105,2)&\"N\"),VLOOKUP($Z105,Ref!$AE:$AG,3,0)&$L105)","v":""},"","",{"$f":"IF($Z105=\"\",IF($G105=\"\",\"\",$D105*$W105*$K$1),VLOOKUP($Z105,Ref!$AE:$AG,2,0)*$Q105*$K$1*(1-$H$4/100))","v":""},{"$nulls":3},{"$f":"SUMIF(pricelist!$W:$W,'подбор радиатора TESI'!$AA105,pricelist!$J:$J)","v":0},null,0,null,{"$f":"IF($L105=\"\",\"\",VLOOKUP($L105,Ref!$D:$J,7,0))","v":""},{"$f":"SUMIF(Ref!$D:$D,'подбор радиатора TESI'!$L:$L,Ref!$E:$E)","v":{"v":0,"d":"0.00"}},null,{"$f":"SUMIF(Ref!$F:$F,'подбор радиатора TESI'!$O:$O,Ref!$G:$G)","v":{"v":0,"d":"0.00"}},null,{"$f":"SUMIF(pricelist!$W:$W,'подбор радиатора TESI'!$AA:$AA,pricelist!$K:$K)*$J105","v":{"v":0,"d":"0.00"}},{"$f":"SUMIF(pricelist!$W:$W,$AA:$AA,INDIRECT($S$12&$S$14))*$J105","v":{"v":0,"d":"0.00"}},0,null,{"$f":"SUMIF(Ref!$H:$H,'подбор радиатора TESI'!$U:$U,Ref!$I:$I)","v":{"v":0,"d":"0.00"}},{"$f":"(($N105*SUMIF(pricelist!$W:$W,'подбор радиатора TESI'!$AA:$AA,pricelist!$S:$S)*$J105)+$P105+IF($U105=\"радиусный\",$V105*$J105,$V105)+IF($J105>$AC105,31*1.13,0))*(1-$H$4/100)","v":{"v":0,"d":"0.00"}},{"$nulls":3},"/","/",{"$f":"SUMIF(Ref!$R:$R,'подбор радиатора TESI'!$AB:$AB,Ref!$Q:$Q)","v":0},1]
["",{"$f":"IF($Z106=\"\",IF($G106=\"\",\"\",\"RR\"&LEFT($G106,1)&$H106&IF($J106<=9,\"0\"&$J106,$J106)&$L106&\"A4\"&LEFT($O106,2)&\"N\"),VLOOKUP($Z106,Ref!$AE:$AG,3,0)&$L106)","v":""},"","",{"$f":"IF($Z106=\"\",IF($G106=\"\",\"\",$D106*$W106*$K$1),VLOOKUP($Z106,Ref!$AE:$AG,2,0)*$Q106*$K$1*(1-$H$4/100))","v":""},{"$nulls":3},{"$f":"SUMIF(pricelist!$W:$W,'подбор радиатора TESI'!$AA106,pricelist!$J:$J)","v":0},null,0,null,{"$f":"IF($L106=\"\",\"\",VLOOKUP($L106,Ref!$D:$J,7,0))","v":""},{"$f":"SUMIF(Ref!$D:$D,'подбор радиатора TESI'!$L:$L,Ref!$E:$E)","v":{"v":0,"d":"0.00"}},null,{"$f":"SUMIF(Ref!$F:$F,'подбор радиатора TESI'!$O:$O,Ref!$G:$G)","v":{"v":0,"d":"0.00"}},null,{"$f":"SUMIF(pricelist!$W:$W,'подбор радиатора TESI'!$AA:$AA,pricelist!$K:$K)*$J106","v":{"v":0,"d":"0.00"}},{"$f":"SUMIF(pricelist!$W:$W,$AA:$AA,INDIRECT($S$12&$S$14))*$J106","v":{"v":0,"d":"0.00"}},0,null,{"$f":"SUMIF(Ref!$H:$H,'подбор радиатора TESI'!$U:$U,Ref!$I:$I)","v":{"v":0,"d":"0.00"}},{"$f":"(($N106*SUMIF(pricelist!$W:$W,'подбор радиатора TESI'!$AA:$AA,pricelist!$S:$S)*$J106)+$P106+IF($U106=\"радиусный\",$V106*$J106,$V106)+IF($J106>$AC106,31*1.13,0))*(1-$H$4/100)","v":{"v":0,"d":"0.00"}},{"$nulls":3},"/","/",{"$f":"SUMIF(Ref!$R:$R,'подбор радиатора TESI'!$AB:$AB,Ref!$Q:$Q)","v":0},1]
["",{"$f":"IF($Z107=\"\",IF($G107=\"\",\"\",\"RR\"&LEFT($G107,1)&$H107&IF($J107<=9,\"0\"&$J107,$J107)&$L107&\"A4\"&LEFT($O107,2)&\"N\"),VLOOKUP($Z107,Ref!$AE:$AG,3,0)&$L107)","v":""},"","",{"$f":"IF($Z107=\"\",IF($G107=\"\",\"\",$D107*$W107*$K$1),VLOOKUP($Z107,Ref!$AE:$AG,2,0)*$Q107*$K$1*(1-$H$4/100))","v":""},{"$nulls":3},{"$f":"SUMIF(pricelist!$W:$W,'подбор радиатора TESI'!$AA107,pricelist!$J:$J)","v":0},null,0,null,{"$f":"IF($L107=\"\",\"\",VLOOKUP($L107,Ref!$D:$J,7,0))","v":""},{"$f":"SUMIF(Ref!$D:$D,'подбор радиатора TESI'!$L:$L,Ref!$E:$E)","v":{"v":0,"d":"0.00"}},null,{"$f":"SUMIF(Ref!$F:$F,'подбор радиатора TESI'!$O:$O,Ref!$G:$G)","v":{"v":0,"d":"0.00"}},null,{"$f":"SUMIF(pricelist!$W:$W,'подбор радиатора TESI'!$AA:$AA,pricelist!$K:$K)*$J107","v":{"v":0,"d":"0.00"}},{"$f":"SUMIF(pricelist!$W:$W,$AA:$AA,INDIRECT($S$12&$S$14))*$J107","v":{"v":0,"d":"0.00"}},0,null,{"$f":"SUMIF(Ref!$H:$H,'подбор радиатора TESI'!$U:$U,Ref!$I:$I)","v":{"v":0,"d":"0.00"}},{"$f":"(($N107*SUMIF(pricelist!$W:$W,'подбор радиатора TESI'!$AA:$AA,pricelist!$S:$S)*$J107)+$P107+IF($U107=\"радиусный\",$V107*$J107,$V107)+IF($J107>$AC107,31*1.13,0))*(1-$H$4/100)","v":{"v":0,"d":"0.00"}},{"$nulls":3},"/","/",{"$f":"SUMIF(Ref!$R:$R,'подбор радиатора TESI'!$AB:$AB,Ref!$Q:$Q)","v":0},1]
["",{"$f":"IF($Z108=\"\",IF($G108=\"\",\"\",\"RR\"&LEFT($G108,1)&$H108&IF($J108<=9,\"0\"&$J108,$J108)&$L108&\"A4\"&LEFT($O108,2)&\"N\"),VLOOKUP($Z108,Ref!$AE:$AG,3,0)&$L108)","v":""},"","",{"$f":"IF($Z108=\"\",IF($G108=\"\",\"\",$D108*$W108*$K$1),VLOOKUP($Z108,Ref!$AE:$AG,2,0)*$Q108*$K$1*(1-$H$4/100))","v":""},{"$nulls":3},{"$f":"SUMIF(pricelist!$W:$W,'подбор радиатора TESI'!$AA108,pricelist!$J:$J)","v":0},null,0,null,{"$f":"IF($L108=\"\",\"\",VLOOKUP($L108,Ref!$D:$J,7,0))","v":""},{"$f":"SUMIF(Ref!$D:$D,'подбор радиатора TESI'!$L:$L,Ref!$E:$E)","v":{"v":0,"d":"0.00"}},null,{"$f":"SUMIF(Ref!$F:$F,'подбор радиатора TESI'!$O:$O,Ref!$G:$G)","v":{"v":0,"d":"0.00"}},null,{"$f":"SUMIF(pricelist!$W:$W,'подбор радиатора TESI'!$AA:$AA,pricelist!$K:$K)*$J108","v":{"v":0,"d":"0.00"}},{"$f":"SUMIF(pricelist!$W:$W,$AA:$AA,INDIRECT($S$12&$S$14))*$J108","v":{"v":0,"d":"0.00"}},0,null,{"$f":"SUMIF(Ref!$H:$H,'подбор радиатора TESI'!$U:$U,Ref!$I:$I)","v":{"v":0,"d":"0.00"}},{"$f":"(($N108*SUMIF(pricelist!$W:$W,'подбор радиатора TESI'!$AA:$AA,pricelist!$S:$S)*$J108)+$P108+IF($U108=\"радиусный\",$V108*$J108,$V108)+IF($J108>$AC108,31*1.13,0))*(1-$H$4/100)","v":{"v":0,"d":"0.00"}},{"$nulls":3},"/","/",{"$f":"SUMIF(Ref!$R:$R,'подбор радиатора TESI'!$AB:$AB,Ref!$Q:$Q)","v":0},1]
["",{"$f":"IF($Z109=\"\",IF($G109=\"\",\"\",\"RR\"&LEFT($G109,1)&$H109&IF($J109<=9,\"0\"&$J109,$J109)&$L109&\"A4\"&LEFT($O109,2)&\"N\"),VLOOKUP($Z109,Ref!$AE:$AG,3,0)&$L109)","v":""},"","",{"$f":"IF($Z109=\"\",IF($G109=\"\",\"\",$D109*$W109*$K$1),VLOOKUP($Z109,Ref!$AE:$AG,2,0)*$Q109*$K$1*(1-$H$4/100))","v":""},{"$nulls":3},{"$f":"SUMIF(pricelist!$W:$W,'подбор радиатора TESI'!$AA109,pricelist!$J:$J)","v":0},null,0,null,{"$f":"IF($L109=\"\",\"\",VLOOKUP($L109,Ref!$D:$J,7,0))","v":""},{"$f":"SUMIF(Ref!$D:$D,'подбор радиатора TESI'!$L:$L,Ref!$E:$E)","v":{"v":0,"d":"0.00"}},null,{"$f":"SUMIF(Ref!$F:$F,'подбор радиатора TESI'!$O:$O,Ref!$G:$G)","v":{"v":0,"d":"0.00"}},null,{"$f":"SUMIF(pricelist!$W:$W,'подбор радиатора TESI'!$AA:$AA,pricelist!$K:$K)*$J109","v":{"v":0,"d":"0.00"}},{"$f":"SUMIF(pricelist!$W:$W,$AA:$AA,INDIRECT($S$12&$S$14))*$J109","v":{"v":0,"d":"0.00"}},0,null,{"$f":"SUMIF(Ref!$H:$H,'подбор радиатора TESI'!$U:$U,Ref!$I:$I)","v":{"v":0,"d":"0.00"}},{"$f":"(($N109*SUMIF(pricelist!$W:$W,'подбор радиатора TESI'!$AA:$AA,pricelist!$S:$S)*$J109)+$P109+IF($U109=\"радиусный\",$V109*$J109,$V109)+IF($J109>$AC109,31*1.13,0))*(1-$H$4/100)","v":{"v":0,"d":"0.00"}},{"$nulls":3},"/","/",{"$f":"SUMIF(Ref!$R:$R,'подбор радиатора TESI'!$AB:$AB,Ref!$Q:$Q)","v":0},1]
["",{"$f":"IF($Z110=\"\",IF($G110=\"\",\"\",\"RR\"&LEFT($G110,1)&$H110&IF($J110<=9,\"0\"&$J110,$J110)&$L110&\"A4\"&LEFT($O110,2)&\"N\"),VLOOKUP($Z110,Ref!$AE:$AG,3,0)&$L110)","v":""},"","",{"$f":"IF($Z110=\"\",IF($G110=\"\",\"\",$D110*$W110*$K$1),VLOOKUP($Z110,Ref!$AE:$AG,2,0)*$Q110*$K$1*(1-$H$4/100))","v":""},{"$nulls":3},{"$f":"SUMIF(pricelist!$W:$W,'подбор радиатора TESI'!$AA110,pricelist!$J:$J)","v":0},null,0,null,{"$f":"IF($L110=\"\",\"\",VLOOKUP($L110,Ref!$D:$J,7,0))","v":""},{"$f":"SUMIF(Ref!$D:$D,'подбор радиатора TESI'!$L:$L,Ref!$E:$E)","v":{"v":0,"d":"0.00"}},null,{"$f":"SUMIF(Ref!$F:$F,'подбор радиатора TESI'!$O:$O,Ref!$G:$G)","v":{"v":0,"d":"0.00"}},null,{"$f":"SUMIF(pricelist!$W:$W,'подбор радиатора TESI'!$AA:$AA,pricelist!$K:$K)*$J110","v":{"v":0,"d":"0.00"}},{"$f":"SUMIF(pricelist!$W:$W,$AA:$AA,INDIRECT($S$12&$S$14))*$J110","v":{"v":0,"d":"0.00"}},0,null,{"$f":"SUMIF(Ref!$H:$H,'подбор радиатора TESI'!$U:$U,Ref!$I:$I)","v":{"v":0,"d":"0.00"}},{"$f":"(($N110*SUMIF(pricelist!$W:$W,'подбор радиатора TESI'!$AA:$AA,pricelist!$S:$S)*$J110)+$P110+IF($U110=\"радиусный\",$V110*$J110,$V110)+IF($J110>$AC110,31*1.13,0))*(1-$H$4/100)","v":{"v":0,"d":"0.00"}},{"$nulls":3},"/","/",{"$f":"SUMIF(Ref!$R:$R,'подбор радиатора TESI'!$AB:$AB,Ref!$Q:$Q)","v":0},1]
["",{"$f":"IF($Z111=\"\",IF($G111=\"\",\"\",\"RR\"&LEFT($G111,1)&$H111&IF($J111<=9,\"0\"&$J111,$J111)&$L111&\"A4\"&LEFT($O111,2)&\"N\"),VLOOKUP($Z111,Ref!$AE:$AG,3,0)&$L111)","v":""},"","",{"$f":"IF($Z111=\"\",IF($G111=\"\",\"\",$D111*$W111*$K$1),VLOOKUP($Z111,Ref!$AE:$AG,2,0)*$Q111*$K$1*(1-$H$4/100))","v":""},{"$nulls":3},{"$f":"SUMIF(pricelist!$W:$W,'подбор радиатора TESI'!$AA111,pricelist!$J:$J)","v":0},null,0,null,{"$f":"IF($L111=\"\",\"\",VLOOKUP($L111,Ref!$D:$J,7,0))","v":""},{"$f":"SUMIF(Ref!$D:$D,'подбор радиатора TESI'!$L:$L,Ref!$E:$E)","v":{"v":0,"d":"0.00"}},null,{"$f":"SUMIF(Ref!$F:$F,'подбор радиатора TESI'!$O:$O,Ref!$G:$G)","v":{"v":0,"d":"0.00"}},null,{"$f":"SUMIF(pricelist!$W:$W,'подбор радиатора TESI'!$AA:$AA,pricelist!$K:$K)*$J111","v":{"v":0,"d":"0.00"}},{"$f":"SUMIF(pricelist!$W:$W,$AA:$AA,INDIRECT($S$12&$S$14))*$J111","v":{"v":0,"d":"0.00"}},0,null,{"$f":"SUMIF(Ref!$H:$H,'подбор радиатора TESI'!$U:$U,Ref!$I:$I)","v":{"v":0,"d":"0.00"}},{"$f":"(($N111*SUMIF(pricelist!$W:$W,'подбор радиатора TESI'!$AA:$AA,pricelist!$S:$S)*$J111)+$P111+IF($U111=\"радиусный\",$V111*$J111,$V111)+IF($J111>$AC111,31*1.13,0))*(1-$H$4/100)","v":{"v":0,"d":"0.00"}},{"$nulls":3},"/","/",{"$f":"SUMIF(Ref!$R:$R,'подбор радиатора TESI'!$AB:$AB,Ref!$Q:$Q)","v":0},1]
["",{"$f":"IF($Z112=\"\",IF($G112=\"\",\"\",\"RR\"&LEFT($G112,1)&$H112&IF($J112<=9,\"0\"&$J112,$J112)&$L112&\"A4\"&LEFT($O112,2)&\"N\"),VLOOKUP($Z112,Ref!$AE:$AG,3,0)&$L112)","v":""},"","",{"$f":"IF($Z112=\"\",IF($G112=\"\",\"\",$D112*$W112*$K$1),VLOOKUP($Z112,Ref!$AE:$AG,2,0)*$Q112*$K$1*(1-$H$4/100))","v":""},{"$nulls":3},{"$f":"SUMIF(pricelist!$W:$W,'подбор радиатора TESI'!$AA112,pricelist!$J:$J)","v":0},null,0,null,{"$f":"IF($L112=\"\",\"\",VLOOKUP($L112,Ref!$D:$J,7,0))","v":""},{"$f":"SUMIF(Ref!$D:$D,'подбор радиатора TESI'!$L:$L,Ref!$E:$E)","v":{"v":0,"d":"0.00"}},null,{"$f":"SUMIF(Ref!$F:$F,'подбор радиатора TESI'!$O:$O,Ref!$G:$G)","v":{"v":0,"d":"0.00"}},null,{"$f":"SUMIF(pricelist!$W:$W,'подбор радиатора TESI'!$AA:$AA,pricelist!$K:$K)*$J112","v":{"v":0,"d":"0.00"}},{"$f":"SUMIF(pricelist!$W:$W,$AA:$AA,INDIRECT($S$12&$S$14))*$J112","v":{"v":0,"d":"0.00"}},0,null,{"$f":"SUMIF(Ref!$H:$H,'подбор радиатора TESI'!$U:$U,Ref!$I:$I)","v":{"v":0,"d":"0.00"}},{"$f":"(($N112*SUMIF(pricelist!$W:$W,'подбор радиатора TESI'!$AA:$AA,pricelist!$S:$S)*$J112)+$P112+IF($U112=\"радиусный\",$V112*$J112,$V112)+IF($J112>$AC112,31*1.13,0))*(1-$H$4/100)","v":{"v":0,"d":"0.00"}},{"$nulls":3},"/","/",{"$f":"SUMIF(Ref!$R:$R,'подбор радиатора TESI'!$AB:$AB,Ref!$Q:$Q)","v":0},1]
["",{"$f":"IF($Z113=\"\",IF($G113=\"\",\"\",\"RR\"&LEFT($G113,1)&$H113&IF($J113<=9,\"0\"&$J113,$J113)&$L113&\"A4\"&LEFT($O113,2)&\"N\"),VLOOKUP($Z113,Ref!$AE:$AG,3,0)&$L113)","v":""},"","",{"$f":"IF($Z113=\"\",IF($G113=\"\",\"\",$D113*$W113*$K$1),VLOOKUP($Z113,Ref!$AE:$AG,2,0)*$Q113*$K$1*(1-$H$4/100))","v":""},{"$nulls":3},{"$f":"SUMIF(pricelist!$W:$W,'подбор радиатора TESI'!$AA113,pricelist!$J:$J)","v":0},null,0,null,{"$f":"IF($L113=\"\",\"\",VLOOKUP($L113,Ref!$D:$J,7,0))","v":""},{"$f":"SUMIF(Ref!$D:$D,'подбор радиатора TESI'!$L:$L,Ref!$E:$E)","v":{"v":0,"d":"0.00"}},null,{"$f":"SUMIF(Ref!$F:$F,'подбор радиатора TESI'!$O:$O,Ref!$G:$G)","v":{"v":0,"d":"0.00"}},null,{"$f":"SUMIF(pricelist!$W:$W,'подбор радиатора TESI'!$AA:$AA,pricelist!$K:$K)*$J113","v":{"v":0,"d":"0.00"}},{"$f":"SUMIF(pricelist!$W:$W,$AA:$AA,INDIRECT($S$12&$S$14))*$J113","v":{"v":0,"d":"0.00"}},0,null,{"$f":"SUMIF(Ref!$H:$H,'подбор радиатора TESI'!$U:$U,Ref!$I:$I)","v":{"v":0,"d":"0.00"}},{"$f":"(($N113*SUMIF(pricelist!$W:$W,'подбор радиатора TESI'!$AA:$AA,pricelist!$S:$S)*$J113)+$P113+IF($U113=\"радиусный\",$V113*$J113,$V113)+IF($J113>$AC113,31*1.13,0))*(1-$H$4/100)","v":{"v":0,"d":"0.00"}},{"$nulls":3},"/","/",{"$f":"SUMIF(Ref!$R:$R,'подбор радиатора TESI'!$AB:$AB,Ref!$Q:$Q)","v":0},1]
["",{"$f":"IF($Z114=\"\",IF($G114=\"\",\"\",\"RR\"&LEFT($G114,1)&$H114&IF($J114<=9,\"0\"&$J114,$J114)&$L114&\"A4\"&LEFT($O114,2)&\"N\"),VLOOKUP($Z114,Ref!$AE:$AG,3,0)&$L114)","v":""},"","",{"$f":"IF($Z114=\"\",IF($G114=\"\",\"\",$D114*$W114*$K$1),VLOOKUP($Z114,Ref!$AE:$AG,2,0)*$Q114*$K$1*(1-$H$4/100))","v":""},{"$nulls":3},{"$f":"SUMIF(pricelist!$W:$W,'подбор радиатора TESI'!$AA114,pricelist!$J:$J)","v":0},null,0,null,{"$f":"IF($L114=\"\",\"\",VLOOKUP($L114,Ref!$D:$J,7,0))","v":""},{"$f":"SUMIF(Ref!$D:$D,'подбор радиатора TESI'!$L:$L,Ref!$E:$E)","v":{"v":0,"d":"0.00"}},null,{"$f":"SUMIF(Ref!$F:$F,'подбор радиатора TESI'!$O:$O,Ref!$G:$G)","v":{"v":0,"d":"0.00"}},null,{"$f":"SUMIF(pricelist!$W:$W,'подбор радиатора TESI'!$AA:$AA,pricelist!$K:$K)*$J114","v":{"v":0,"d":"0.00"}},{"$f":"SUMIF(pricelist!$W:$W,$AA:$AA,INDIRECT($S$12&$S$14))*$J114","v":{"v":0,"d":"0.00"}},0,null,{"$f":"SUMIF(Ref!$H:$H,'подбор радиатора TESI'!$U:$U,Ref!$I:$I)","v":{"v":0,"d":"0.00"}},{"$f":"(($N114*SUMIF(pricelist!$W:$W,'подбор радиатора TESI'!$AA:$AA,pricelist!$S:$S)*$J114)+$P114+IF($U114=\"радиусный\",$V114*$J114,$V114)+IF($J114>$AC114,31*1.13,0))*(1-$H$4/100)","v":{"v":0,"d":"0.00"}},{"$nulls":3},"/","/",{"$f":"SUMIF(Ref!$R:$R,'подбор радиатора TESI'!$AB:$AB,Ref!$Q:$Q)","v":0},1]
["",{"$f":"IF($Z115=\"\",IF($G115=\"\",\"\",\"RR\"&LEFT($G115,1)&$H115&IF($J115<=9,\"0\"&$J115,$J115)&$L115&\"A4\"&LEFT($O115,2)&\"N\"),VLOOKUP($Z115,Ref!$AE:$AG,3,0)&$L115)","v":""},"","",{"$f":"IF($Z115=\"\",IF($G115=\"\",\"\",$D115*$W115*$K$1),VLOOKUP($Z115,Ref!$AE:$AG,2,0)*$Q115*$K$1*(1-$H$4/100))","v":""},{"$nulls":3},{"$f":"SUMIF(pricelist!$W:$W,'подбор радиатора TESI'!$AA115,pricelist!$J:$J)","v":0},null,0,null,{"$f":"IF($L115=\"\",\"\",VLOOKUP($L115,Ref!$D:$J,7,0))","v":""},{"$f":"SUMIF(Ref!$D:$D,'подбор радиатора TESI'!$L:$L,Ref!$E:$E)","v":{"v":0,"d":"0.00"}},null,{"$f":"SUMIF(Ref!$F:$F,'подбор радиатора TESI'!$O:$O,Ref!$G:$G)","v":{"v":0,"d":"0.00"}},null,{"$f":"SUMIF(pricelist!$W:$W,'подбор радиатора TESI'!$AA:$AA,pricelist!$K:$K)*$J115","v":{"v":0,"d":"0.00"}},{"$f":"SUMIF(pricelist!$W:$W,$AA:$AA,INDIRECT($S$12&$S$14))*$J115","v":{"v":0,"d":"0.00"}},0,null,{"$f":"SUMIF(Ref!$H:$H,'подбор радиатора TESI'!$U:$U,Ref!$I:$I)","v":{"v":0,"d":"0.00"}},{"$f":"(($N115*SUMIF(pricelist!$W:$W,'подбор радиатора TESI'!$AA:$AA,pricelist!$S:$S)*$J115)+$P115+IF($U115=\"радиусный\",$V115*$J115,$V115)+IF($J115>$AC115,31*1.13,0))*(1-$H$4/100)","v":{"v":0,"d":"0.00"}},{"$nulls":3},"/","/",{"$f":"SUMIF(Ref!$R:$R,'подбор радиатора TESI'!$AB:$AB,Ref!$Q:$Q)","v":0},1]
["",{"$f":"IF($Z116=\"\",IF($G116=\"\",\"\",\"RR\"&LEFT($G116,1)&$H116&IF($J116<=9,\"0\"&$J116,$J116)&$L116&\"A4\"&LEFT($O116,2)&\"N\"),VLOOKUP($Z116,Ref!$AE:$AG,3,0)&$L116)","v":""},"","",{"$f":"IF($Z116=\"\",IF($G116=\"\",\"\",$D116*$W116*$K$1),VLOOKUP($Z116,Ref!$AE:$AG,2,0)*$Q116*$K$1*(1-$H$4/100))","v":""},{"$nulls":3},{"$f":"SUMIF(pricelist!$W:$W,'подбор радиатора TESI'!$AA116,pricelist!$J:$J)","v":0},null,0,null,{"$f":"IF($L116=\"\",\"\",VLOOKUP($L116,Ref!$D:$J,7,0))","v":""},{"$f":"SUMIF(Ref!$D:$D,'подбор радиатора TESI'!$L:$L,Ref!$E:$E)","v":{"v":0,"d":"0.00"}},null,{"$f":"SUMIF(Ref!$F:$F,'подбор радиатора TESI'!$O:$O,Ref!$G:$G)","v":{"v":0,"d":"0.00"}},null,{"$f":"SUMIF(pricelist!$W:$W,'подбор радиатора TESI'!$AA:$AA,pricelist!$K:$K)*$J116","v":{"v":0,"d":"0.00"}},{"$f":"SUMIF(pricelist!$W:$W,$AA:$AA,INDIRECT($S$12&$S$14))*$J116","v":{"v":0,"d":"0.00"}},0,null,{"$f":"SUMIF(Ref!$H:$H,'подбор радиатора TESI'!$U:$U,Ref!$I:$I)","v":{"v":0,"d":"0.00"}},{"$f":"(($N116*SUMIF(pricelist!$W:$W,'подбор радиатора TESI'!$AA:$AA,pricelist!$S:$S)*$J116)+$P116+IF($U116=\"радиусный\",$V116*$J116,$V116)+IF($J116>$AC116,31*1.13,0))*(1-$H$4/100)","v":{"v":0,"d":"0.00"}},{"$nulls":3},{"$f":"LEFT($G116,1)&\"/\"&$H116","v":"/"},"/",{"$f":"SUMIF(Ref!$R:$R,'подбор радиатора TESI'!$AB:$AB,Ref!$Q:$Q)","v":0},1]
["",{"$f":"IF($Z117=\"\",IF($G117=\"\",\"\",\"RR\"&LEFT($G117,1)&$H117&IF($J117<=9,\"0\"&$J117,$J117)&$L117&\"A4\"&LEFT($O117,2)&\"N\"),VLOOKUP($Z117,Ref!$AE:$AG,3,0)&$L117)","v":""},"","",{"$f":"IF($Z117=\"\",IF($G117=\"\",\"\",$D117*$W117*$K$1),VLOOKUP($Z117,Ref!$AE:$AG,2,0)*$Q117*$K$1*(1-$H$4/100))","v":""},{"$nulls":3},{"$f":"SUMIF(pricelist!$W:$W,'подбор радиатора TESI'!$AA117,pricelist!$J:$J)","v":0},null,0,null,{"$f":"IF($L117=\"\",\"\",VLOOKUP($L117,Ref!$D:$J,7,0))","v":""},{"$f":"SUMIF(Ref!$D:$D,'подбор радиатора TESI'!$L:$L,Ref!$E:$E)","v":{"v":0,"d":"0.00"}},null,{"$f":"SUMIF(Ref!$F:$F,'подбор радиатора TESI'!$O:$O,Ref!$G:$G)","v":{"v":0,"d":"0.00"}},null,{"$f":"SUMIF(pricelist!$W:$W,'подбор радиатора TESI'!$AA:$AA,pricelist!$K:$K)*$J117","v":{"v":0,"d":"0.00"}},{"$f":"SUMIF(pricelist!$W:$W,$AA:$AA,INDIRECT($S$12&$S$14))*$J117","v":{"v":0,"d":"0.00"}},0,null,{"$f":"SUMIF(Ref!$H:$H,'подбор радиатора TESI'!$U:$U,Ref!$I:$I)","v":{"v":0,"d":"0.00"}},{"$f":"(($N117*SUMIF(pricelist!$W:$W,'подбор радиатора TESI'!$AA:$AA,pricelist!$S:$S)*$J117)+$P117+IF($U117=\"радиусный\",$V117*$J117,$V117)+IF($J117>$AC117,31*1.13,0))*(1-$H$4/100)","v":{"v":0,"d":"0.00"}},{"$nulls":3},"/","/",{"$f":"SUMIF(Ref!$R:$R,'подбор радиатора TESI'!$AB:$AB,Ref!$Q:$Q)","v":0},1]
["",{"$f":"IF($Z118=\"\",IF($G118=\"\",\"\",\"RR\"&LEFT($G118,1)&$H118&IF($J118<=9,\"0\"&$J118,$J118)&$L118&\"A4\"&LEFT($O118,2)&\"N\"),VLOOKUP($Z118,Ref!$AE:$AG,3,0)&$L118)","v":""},"","",{"$f":"IF($Z118=\"\",IF($G118=\"\",\"\",$D118*$W118*$K$1),VLOOKUP($Z118,Ref!$AE:$AG,2,0)*$Q118*$K$1*(1-$H$4/100))","v":""},{"$nulls":3},{"$f":"SUMIF(pricelist!$W:$W,'подбор радиатора TESI'!$AA118,pricelist!$J:$J)","v":0},null,0,null,{"$f":"IF($L118=\"\",\"\",VLOOKUP($L118,Ref!$D:$J,7,0))","v":""},{"$f":"SUMIF(Ref!$D:$D,'подбор радиатора TESI'!$L:$L,Ref!$E:$E)","v":{"v":0,"d":"0.00"}},null,{"$f":"SUMIF(Ref!$F:$F,'подбор радиатора TESI'!$O:$O,Ref!$G:$G)","v":{"v":0,"d":"0.00"}},null,{"$f":"SUMIF(pricelist!$W:$W,'подбор радиатора TESI'!$AA:$AA,pricelist!$K:$K)*$J118","v":{"v":0,"d":"0.00"}},{"$f":"SUMIF(pricelist!$W:$W,$AA:$AA,INDIRECT($S$12&$S$14))*$J118","v":{"v":0,"d":"0.00"}},0,null,{"$f":"SUMIF(Ref!$H:$H,'подбор радиатора TESI'!$U:$U,Ref!$I:$I)","v":{"v":0,"d":"0.00"}},{"$f":"(($N118*SUMIF(pricelist!$W:$W,'подбор радиатора TESI'!$AA:$AA,pricelist!$S:$S)*$J118)+$P118+IF($U118=\"радиусный\",$V118*$J118,$V118)+IF($J118>$AC118,31*1.13,0))*(1-$H$4/100)","v":{"v":0,"d":"0.00"}},{"$nulls":3},"/","/",{"$f":"SUMIF(Ref!$R:$R,'подбор радиатора TESI'!$AB:$AB,Ref!$Q:$Q)","v":0},1]
["",{"$f":"IF($Z119=\"\",IF($G119=\"\",\"\",\"RR\"&LEFT($G119,1)&$H119&IF($J119<=9,\"0\"&$J119,$J119)&$L119&\"A4\"&LEFT($O119,2)&\"N\"),VLOOKUP($Z119,Ref!$AE:$AG,3,0)&$L119)","v":""},"","",{"$f":"IF($Z119=\"\",IF($G119=\"\",\"\",$D119*$W119*$K$1),VLOOKUP($Z119,Ref!$AE:$AG,2,0)*$Q119*$K$1*(1-$H$4/100))","v":""},{"$nulls":3},{"$f":"SUMIF(pricelist!$W:$W,'подбор радиатора TESI'!$AA119,pricelist!$J:$J)","v":0},null,0,null,{"$f":"IF($L119=\"\",\"\",VLOOKUP($L119,Ref!$D:$J,7,0))","v":""},{"$f":"SUMIF(Ref!$D:$D,'подбор радиатора TESI'!$L:$L,Ref!$E:$E)","v":{"v":0,"d":"0.00"}},null,{"$f":"SUMIF(Ref!$F:$F,'подбор радиатора TESI'!$O:$O,Ref!$G:$G)","v":{"v":0,"d":"0.00"}},null,{"$f":"SUMIF(pricelist!$W:$W,'подбор радиатора TESI'!$AA:$AA,pricelist!$K:$K)*$J119","v":{"v":0,"d":"0.00"}},{"$f":"SUMIF(pricelist!$W:$W,$AA:$AA,INDIRECT($S$12&$S$14))*$J119","v":{"v":0,"d":"0.00"}},0,null,{"$f":"SUMIF(Ref!$H:$H,'подбор радиатора TESI'!$U:$U,Ref!$I:$I)","v":{"v":0,"d":"0.00"}},{"$f":"(($N119*SUMIF(pricelist!$W:$W,'подбор радиатора TESI'!$AA:$AA,pricelist!$S:$S)*$J119)+$P119+IF($U119=\"радиусный\",$V119*$J119,$V119)+IF($J119>$AC119,31*1.13,0))*(1-$H$4/100)","v":{"v":0,"d":"0.00"}},{"$nulls":3},"/","/",{"$f":"SUMIF(Ref!$R:$R,'подбор радиатора TESI'!$AB:$AB,Ref!$Q:$Q)","v":0},1]
["",{"$f":"IF($Z120=\"\",IF($G120=\"\",\"\",\"RR\"&LEFT($G120,1)&$H120&IF($J120<=9,\"0\"&$J120,$J120)&$L120&\"A4\"&LEFT($O120,2)&\"N\"),VLOOKUP($Z120,Ref!$AE:$AG,3,0)&$L120)","v":""},"","",{"$f":"IF($Z120=\"\",IF($G120=\"\",\"\",$D120*$W120*$K$1),VLOOKUP($Z120,Ref!$AE:$AG,2,0)*$Q120*$K$1*(1-$H$4/100))","v":""},{"$nulls":3},{"$f":"SUMIF(pricelist!$W:$W,'подбор радиатора TESI'!$AA120,pricelist!$J:$J)","v":0},null,0,null,{"$f":"IF($L120=\"\",\"\",VLOOKUP($L120,Ref!$D:$J,7,0))","v":""},{"$f":"SUMIF(Ref!$D:$D,'подбор радиатора TESI'!$L:$L,Ref!$E:$E)","v":{"v":0,"d":"0.00"}},null,{"$f":"SUMIF(Ref!$F:$F,'подбор радиатора TESI'!$O:$O,Ref!$G:$G)","v":{"v":0,"d":"0.00"}},null,{"$f":"SUMIF(pricelist!$W:$W,'подбор радиатора TESI'!$AA:$AA,pricelist!$K:$K)*$J120","v":{"v":0,"d":"0.00"}},{"$f":"SUMIF(pricelist!$W:$W,$AA:$AA,INDIRECT($S$12&$S$14))*$J120","v":{"v":0,"d":"0.00"}},0,null,{"$f":"SUMIF(Ref!$H:$H,'подбор радиатора TESI'!$U:$U,Ref!$I:$I)","v":{"v":0,"d":"0.00"}},{"$f":"(($N120*SUMIF(pricelist!$W:$W,'подбор радиатора TESI'!$AA:$AA,pricelist!$S:$S)*$J120)+$P120+IF($U120=\"радиусный\",$V120*$J120,$V120)+IF($J120>$AC120,31*1.13,0))*(1-$H$4/100)","v":{"v":0,"d":"0.00"}},{"$nulls":3},"/","/",{"$f":"SUMIF(Ref!$R:$R,'подбор радиатора TESI'!$AB:$AB,Ref!$Q:$Q)","v":0},1]
["",{"$f":"IF($Z121=\"\",IF($G121=\"\",\"\",\"RR\"&LEFT($G121,1)&$H121&IF($J121<=9,\"0\"&$J121,$J121)&$L121&\"A4\"&LEFT($O121,2)&\"N\"),VLOOKUP($Z121,Ref!$AE:$AG,3,0)&$L121)","v":""},"","",{"$f":"IF($Z121=\"\",IF($G121=\"\",\"\",$D121*$W121*$K$1),VLOOKUP($Z121,Ref!$AE:$AG,2,0)*$Q121*$K$1*(1-$H$4/100))","v":""},{"$nulls":3},{"$f":"SUMIF(pricelist!$W:$W,'подбор радиатора TESI'!$AA121,pricelist!$J:$J)","v":0},null,0,null,{"$f":"IF($L121=\"\",\"\",VLOOKUP($L121,Ref!$D:$J,7,0))","v":""},{"$f":"SUMIF(Ref!$D:$D,'подбор радиатора TESI'!$L:$L,Ref!$E:$E)","v":{"v":0,"d":"0.00"}},null,{"$f":"SUMIF(Ref!$F:$F,'подбор радиатора TESI'!$O:$O,Ref!$G:$G)","v":{"v":0,"d":"0.00"}},null,{"$f":"SUMIF(pricelist!$W:$W,'подбор радиатора TESI'!$AA:$AA,pricelist!$K:$K)*$J121","v":{"v":0,"d":"0.00"}},{"$f":"SUMIF(pricelist!$W:$W,$AA:$AA,INDIRECT($S$12&$S$14))*$J121","v":{"v":0,"d":"0.00"}},0,null,{"$f":"SUMIF(Ref!$H:$H,'подбор радиатора TESI'!$U:$U,Ref!$I:$I)","v":{"v":0,"d":"0.00"}},{"$f":"(($N121*SUMIF(pricelist!$W:$W,'подбор радиатора TESI'!$AA:$AA,pricelist!$S:$S)*$J121)+$P121+IF($U121=\"радиусный\",$V121*$J121,$V121)+IF($J121>$AC121,31*1.13,0))*(1-$H$4/100)","v":{"v":0,"d":"0.00"}},{"$nulls":3},"/","/",{"$f":"SUMIF(Ref!$R:$R,'подбор радиатора TESI'!$AB:$AB,Ref!$Q:$Q)","v":0},1]
["",{"$f":"IF($Z122=\"\",IF($G122=\"\",\"\",\"RR\"&LEFT($G122,1)&$H122&IF($J122<=9,\"0\"&$J122,$J122)&$L122&\"A4\"&LEFT($O122,2)&\"N\"),VLOOKUP($Z122,Ref!$AE:$AG,3,0)&$L122)","v":""},"","",{"$f":"IF($Z122=\"\",IF($G122=\"\",\"\",$D122*$W122*$K$1),VLOOKUP($Z122,Ref!$AE:$AG,2,0)*$Q122*$K$1*(1-$H$4/100))","v":""},{"$nulls":3},{"$f":"SUMIF(pricelist!$W:$W,'подбор радиатора TESI'!$AA122,pricelist!$J:$J)","v":0},null,0,null,{"$f":"IF($L122=\"\",\"\",VLOOKUP($L122,Ref!$D:$J,7,0))","v":""},{"$f":"SUMIF(Ref!$D:$D,'подбор радиатора TESI'!$L:$L,Ref!$E:$E)","v":{"v":0,"d":"0.00"}},null,{"$f":"SUMIF(Ref!$F:$F,'подбор радиатора TESI'!$O:$O,Ref!$G:$G)","v":{"v":0,"d":"0.00"}},null,{"$f":"SUMIF(pricelist!$W:$W,'подбор радиатора TESI'!$AA:$AA,pricelist!$K:$K)*$J122","v":{"v":0,"d":"0.00"}},{"$f":"SUMIF(pricelist!$W:$W,$AA:$AA,INDIRECT($S$12&$S$14))*$J122","v":{"v":0,"d":"0.00"}},0,null,{"$f":"SUMIF(Ref!$H:$H,'подбор радиатора TESI'!$U:$U,Ref!$I:$I)","v":{"v":0,"d":"0.00"}},{"$f":"(($N122*SUMIF(pricelist!$W:$W,'подбор радиатора TESI'!$AA:$AA,pricelist!$S:$S)*$J122)+$P122+IF($U122=\"радиусный\",$V122*$J122,$V122)+IF($J122>$AC122,31*1.13,0))*(1-$H$4/100)","v":{"v":0,"d":"0.00"}},{"$nulls":3},"/","/",{"$f":"SUMIF(Ref!$R:$R,'подбор радиатора TESI'!$AB:$AB,Ref!$Q:$Q)","v":0},1]
["",{"$f":"IF($Z123=\"\",IF($G123=\"\",\"\",\"RR\"&LEFT($G123,1)&$H123&IF($J123<=9,\"0\"&$J123,$J123)&$L123&\"A4\"&LEFT($O123,2)&\"N\"),VLOOKUP($Z123,Ref!$AE:$AG,3,0)&$L123)","v":""},"","",{"$f":"IF($Z123=\"\",IF($G123=\"\",\"\",$D123*$W123*$K$1),VLOOKUP($Z123,Ref!$AE:$AG,2,0)*$Q123*$K$1*(1-$H$4/100))","v":""},{"$nulls":3},{"$f":"SUMIF(pricelist!$W:$W,'подбор радиатора TESI'!$AA123,pricelist!$J:$J)","v":0},null,0,null,{"$f":"IF($L123=\"\",\"\",VLOOKUP($L123,Ref!$D:$J,7,0))","v":""},{"$f":"SUMIF(Ref!$D:$D,'подбор радиатора TESI'!$L:$L,Ref!$E:$E)","v":{"v":0,"d":"0.00"}},null,{"$f":"SUMIF(Ref!$F:$F,'подбор радиатора TESI'!$O:$O,Ref!$G:$G)","v":{"v":0,"d":"0.00"}},null,{"$f":"SUMIF(pricelist!$W:$W,'подбор радиатора TESI'!$AA:$AA,pricelist!$K:$K)*$J123","v":{"v":0,"d":"0.00"}},{"$f":"SUMIF(pricelist!$W:$W,$AA:$AA,INDIRECT($S$12&$S$14))*$J123","v":{"v":0,"d":"0.00"}},0,null,{"$f":"SUMIF(Ref!$H:$H,'подбор радиатора TESI'!$U:$U,Ref!$I:$I)","v":{"v":0,"d":"0.00"}},{"$f":"(($N123*SUMIF(pricelist!$W:$W,'подбор радиатора TESI'!$AA:$AA,pricelist!$S:$S)*$J123)+$P123+IF($U123=\"радиусный\",$V123*$J123,$V123)+IF($J123>$AC123,31*1.13,0))*(1-$H$4/100)","v":{"v":0,"d":"0.00"}},{"$nulls":3},"/","/",{"$f":"SUMIF(Ref!$R:$R,'подбор радиатора TESI'!$AB:$AB,Ref!$Q:$Q)","v":0},1]
["",{"$f":"IF($Z124=\"\",IF($G124=\"\",\"\",\"RR\"&LEFT($G124,1)&$H124&IF($J124<=9,\"0\"&$J124,$J124)&$L124&\"A4\"&LEFT($O124,2)&\"N\"),VLOOKUP($Z124,Ref!$AE:$AG,3,0)&$L124)","v":""},"","",{"$f":"IF($Z124=\"\",IF($G124=\"\",\"\",$D124*$W124*$K$1),VLOOKUP($Z124,Ref!$AE:$AG,2,0)*$Q124*$K$1*(1-$H$4/100))","v":""},{"$nulls":3},{"$f":"SUMIF(pricelist!$W:$W,'подбор радиатора TESI'!$AA124,pricelist!$J:$J)","v":0},null,0,null,{"$f":"IF($L124=\"\",\"\",VLOOKUP($L124,Ref!$D:$J,7,0))","v":""},{"$f":"SUMIF(Ref!$D:$D,'подбор радиатора TESI'!$L:$L,Ref!$E:$E)","v":{"v":0,"d":"0.00"}},null,{"$f":"SUMIF(Ref!$F:$F,'подбор радиатора TESI'!$O:$O,Ref!$G:$G)","v":{"v":0,"d":"0.00"}},null,{"$f":"SUMIF(pricelist!$W:$W,'подбор радиатора TESI'!$AA:$AA,pricelist!$K:$K)*$J124","v":{"v":0,"d":"0.00"}},{"$f":"SUMIF(pricelist!$W:$W,$AA:$AA,INDIRECT($S$12&$S$14))*$J124","v":{"v":0,"d":"0.00"}},0,null,{"$f":"SUMIF(Ref!$H:$H,'подбор радиатора TESI'!$U:$U,Ref!$I:$I)","v":{"v":0,"d":"0.00"}},{"$f":"(($N124*SUMIF(pricelist!$W:$W,'подбор радиатора TESI'!$AA:$AA,pricelist!$S:$S)*$J124)+$P124+IF($U124=\"радиусный\",$V124*$J124,$V124)+IF($J124>$AC124,31*1.13,0))*(1-$H$4/100)","v":{"v":0,"d":"0.00"}},{"$nulls":3},"/","/",{"$f":"SUMIF(Ref!$R:$R,'подбор радиатора TESI'!$AB:$AB,Ref!$Q:$Q)","v":0},1]
["",{"$f":"IF($Z125=\"\",IF($G125=\"\",\"\",\"RR\"&LEFT($G125,1)&$H125&IF($J125<=9,\"0\"&$J125,$J125)&$L125&\"A4\"&LEFT($O125,2)&\"N\"),VLOOKUP($Z125,Ref!$AE:$AG,3,0)&$L125)","v":""},"","",{"$f":"IF($Z125=\"\",IF($G125=\"\",\"\",$D125*$W125*$K$1),VLOOKUP($Z125,Ref!$AE:$AG,2,0)*$Q125*$K$1*(1-$H$4/100))","v":""},{"$nulls":3},{"$f":"SUMIF(pricelist!$W:$W,'подбор радиатора TESI'!$AA125,pricelist!$J:$J)","v":0},null,0,null,{"$f":"IF($L125=\"\",\"\",VLOOKUP($L125,Ref!$D:$J,7,0))","v":""},{"$f":"SUMIF(Ref!$D:$D,'подбор радиатора TESI'!$L:$L,Ref!$E:$E)","v":{"v":0,"d":"0.00"}},null,{"$f":"SUMIF(Ref!$F:$F,'подбор радиатора TESI'!$O:$O,Ref!$G:$G)","v":{"v":0,"d":"0.00"}},null,{"$f":"SUMIF(pricelist!$W:$W,'подбор радиатора TESI'!$AA:$AA,pricelist!$K:$K)*$J125","v":{"v":0,"d":"0.00"}},{"$f":"SUMIF(pricelist!$W:$W,$AA:$AA,INDIRECT($S$12&$S$14))*$J125","v":{"v":0,"d":"0.00"}},0,null,{"$f":"SUMIF(Ref!$H:$H,'подбор радиатора TESI'!$U:$U,Ref!$I:$I)","v":{"v":0,"d":"0.00"}},{"$f":"(($N125*SUMIF(pricelist!$W:$W,'подбор радиатора TESI'!$AA:$AA,pricelist!$S:$S)*$J125)+$P125+IF($U125=\"радиусный\",$V125*$J125,$V125)+IF($J125>$AC125,31*1.13,0))*(1-$H$4/100)","v":{"v":0,"d":"0.00"}},{"$nulls":3},"/","/",{"$f":"SUMIF(Ref!$R:$R,'подбор радиатора TESI'!$AB:$AB,Ref!$Q:$Q)","v":0},1]
["",{"$f":"IF($Z126=\"\",IF($G126=\"\",\"\",\"RR\"&LEFT($G126,1)&$H126&IF($J126<=9,\"0\"&$J126,$J126)&$L126&\"A4\"&LEFT($O126,2)&\"N\"),VLOOKUP($Z126,Ref!$AE:$AG,3,0)&$L126)","v":""},"","",{"$f":"IF($Z126=\"\",IF($G126=\"\",\"\",$D126*$W126*$K$1),VLOOKUP($Z126,Ref!$AE:$AG,2,0)*$Q126*$K$1*(1-$H$4/100))","v":""},{"$nulls":3},{"$f":"SUMIF(pricelist!$W:$W,'подбор радиатора TESI'!$AA126,pricelist!$J:$J)","v":0},null,0,null,{"$f":"IF($L126=\"\",\"\",VLOOKUP($L126,Ref!$D:$J,7,0))","v":""},{"$f":"SUMIF(Ref!$D:$D,'подбор радиатора TESI'!$L:$L,Ref!$E:$E)","v":{"v":0,"d":"0.00"}},null,{"$f":"SUMIF(Ref!$F:$F,'подбор радиатора TESI'!$O:$O,Ref!$G:$G)","v":{"v":0,"d":"0.00"}},null,{"$f":"SUMIF(pricelist!$W:$W,'подбор радиатора TESI'!$AA:$AA,pricelist!$K:$K)*$J126","v":{"v":0,"d":"0.00"}},{"$f":"SUMIF(pricelist!$W:$W,$AA:$AA,INDIRECT($S$12&$S$14))*$J126","v":{"v":0,"d":"0.00"}},0,null,{"$f":"SUMIF(Ref!$H:$H,'подбор радиатора TESI'!$U:$U,Ref!$I:$I)","v":{"v":0,"d":"0.00"}},{"$f":"(($N126*SUMIF(pricelist!$W:$W,'подбор радиатора TESI'!$AA:$AA,pricelist!$S:$S)*$J126)+$P126+IF($U126=\"радиусный\",$V126*$J126,$V126)+IF($J126>$AC126,31*1.13,0))*(1-$H$4/100)","v":{"v":0,"d":"0.00"}},{"$nulls":3},"/","/",{"$f":"SUMIF(Ref!$R:$R,'подбор радиатора TESI'!$AB:$AB,Ref!$Q:$Q)","v":0},1]
["",{"$f":"IF($Z127=\"\",IF($G127=\"\",\"\",\"RR\"&LEFT($G127,1)&$H127&IF($J127<=9,\"0\"&$J127,$J127)&$L127&\"A4\"&LEFT($O127,2)&\"N\"),VLOOKUP($Z127,Ref!$AE:$AG,3,0)&$L127)","v":""},"","",{"$f":"IF($Z127=\"\",IF($G127=\"\",\"\",$D127*$W127*$K$1),VLOOKUP($Z127,Ref!$AE:$AG,2,0)*$Q127*$K$1*(1-$H$4/100))","v":""},{"$nulls":3},{"$f":"SUMIF(pricelist!$W:$W,'подбор радиатора TESI'!$AA127,pricelist!$J:$J)","v":0},null,0,null,{"$f":"IF($L127=\"\",\"\",VLOOKUP($L127,Ref!$D:$J,7,0))","v":""},{"$f":"SUMIF(Ref!$D:$D,'подбор радиатора TESI'!$L:$L,Ref!$E:$E)","v":{"v":0,"d":"0.00"}},null,{"$f":"SUMIF(Ref!$F:$F,'подбор радиатора TESI'!$O:$O,Ref!$G:$G)","v":{"v":0,"d":"0.00"}},null,{"$f":"SUMIF(pricelist!$W:$W,'подбор радиатора TESI'!$AA:$AA,pricelist!$K:$K)*$J127","v":{"v":0,"d":"0.00"}},{"$f":"SUMIF(pricelist!$W:$W,$AA:$AA,INDIRECT($S$12&$S$14))*$J127","v":{"v":0,"d":"0.00"}},0,null,{"$f":"SUMIF(Ref!$H:$H,'подбор радиатора TESI'!$U:$U,Ref!$I:$I)","v":{"v":0,"d":"0.00"}},{"$f":"(($N127*SUMIF(pricelist!$W:$W,'подбор радиатора TESI'!$AA:$AA,pricelist!$S:$S)*$J127)+$P127+IF($U127=\"радиусный\",$V127*$J127,$V127)+IF($J127>$AC127,31*1.13,0))*(1-$H$4/100)","v":{"v":0,"d":"0.00"}},{"$nulls":3},"/","/",{"$f":"SUMIF(Ref!$R:$R,'подбор радиатора TESI'!$AB:$AB,Ref!$Q:$Q)","v":0},1]
["",{"$f":"IF($Z128=\"\",IF($G128=\"\",\"\",\"RR\"&LEFT($G128,1)&$H128&IF($J128<=9,\"0\"&$J128,$J128)&$L128&\"A4\"&LEFT($O128,2)&\"N\"),VLOOKUP($Z128,Ref!$AE:$AG,3,0)&$L128)","v":""},"","",{"$f":"IF($Z128=\"\",IF($G128=\"\",\"\",$D128*$W128*$K$1),VLOOKUP($Z128,Ref!$AE:$AG,2,0)*$Q128*$K$1*(1-$H$4/100))","v":""},{"$nulls":3},{"$f":"SUMIF(pricelist!$W:$W,'подбор радиатора TESI'!$AA128,pricelist!$J:$J)","v":0},null,0,null,{"$f":"IF($L128=\"\",\"\",VLOOKUP($L128,Ref!$D:$J,7,0))","v":""},{"$f":"SUMIF(Ref!$D:$D,'подбор радиатора TESI'!$L:$L,Ref!$E:$E)","v":{"v":0,"d":"0.00"}},null,{"$f":"SUMIF(Ref!$F:$F,'подбор радиатора TESI'!$O:$O,Ref!$G:$G)","v":{"v":0,"d":"0.00"}},null,{"$f":"SUMIF(pricelist!$W:$W,'подбор радиатора TESI'!$AA:$AA,pricelist!$K:$K)*$J128","v":{"v":0,"d":"0.00"}},{"$f":"SUMIF(pricelist!$W:$W,$AA:$AA,INDIRECT($S$12&$S$14))*$J128","v":{"v":0,"d":"0.00"}},0,null,{"$f":"SUMIF(Ref!$H:$H,'подбор радиатора TESI'!$U:$U,Ref!$I:$I)","v":{"v":0,"d":"0.00"}},{"$f":"(($N128*SUMIF(pricelist!$W:$W,'подбор радиатора TESI'!$AA:$AA,pricelist!$S:$S)*$J128)+$P128+IF($U128=\"радиусный\",$V128*$J128,$V128)+IF($J128>$AC128,31*1.13,0))*(1-$H$4/100)","v":{"v":0,"d":"0.00"}},{"$nulls":3},"/","/",{"$f":"SUMIF(Ref!$R:$R,'подбор радиатора TESI'!$AB:$AB,Ref!$Q:$Q)","v":0},1]
["",{"$f":"IF($Z129=\"\",IF($G129=\"\",\"\",\"RR\"&LEFT($G129,1)&$H129&IF($J129<=9,\"0\"&$J129,$J129)&$L129&\"A4\"&LEFT($O129,2)&\"N\"),VLOOKUP($Z129,Ref!$AE:$AG,3,0)&$L129)","v":""},"","",{"$f":"IF($Z129=\"\",IF($G129=\"\",\"\",$D129*$W129*$K$1),VLOOKUP($Z129,Ref!$AE:$AG,2,0)*$Q129*$K$1*(1-$H$4/100))","v":""},{"$nulls":3},{"$f":"SUMIF(pricelist!$W:$W,'подбор радиатора TESI'!$AA129,pricelist!$J:$J)","v":0},null,0,null,{"$f":"IF($L129=\"\",\"\",VLOOKUP($L129,Ref!$D:$J,7,0))","v":""},{"$f":"SUMIF(Ref!$D:$D,'подбор радиатора TESI'!$L:$L,Ref!$E:$E)","v":{"v":0,"d":"0.00"}},null,{"$f":"SUMIF(Ref!$F:$F,'подбор радиатора TESI'!$O:$O,Ref!$G:$G)","v":{"v":0,"d":"0.00"}},null,{"$f":"SUMIF(pricelist!$W:$W,'подбор радиатора TESI'!$AA:$AA,pricelist!$K:$K)*$J129","v":{"v":0,"d":"0.00"}},{"$f":"SUMIF(pricelist!$W:$W,$AA:$AA,INDIRECT($S$12&$S$14))*$J129","v":{"v":0,"d":"0.00"}},0,null,{"$f":"SUMIF(Ref!$H:$H,'подбор радиатора TESI'!$U:$U,Ref!$I:$I)","v":{"v":0,"d":"0.00"}},{"$f":"(($N129*SUMIF(pricelist!$W:$W,'подбор радиатора TESI'!$AA:$AA,pricelist!$S:$S)*$J129)+$P129+IF($U129=\"радиусный\",$V129*$J129,$V129)+IF($J129>$AC129,31*1.13,0))*(1-$H$4/100)","v":{"v":0,"d":"0.00"}},{"$nulls":3},"/","/",{"$f":"SUMIF(Ref!$R:$R,'подбор радиатора TESI'!$AB:$AB,Ref!$Q:$Q)","v":0},1]
["",{"$f":"IF($Z130=\"\",IF($G130=\"\",\"\",\"RR\"&LEFT($G130,1)&$H130&IF($J130<=9,\"0\"&$J130,$J130)&$L130&\"A4\"&LEFT($O130,2)&\"N\"),VLOOKUP($Z130,Ref!$AE:$AG,3,0)&$L130)","v":""},"","",{"$f":"IF($Z130=\"\",IF($G130=\"\",\"\",$D130*$W130*$K$1),VLOOKUP($Z130,Ref!$AE:$AG,2,0)*$Q130*$K$1*(1-$H$4/100))","v":""},{"$nulls":3},{"$f":"SUMIF(pricelist!$W:$W,'подбор радиатора TESI'!$AA130,pricelist!$J:$J)","v":0},null,0,null,{"$f":"IF($L130=\"\",\"\",VLOOKUP($L130,Ref!$D:$J,7,0))","v":""},{"$f":"SUMIF(Ref!$D:$D,'подбор радиатора TESI'!$L:$L,Ref!$E:$E)","v":{"v":0,"d":"0.00"}},null,{"$f":"SUMIF(Ref!$F:$F,'подбор радиатора TESI'!$O:$O,Ref!$G:$G)","v":{"v":0,"d":"0.00"}},null,{"$f":"SUMIF(pricelist!$W:$W,'подбор радиатора TESI'!$AA:$AA,pricelist!$K:$K)*$J130","v":{"v":0,"d":"0.00"}},{"$f":"SUMIF(pricelist!$W:$W,$AA:$AA,INDIRECT($S$12&$S$14))*$J130","v":{"v":0,"d":"0.00"}},0,null,{"$f":"SUMIF(Ref!$H:$H,'подбор радиатора TESI'!$U:$U,Ref!$I:$I)","v":{"v":0,"d":"0.00"}},{"$f":"(($N130*SUMIF(pricelist!$W:$W,'подбор радиатора TESI'!$AA:$AA,pricelist!$S:$S)*$J130)+$P130+IF($U130=\"радиусный\",$V130*$J130,$V130)+IF($J130>$AC130,31*1.13,0))*(1-$H$4/100)","v":{"v":0,"d":"0.00"}},{"$nulls":3},"/","/",{"$f":"SUMIF(Ref!$R:$R,'подбор радиатора TESI'!$AB:$AB,Ref!$Q:$Q)","v":0},1]
["",{"$f":"IF($Z131=\"\",IF($G131=\"\",\"\",\"RR\"&LEFT($G131,1)&$H131&IF($J131<=9,\"0\"&$J131,$J131)&$L131&\"A4\"&LEFT($O131,2)&\"N\"),VLOOKUP($Z131,Ref!$AE:$AG,3,0)&$L131)","v":""},"","",{"$f":"IF($Z131=\"\",IF($G131=\"\",\"\",$D131*$W131*$K$1),VLOOKUP($Z131,Ref!$AE:$AG,2,0)*$Q131*$K$1*(1-$H$4/100))","v":""},{"$nulls":3},{"$f":"SUMIF(pricelist!$W:$W,'подбор радиатора TESI'!$AA131,pricelist!$J:$J)","v":0},null,0,null,{"$f":"IF($L131=\"\",\"\",VLOOKUP($L131,Ref!$D:$J,7,0))","v":""},{"$f":"SUMIF(Ref!$D:$D,'подбор радиатора TESI'!$L:$L,Ref!$E:$E)","v":{"v":0,"d":"0.00"}},null,{"$f":"SUMIF(Ref!$F:$F,'подбор радиатора TESI'!$O:$O,Ref!$G:$G)","v":{"v":0,"d":"0.00"}},null,{"$f":"SUMIF(pricelist!$W:$W,'подбор радиатора TESI'!$AA:$AA,pricelist!$K:$K)*$J131","v":{"v":0,"d":"0.00"}},{"$f":"SUMIF(pricelist!$W:$W,$AA:$AA,INDIRECT($S$12&$S$14))*$J131","v":{"v":0,"d":"0.00"}},0,null,{"$f":"SUMIF(Ref!$H:$H,'подбор радиатора TESI'!$U:$U,Ref!$I:$I)","v":{"v":0,"d":"0.00"}},{"$f":"(($N131*SUMIF(pricelist!$W:$W,'подбор радиатора TESI'!$AA:$AA,pricelist!$S:$S)*$J131)+$P131+IF($U131=\"радиусный\",$V131*$J131,$V131)+IF($J131>$AC131,31*1.13,0))*(1-$H$4/100)","v":{"v":0,"d":"0.00"}},{"$nulls":3},"/","/",{"$f":"SUMIF(Ref!$R:$R,'подбор радиатора TESI'!$AB:$AB,Ref!$Q:$Q)","v":0},1]
["",{"$f":"IF($Z132=\"\",IF($G132=\"\",\"\",\"RR\"&LEFT($G132,1)&$H132&IF($J132<=9,\"0\"&$J132,$J132)&$L132&\"A4\"&LEFT($O132,2)&\"N\"),VLOOKUP($Z132,Ref!$AE:$AG,3,0)&$L132)","v":""},"","",{"$f":"IF($Z132=\"\",IF($G132=\"\",\"\",$D132*$W132*$K$1),VLOOKUP($Z132,Ref!$AE:$AG,2,0)*$Q132*$K$1*(1-$H$4/100))","v":""},{"$nulls":3},{"$f":"SUMIF(pricelist!$W:$W,'подбор радиатора TESI'!$AA132,pricelist!$J:$J)","v":0},null,0,null,{"$f":"IF($L132=\"\",\"\",VLOOKUP($L132,Ref!$D:$J,7,0))","v":""},{"$f":"SUMIF(Ref!$D:$D,'подбор радиатора TESI'!$L:$L,Ref!$E:$E)","v":{"v":0,"d":"0.00"}},null,{"$f":"SUMIF(Ref!$F:$F,'подбор радиатора TESI'!$O:$O,Ref!$G:$G)","v":{"v":0,"d":"0.00"}},null,{"$f":"SUMIF(pricelist!$W:$W,'подбор радиатора TESI'!$AA:$AA,pricelist!$K:$K)*$J132","v":{"v":0,"d":"0.00"}},{"$f":"SUMIF(pricelist!$W:$W,$AA:$AA,INDIRECT($S$12&$S$14))*$J132","v":{"v":0,"d":"0.00"}},0,null,{"$f":"SUMIF(Ref!$H:$H,'подбор радиатора TESI'!$U:$U,Ref!$I:$I)","v":{"v":0,"d":"0.00"}},{"$f":"(($N132*SUMIF(pricelist!$W:$W,'подбор радиатора TESI'!$AA:$AA,pricelist!$S:$S)*$J132)+$P132+IF($U132=\"радиусный\",$V132*$J132,$V132)+IF($J132>$AC132,31*1.13,0))*(1-$H$4/100)","v":{"v":0,"d":"0.00"}},{"$nulls":3},"/","/",{"$f":"SUMIF(Ref!$R:$R,'подбор радиатора TESI'!$AB:$AB,Ref!$Q:$Q)","v":0},1]
["",{"$f":"IF($Z133=\"\",IF($G133=\"\",\"\",\"RR\"&LEFT($G133,1)&$H133&IF($J133<=9,\"0\"&$J133,$J133)&$L133&\"A4\"&LEFT($O133,2)&\"N\"),VLOOKUP($Z133,Ref!$AE:$AG,3,0)&$L133)","v":""},"","",{"$f":"IF($Z133=\"\",IF($G133=\"\",\"\",$D133*$W133*$K$1),VLOOKUP($Z133,Ref!$AE:$AG,2,0)*$Q133*$K$1*(1-$H$4/100))","v":""},{"$nulls":3},{"$f":"SUMIF(pricelist!$W:$W,'подбор радиатора TESI'!$AA133,pricelist!$J:$J)","v":0},null,0,null,{"$f":"IF($L133=\"\",\"\",VLOOKUP($L133,Ref!$D:$J,7,0))","v":""},{"$f":"SUMIF(Ref!$D:$D,'подбор радиатора TESI'!$L:$L,Ref!$E:$E)","v":{"v":0,"d":"0.00"}},null,{"$f":"SUMIF(Ref!$F:$F,'подбор радиатора TESI'!$O:$O,Ref!$G:$G)","v":{"v":0,"d":"0.00"}},null,{"$f":"SUMIF(pricelist!$W:$W,'подбор радиатора TESI'!$AA:$AA,pricelist!$K:$K)*$J133","v":{"v":0,"d":"0.00"}},{"$f":"SUMIF(pricelist!$W:$W,$AA:$AA,INDIRECT($S$12&$S$14))*$J133","v":{"v":0,"d":"0.00"}},0,null,{"$f":"SUMIF(Ref!$H:$H,'подбор радиатора TESI'!$U:$U,Ref!$I:$I)","v":{"v":0,"d":"0.00"}},{"$f":"(($N133*SUMIF(pricelist!$W:$W,'подбор радиатора TESI'!$AA:$AA,pricelist!$S:$S)*$J133)+$P133+IF($U133=\"радиусный\",$V133*$J133,$V133)+IF($J133>$AC133,31*1.13,0))*(1-$H$4/100)","v":{"v":0,"d":"0.00"}},{"$nulls":3},"/","/",{"$f":"SUMIF(Ref!$R:$R,'подбор радиатора TESI'!$AB:$AB,Ref!$Q:$Q)","v":0},1]
["",{"$f":"IF($Z134=\"\",IF($G134=\"\",\"\",\"RR\"&LEFT($G134,1)&$H134&IF($J134<=9,\"0\"&$J134,$J134)&$L134&\"A4\"&LEFT($O134,2)&\"N\"),VLOOKUP($Z134,Ref!$AE:$AG,3,0)&$L134)","v":""},"","",{"$f":"IF($Z134=\"\",IF($G134=\"\",\"\",$D134*$W134*$K$1),VLOOKUP($Z134,Ref!$AE:$AG,2,0)*$Q134*$K$1*(1-$H$4/100))","v":""},{"$nulls":3},{"$f":"SUMIF(pricelist!$W:$W,'подбор радиатора TESI'!$AA134,pricelist!$J:$J)","v":0},null,0,null,{"$f":"IF($L134=\"\",\"\",VLOOKUP($L134,Ref!$D:$J,7,0))","v":""},{"$f":"SUMIF(Ref!$D:$D,'подбор радиатора TESI'!$L:$L,Ref!$E:$E)","v":{"v":0,"d":"0.00"}},null,{"$f":"SUMIF(Ref!$F:$F,'подбор радиатора TESI'!$O:$O,Ref!$G:$G)","v":{"v":0,"d":"0.00"}},null,{"$f":"SUMIF(pricelist!$W:$W,'подбор радиатора TESI'!$AA:$AA,pricelist!$K:$K)*$J134","v":{"v":0,"d":"0.00"}},{"$f":"SUMIF(pricelist!$W:$W,$AA:$AA,INDIRECT($S$12&$S$14))*$J134","v":{"v":0,"d":"0.00"}},0,null,{"$f":"SUMIF(Ref!$H:$H,'подбор радиатора TESI'!$U:$U,Ref!$I:$I)","v":{"v":0,"d":"0.00"}},{"$f":"(($N134*SUMIF(pricelist!$W:$W,'подбор радиатора TESI'!$AA:$AA,pricelist!$S:$S)*$J134)+$P134+IF($U134=\"радиусный\",$V134*$J134,$V134)+IF($J134>$AC134,31*1.13,0))*(1-$H$4/100)","v":{"v":0,"d":"0.00"}},{"$nulls":3},"/","/",{"$f":"SUMIF(Ref!$R:$R,'подбор радиатора TESI'!$AB:$AB,Ref!$Q:$Q)","v":0},1]
["",{"$f":"IF($Z135=\"\",IF($G135=\"\",\"\",\"RR\"&LEFT($G135,1)&$H135&IF($J135<=9,\"0\"&$J135,$J135)&$L135&\"A4\"&LEFT($O135,2)&\"N\"),VLOOKUP($Z135,Ref!$AE:$AG,3,0)&$L135)","v":""},"","",{"$f":"IF($Z135=\"\",IF($G135=\"\",\"\",$D135*$W135*$K$1),VLOOKUP($Z135,Ref!$AE:$AG,2,0)*$Q135*$K$1*(1-$H$4/100))","v":""},{"$nulls":3},{"$f":"SUMIF(pricelist!$W:$W,'подбор радиатора TESI'!$AA135,pricelist!$J:$J)","v":0},null,0,null,{"$f":"IF($L135=\"\",\"\",VLOOKUP($L135,Ref!$D:$J,7,0))","v":""},{"$f":"SUMIF(Ref!$D:$D,'подбор радиатора TESI'!$L:$L,Ref!$E:$E)","v":{"v":0,"d":"0.00"}},null,{"$f":"SUMIF(Ref!$F:$F,'подбор радиатора TESI'!$O:$O,Ref!$G:$G)","v":{"v":0,"d":"0.00"}},null,{"$f":"SUMIF(pricelist!$W:$W,'подбор радиатора TESI'!$AA:$AA,pricelist!$K:$K)*$J135","v":{"v":0,"d":"0.00"}},{"$f":"SUMIF(pricelist!$W:$W,$AA:$AA,INDIRECT($S$12&$S$14))*$J135","v":{"v":0,"d":"0.00"}},0,null,{"$f":"SUMIF(Ref!$H:$H,'подбор радиатора TESI'!$U:$U,Ref!$I:$I)","v":{"v":0,"d":"0.00"}},{"$f":"(($N135*SUMIF(pricelist!$W:$W,'подбор радиатора TESI'!$AA:$AA,pricelist!$S:$S)*$J135)+$P135+IF($U135=\"радиусный\",$V135*$J135,$V135)+IF($J135>$AC135,31*1.13,0))*(1-$H$4/100)","v":{"v":0,"d":"0.00"}},{"$nulls":3},"/","/",{"$f":"SUMIF(Ref!$R:$R,'подбор радиатора TESI'!$AB:$AB,Ref!$Q:$Q)","v":0},1]
["",{"$f":"IF($Z136=\"\",IF($G136=\"\",\"\",\"RR\"&LEFT($G136,1)&$H136&IF($J136<=9,\"0\"&$J136,$J136)&$L136&\"A4\"&LEFT($O136,2)&\"N\"),VLOOKUP($Z136,Ref!$AE:$AG,3,0)&$L136)","v":""},"","",{"$f":"IF($Z136=\"\",IF($G136=\"\",\"\",$D136*$W136*$K$1),VLOOKUP($Z136,Ref!$AE:$AG,2,0)*$Q136*$K$1*(1-$H$4/100))","v":""},{"$nulls":3},{"$f":"SUMIF(pricelist!$W:$W,'подбор радиатора TESI'!$AA136,pricelist!$J:$J)","v":0},null,0,null,{"$f":"IF($L136=\"\",\"\",VLOOKUP($L136,Ref!$D:$J,7,0))","v":""},{"$f":"SUMIF(Ref!$D:$D,'подбор радиатора TESI'!$L:$L,Ref!$E:$E)","v":{"v":0,"d":"0.00"}},null,{"$f":"SUMIF(Ref!$F:$F,'подбор радиатора TESI'!$O:$O,Ref!$G:$G)","v":{"v":0,"d":"0.00"}},null,{"$f":"SUMIF(pricelist!$W:$W,'подбор радиатора TESI'!$AA:$AA,pricelist!$K:$K)*$J136","v":{"v":0,"d":"0.00"}},{"$f":"SUMIF(pricelist!$W:$W,$AA:$AA,INDIRECT($S$12&$S$14))*$J136","v":{"v":0,"d":"0.00"}},0,null,{"$f":"SUMIF(Ref!$H:$H,'подбор радиатора TESI'!$U:$U,Ref!$I:$I)","v":{"v":0,"d":"0.00"}},{"$f":"(($N136*SUMIF(pricelist!$W:$W,'подбор радиатора TESI'!$AA:$AA,pricelist!$S:$S)*$J136)+$P136+IF($U136=\"радиусный\",$V136*$J136,$V136)+IF($J136>$AC136,31*1.13,0))*(1-$H$4/100)","v":{"v":0,"d":"0.00"}},{"$nulls":3},"/","/",{"$f":"SUMIF(Ref!$R:$R,'подбор радиатора TESI'!$AB:$AB,Ref!$Q:$Q)","v":0},1]
["",{"$f":"IF($Z137=\"\",IF($G137=\"\",\"\",\"RR\"&LEFT($G137,1)&$H137&IF($J137<=9,\"0\"&$J137,$J137)&$L137&\"A4\"&LEFT($O137,2)&\"N\"),VLOOKUP($Z137,Ref!$AE:$AG,3,0)&$L137)","v":""},"","",{"$f":"IF($Z137=\"\",IF($G137=\"\",\"\",$D137*$W137*$K$1),VLOOKUP($Z137,Ref!$AE:$AG,2,0)*$Q137*$K$1*(1-$H$4/100))","v":""},{"$nulls":3},{"$f":"SUMIF(pricelist!$W:$W,'подбор радиатора TESI'!$AA137,pricelist!$J:$J)","v":0},null,0,null,{"$f":"IF($L137=\"\",\"\",VLOOKUP($L137,Ref!$D:$J,7,0))","v":""},{"$f":"SUMIF(Ref!$D:$D,'подбор радиатора TESI'!$L:$L,Ref!$E:$E)","v":{"v":0,"d":"0.00"}},null,{"$f":"SUMIF(Ref!$F:$F,'подбор радиатора TESI'!$O:$O,Ref!$G:$G)","v":{"v":0,"d":"0.00"}},null,{"$f":"SUMIF(pricelist!$W:$W,'подбор радиатора TESI'!$AA:$AA,pricelist!$K:$K)*$J137","v":{"v":0,"d":"0.00"}},{"$f":"SUMIF(pricelist!$W:$W,$AA:$AA,INDIRECT($S$12&$S$14))*$J137","v":{"v":0,"d":"0.00"}},0,null,{"$f":"SUMIF(Ref!$H:$H,'подбор радиатора TESI'!$U:$U,Ref!$I:$I)","v":{"v":0,"d":"0.00"}},{"$f":"(($N137*SUMIF(pricelist!$W:$W,'подбор радиатора TESI'!$AA:$AA,pricelist!$S:$S)*$J137)+$P137+IF($U137=\"радиусный\",$V137*$J137,$V137)+IF($J137>$AC137,31*1.13,0))*(1-$H$4/100)","v":{"v":0,"d":"0.00"}},{"$nulls":3},"/","/",{"$f":"SUMIF(Ref!$R:$R,'подбор радиатора TESI'!$AB:$AB,Ref!$Q:$Q)","v":0},1]
["",{"$f":"IF($Z138=\"\",IF($G138=\"\",\"\",\"RR\"&LEFT($G138,1)&$H138&IF($J138<=9,\"0\"&$J138,$J138)&$L138&\"A4\"&LEFT($O138,2)&\"N\"),VLOOKUP($Z138,Ref!$AE:$AG,3,0)&$L138)","v":""},"","",{"$f":"IF($Z138=\"\",IF($G138=\"\",\"\",$D138*$W138*$K$1),VLOOKUP($Z138,Ref!$AE:$AG,2,0)*$Q138*$K$1*(1-$H$4/100))","v":""},{"$nulls":3},{"$f":"SUMIF(pricelist!$W:$W,'подбор радиатора TESI'!$AA138,pricelist!$J:$J)","v":0},null,0,null,{"$f":"IF($L138=\"\",\"\",VLOOKUP($L138,Ref!$D:$J,7,0))","v":""},{"$f":"SUMIF(Ref!$D:$D,'подбор радиатора TESI'!$L:$L,Ref!$E:$E)","v":{"v":0,"d":"0.00"}},null,{"$f":"SUMIF(Ref!$F:$F,'подбор радиатора TESI'!$O:$O,Ref!$G:$G)","v":{"v":0,"d":"0.00"}},null,{"$f":"SUMIF(pricelist!$W:$W,'подбор радиатора TESI'!$AA:$AA,pricelist!$K:$K)*$J138","v":{"v":0,"d":"0.00"}},{"$f":"SUMIF(pricelist!$W:$W,$AA:$AA,INDIRECT($S$12&$S$14))*$J138","v":{"v":0,"d":"0.00"}},0,null,{"$f":"SUMIF(Ref!$H:$H,'подбор радиатора TESI'!$U:$U,Ref!$I:$I)","v":{"v":0,"d":"0.00"}},{"$f":"(($N138*SUMIF(pricelist!$W:$W,'подбор радиатора TESI'!$AA:$AA,pricelist!$S:$S)*$J138)+$P138+IF($U138=\"радиусный\",$V138*$J138,$V138)+IF($J138>$AC138,31*1.13,0))*(1-$H$4/100)","v":{"v":0,"d":"0.00"}},{"$nulls":3},"/","/",{"$f":"SUMIF(Ref!$R:$R,'подбор радиатора TESI'!$AB:$AB,Ref!$Q:$Q)","v":0},1]
["",{"$f":"IF($Z139=\"\",IF($G139=\"\",\"\",\"RR\"&LEFT($G139,1)&$H139&IF($J139<=9,\"0\"&$J139,$J139)&$L139&\"A4\"&LEFT($O139,2)&\"N\"),VLOOKUP($Z139,Ref!$AE:$AG,3,0)&$L139)","v":""},"","",{"$f":"IF($Z139=\"\",IF($G139=\"\",\"\",$D139*$W139*$K$1),VLOOKUP($Z139,Ref!$AE:$AG,2,0)*$Q139*$K$1*(1-$H$4/100))","v":""},{"$nulls":3},{"$f":"SUMIF(pricelist!$W:$W,'подбор радиатора TESI'!$AA139,pricelist!$J:$J)","v":0},null,0,null,{"$f":"IF($L139=\"\",\"\",VLOOKUP($L139,Ref!$D:$J,7,0))","v":""},{"$f":"SUMIF(Ref!$D:$D,'подбор радиатора TESI'!$L:$L,Ref!$E:$E)","v":{"v":0,"d":"0.00"}},null,{"$f":"SUMIF(Ref!$F:$F,'подбор радиатора TESI'!$O:$O,Ref!$G:$G)","v":{"v":0,"d":"0.00"}},null,{"$f":"SUMIF(pricelist!$W:$W,'подбор радиатора TESI'!$AA:$AA,pricelist!$K:$K)*$J139","v":{"v":0,"d":"0.00"}},{"$f":"SUMIF(pricelist!$W:$W,$AA:$AA,INDIRECT($S$12&$S$14))*$J139","v":{"v":0,"d":"0.00"}},0,null,{"$f":"SUMIF(Ref!$H:$H,'подбор радиатора TESI'!$U:$U,Ref!$I:$I)","v":{"v":0,"d":"0.00"}},{"$f":"(($N139*SUMIF(pricelist!$W:$W,'подбор радиатора TESI'!$AA:$AA,pricelist!$S:$S)*$J139)+$P139+IF($U139=\"радиусный\",$V139*$J139,$V139)+IF($J139>$AC139,31*1.13,0))*(1-$H$4/100)","v":{"v":0,"d":"0.00"}},{"$nulls":3},"/","/",{"$f":"SUMIF(Ref!$R:$R,'подбор радиатора TESI'!$AB:$AB,Ref!$Q:$Q)","v":0},1]
["",{"$f":"IF($Z140=\"\",IF($G140=\"\",\"\",\"RR\"&LEFT($G140,1)&$H140&IF($J140<=9,\"0\"&$J140,$J140)&$L140&\"A4\"&LEFT($O140,2)&\"N\"),VLOOKUP($Z140,Ref!$AE:$AG,3,0)&$L140)","v":""},"","",{"$f":"IF($Z140=\"\",IF($G140=\"\",\"\",$D140*$W140*$K$1),VLOOKUP($Z140,Ref!$AE:$AG,2,0)*$Q140*$K$1*(1-$H$4/100))","v":""},{"$nulls":3},{"$f":"SUMIF(pricelist!$W:$W,'подбор радиатора TESI'!$AA140,pricelist!$J:$J)","v":0},null,0,null,{"$f":"IF($L140=\"\",\"\",VLOOKUP($L140,Ref!$D:$J,7,0))","v":""},{"$f":"SUMIF(Ref!$D:$D,'подбор радиатора TESI'!$L:$L,Ref!$E:$E)","v":{"v":0,"d":"0.00"}},null,{"$f":"SUMIF(Ref!$F:$F,'подбор радиатора TESI'!$O:$O,Ref!$G:$G)","v":{"v":0,"d":"0.00"}},null,{"$f":"SUMIF(pricelist!$W:$W,'подбор радиатора TESI'!$AA:$AA,pricelist!$K:$K)*$J140","v":{"v":0,"d":"0.00"}},{"$f":"SUMIF(pricelist!$W:$W,$AA:$AA,INDIRECT($S$12&$S$14))*$J140","v":{"v":0,"d":"0.00"}},0,null,{"$f":"SUMIF(Ref!$H:$H,'подбор радиатора TESI'!$U:$U,Ref!$I:$I)","v":{"v":0,"d":"0.00"}},{"$f":"(($N140*SUMIF(pricelist!$W:$W,'подбор радиатора TESI'!$AA:$AA,pricelist!$S:$S)*$J140)+$P140+IF($U140=\"радиусный\",$V140*$J140,$V140)+IF($J140>$AC140,31*1.13,0))*(1-$H$4/100)","v":{"v":0,"d":"0.00"}},{"$nulls":3},"/","/",{"$f":"SUMIF(Ref!$R:$R,'подбор радиатора TESI'!$AB:$AB,Ref!$Q:$Q)","v":0},1]
["",{"$f":"IF($Z141=\"\",IF($G141=\"\",\"\",\"RR\"&LEFT($G141,1)&$H141&IF($J141<=9,\"0\"&$J141,$J141)&$L141&\"A4\"&LEFT($O141,2)&\"N\"),VLOOKUP($Z141,Ref!$AE:$AG,3,0)&$L141)","v":""},"","",{"$f":"IF($Z141=\"\",IF($G141=\"\",\"\",$D141*$W141*$K$1),VLOOKUP($Z141,Ref!$AE:$AG,2,0)*$Q141*$K$1*(1-$H$4/100))","v":""},{"$nulls":3},{"$f":"SUMIF(pricelist!$W:$W,'подбор радиатора TESI'!$AA141,pricelist!$J:$J)","v":0},null,0,null,{"$f":"IF($L141=\"\",\"\",VLOOKUP($L141,Ref!$D:$J,7,0))","v":""},{"$f":"SUMIF(Ref!$D:$D,'подбор радиатора TESI'!$L:$L,Ref!$E:$E)","v":{"v":0,"d":"0.00"}},null,{"$f":"SUMIF(Ref!$F:$F,'подбор радиатора TESI'!$O:$O,Ref!$G:$G)","v":{"v":0,"d":"0.00"}},null,{"$f":"SUMIF(pricelist!$W:$W,'подбор радиатора TESI'!$AA:$AA,pricelist!$K:$K)*$J141","v":{"v":0,"d":"0.00"}},{"$f":"SUMIF(pricelist!$W:$W,$AA:$AA,INDIRECT($S$12&$S$14))*$J141","v":{"v":0,"d":"0.00"}},0,null,{"$f":"SUMIF(Ref!$H:$H,'подбор радиатора TESI'!$U:$U,Ref!$I:$I)","v":{"v":0,"d":"0.00"}},{"$f":"(($N141*SUMIF(pricelist!$W:$W,'подбор радиатора TESI'!$AA:$AA,pricelist!$S:$S)*$J141)+$P141+IF($U141=\"радиусный\",$V141*$J141,$V141)+IF($J141>$AC141,31*1.13,0))*(1-$H$4/100)","v":{"v":0,"d":"0.00"}},{"$nulls":3},"/","/",{"$f":"SUMIF(Ref!$R:$R,'подбор радиатора TESI'!$AB:$AB,Ref!$Q:$Q)","v":0},1]
["",{"$f":"IF($Z142=\"\",IF($G142=\"\",\"\",\"RR\"&LEFT($G142,1)&$H142&IF($J142<=9,\"0\"&$J142,$J142)&$L142&\"A4\"&LEFT($O142,2)&\"N\"),VLOOKUP($Z142,Ref!$AE:$AG,3,0)&$L142)","v":""},"","",{"$f":"IF($Z142=\"\",IF($G142=\"\",\"\",$D142*$W142*$K$1),VLOOKUP($Z142,Ref!$AE:$AG,2,0)*$Q142*$K$1*(1-$H$4/100))","v":""},{"$nulls":3},{"$f":"SUMIF(pricelist!$W:$W,'подбор радиатора TESI'!$AA142,pricelist!$J:$J)","v":0},null,0,null,{"$f":"IF($L142=\"\",\"\",VLOOKUP($L142,Ref!$D:$J,7,0))","v":""},{"$f":"SUMIF(Ref!$D:$D,'подбор радиатора TESI'!$L:$L,Ref!$E:$E)","v":{"v":0,"d":"0.00"}},null,{"$f":"SUMIF(Ref!$F:$F,'подбор радиатора TESI'!$O:$O,Ref!$G:$G)","v":{"v":0,"d":"0.00"}},null,{"$f":"SUMIF(pricelist!$W:$W,'подбор радиатора TESI'!$AA:$AA,pricelist!$K:$K)*$J142","v":{"v":0,"d":"0.00"}},{"$f":"SUMIF(pricelist!$W:$W,$AA:$AA,INDIRECT($S$12&$S$14))*$J142","v":{"v":0,"d":"0.00"}},0,null,{"$f":"SUMIF(Ref!$H:$H,'подбор радиатора TESI'!$U:$U,Ref!$I:$I)","v":{"v":0,"d":"0.00"}},{"$f":"(($N142*SUMIF(pricelist!$W:$W,'подбор радиатора TESI'!$AA:$AA,pricelist!$S:$S)*$J142)+$P142+IF($U142=\"радиусный\",$V142*$J142,$V142)+IF($J142>$AC142,31*1.13,0))*(1-$H$4/100)","v":{"v":0,"d":"0.00"}},{"$nulls":3},"/","/",{"$f":"SUMIF(Ref!$R:$R,'подбор радиатора TESI'!$AB:$AB,Ref!$Q:$Q)","v":0},1]
["",{"$f":"IF($Z143=\"\",IF($G143=\"\",\"\",\"RR\"&LEFT($G143,1)&$H143&IF($J143<=9,\"0\"&$J143,$J143)&$L143&\"A4\"&LEFT($O143,2)&\"N\"),VLOOKUP($Z143,Ref!$AE:$AG,3,0)&$L143)","v":""},"","",{"$f":"IF($Z143=\"\",IF($G143=\"\",\"\",$D143*$W143*$K$1),VLOOKUP($Z143,Ref!$AE:$AG,2,0)*$Q143*$K$1*(1-$H$4/100))","v":""},{"$nulls":3},{"$f":"SUMIF(pricelist!$W:$W,'подбор радиатора TESI'!$AA143,pricelist!$J:$J)","v":0},null,0,null,{"$f":"IF($L143=\"\",\"\",VLOOKUP($L143,Ref!$D:$J,7,0))","v":""},{"$f":"SUMIF(Ref!$D:$D,'подбор радиатора TESI'!$L:$L,Ref!$E:$E)","v":{"v":0,"d":"0.00"}},null,{"$f":"SUMIF(Ref!$F:$F,'подбор радиатора TESI'!$O:$O,Ref!$G:$G)","v":{"v":0,"d":"0.00"}},null,{"$f":"SUMIF(pricelist!$W:$W,'подбор радиатора TESI'!$AA:$AA,pricelist!$K:$K)*$J143","v":{"v":0,"d":"0.00"}},{"$f":"SUMIF(pricelist!$W:$W,$AA:$AA,INDIRECT($S$12&$S$14))*$J143","v":{"v":0,"d":"0.00"}},0,null,{"$f":"SUMIF(Ref!$H:$H,'подбор радиатора TESI'!$U:$U,Ref!$I:$I)","v":{"v":0,"d":"0.00"}},{"$f":"(($N143*SUMIF(pricelist!$W:$W,'подбор радиатора TESI'!$AA:$AA,pricelist!$S:$S)*$J143)+$P143+IF($U143=\"радиусный\",$V143*$J143,$V143)+IF($J143>$AC143,31*1.13,0))*(1-$H$4/100)","v":{"v":0,"d":"0.00"}},{"$nulls":3},"/","/",{"$f":"SUMIF(Ref!$R:$R,'подбор радиатора TESI'!$AB:$AB,Ref!$Q:$Q)","v":0},1]
["",{"$f":"IF($Z144=\"\",IF($G144=\"\",\"\",\"RR\"&LEFT($G144,1)&$H144&IF($J144<=9,\"0\"&$J144,$J144)&$L144&\"A4\"&LEFT($O144,2)&\"N\"),VLOOKUP($Z144,Ref!$AE:$AG,3,0)&$L144)","v":""},"","",{"$f":"IF($Z144=\"\",IF($G144=\"\",\"\",$D144*$W144*$K$1),VLOOKUP($Z144,Ref!$AE:$AG,2,0)*$Q144*$K$1*(1-$H$4/100))","v":""},{"$nulls":3},{"$f":"SUMIF(pricelist!$W:$W,'подбор радиатора TESI'!$AA144,pricelist!$J:$J)","v":0},null,0,null,{"$f":"IF($L144=\"\",\"\",VLOOKUP($L144,Ref!$D:$J,7,0))","v":""},{"$f":"SUMIF(Ref!$D:$D,'подбор радиатора TESI'!$L:$L,Ref!$E:$E)","v":{"v":0,"d":"0.00"}},null,{"$f":"SUMIF(Ref!$F:$F,'подбор радиатора TESI'!$O:$O,Ref!$G:$G)","v":{"v":0,"d":"0.00"}},null,{"$f":"SUMIF(pricelist!$W:$W,'подбор радиатора TESI'!$AA:$AA,pricelist!$K:$K)*$J144","v":{"v":0,"d":"0.00"}},{"$f":"SUMIF(pricelist!$W:$W,$AA:$AA,INDIRECT($S$12&$S$14))*$J144","v":{"v":0,"d":"0.00"}},0,null,{"$f":"SUMIF(Ref!$H:$H,'подбор радиатора TESI'!$U:$U,Ref!$I:$I)","v":{"v":0,"d":"0.00"}},{"$f":"(($N144*SUMIF(pricelist!$W:$W,'подбор радиатора TESI'!$AA:$AA,pricelist!$S:$S)*$J144)+$P144+IF($U144=\"радиусный\",$V144*$J144,$V144)+IF($J144>$AC144,31*1.13,0))*(1-$H$4/100)","v":{"v":0,"d":"0.00"}},{"$nulls":3},"/","/",{"$f":"SUMIF(Ref!$R:$R,'подбор радиатора TESI'!$AB:$AB,Ref!$Q:$Q)","v":0},1]
["",{"$f":"IF($Z145=\"\",IF($G145=\"\",\"\",\"RR\"&LEFT($G145,1)&$H145&IF($J145<=9,\"0\"&$J145,$J145)&$L145&\"A4\"&LEFT($O145,2)&\"N\"),VLOOKUP($Z145,Ref!$AE:$AG,3,0)&$L145)","v":""},"","",{"$f":"IF($Z145=\"\",IF($G145=\"\",\"\",$D145*$W145*$K$1),VLOOKUP($Z145,Ref!$AE:$AG,2,0)*$Q145*$K$1*(1-$H$4/100))","v":""},{"$nulls":3},{"$f":"SUMIF(pricelist!$W:$W,'подбор радиатора TESI'!$AA145,pricelist!$J:$J)","v":0},null,0,null,{"$f":"IF($L145=\"\",\"\",VLOOKUP($L145,Ref!$D:$J,7,0))","v":""},{"$f":"SUMIF(Ref!$D:$D,'подбор радиатора TESI'!$L:$L,Ref!$E:$E)","v":{"v":0,"d":"0.00"}},null,{"$f":"SUMIF(Ref!$F:$F,'подбор радиатора TESI'!$O:$O,Ref!$G:$G)","v":{"v":0,"d":"0.00"}},null,{"$f":"SUMIF(pricelist!$W:$W,'подбор радиатора TESI'!$AA:$AA,pricelist!$K:$K)*$J145","v":{"v":0,"d":"0.00"}},{"$f":"SUMIF(pricelist!$W:$W,$AA:$AA,INDIRECT($S$12&$S$14))*$J145","v":{"v":0,"d":"0.00"}},0,null,{"$f":"SUMIF(Ref!$H:$H,'подбор радиатора TESI'!$U:$U,Ref!$I:$I)","v":{"v":0,"d":"0.00"}},{"$f":"(($N145*SUMIF(pricelist!$W:$W,'подбор радиатора TESI'!$AA:$AA,pricelist!$S:$S)*$J145)+$P145+IF($U145=\"радиусный\",$V145*$J145,$V145)+IF($J145>$AC145,31*1.13,0))*(1-$H$4/100)","v":{"v":0,"d":"0.00"}},{"$nulls":3},"/","/",{"$f":"SUMIF(Ref!$R:$R,'подбор радиатора TESI'!$AB:$AB,Ref!$Q:$Q)","v":0},1]
["",{"$f":"IF($Z146=\"\",IF($G146=\"\",\"\",\"RR\"&LEFT($G146,1)&$H146&IF($J146<=9,\"0\"&$J146,$J146)&$L146&\"A4\"&LEFT($O146,2)&\"N\"),VLOOKUP($Z146,Ref!$AE:$AG,3,0)&$L146)","v":""},"",{"$f":"IF($Z146=\"\",IF($G146=\"\",\"\",$Q146),$Q146)","v":""},{"$f":"IF($Z146=\"\",IF($G146=\"\",\"\",$D146*$W146*$K$1),VLOOKUP($Z146,Ref!$AE:$AG,2,0)*$Q146*$K$1*(1-$H$4/100))","v":""},{"$nulls":3},{"$f":"SUMIF(pricelist!$W:$W,'подбор радиатора TESI'!$AA146,pricelist!$J:$J)","v":0},null,0,null,{"$f":"IF($L146=\"\",\"\",VLOOKUP($L146,Ref!$D:$J,7,0))","v":""},{"$f":"SUMIF(Ref!$D:$D,'подбор радиатора TESI'!$L:$L,Ref!$E:$E)","v":{"v":0,"d":"0.00"}},null,{"$f":"SUMIF(Ref!$F:$F,'подбор радиатора TESI'!$O:$O,Ref!$G:$G)","v":{"v":0,"d":"0.00"}},null,{"$f":"SUMIF(pricelist!$W:$W,'подбор радиатора TESI'!$AA:$AA,pricelist!$K:$K)*$J146","v":{"v":0,"d":"0.00"}},{"$f":"SUMIF(pricelist!$W:$W,$AA:$AA,INDIRECT($S$12&$S$14))*$J146","v":{"v":0,"d":"0.00"}},{"$f":"$J146*$Q146","v":0},null,{"$f":"SUMIF(Ref!$H:$H,'подбор радиатора TESI'!$U:$U,Ref!$I:$I)","v":{"v":0,"d":"0.00"}},{"$f":"(($N146*SUMIF(pricelist!$W:$W,'подбор радиатора TESI'!$AA:$AA,pricelist!$S:$S)*$J146)+$P146+IF($U146=\"радиусный\",$V146*$J146,$V146)+IF($J146>$AC146,31*1.13,0))*(1-$H$4/100)","v":{"v":0,"d":"0.00"}},{"$nulls":3},"/","/",{"$f":"SUMIF(Ref!$R:$R,'подбор радиатора TESI'!$AB:$AB,Ref!$Q:$Q)","v":0},1]
[{"$f":"IF($C147=\"\",\"\",A146+1)","v":""},{"$f":"IF($Z147=\"\",IF($G147=\"\",\"\",\"RR\"&LEFT($G147,1)&$H147&IF($J147<=9,\"0\"&$J147,$J147)&$L147&\"A4\"&LEFT($O147,2)&\"N\"),VLOOKUP($Z147,Ref!$AE:$AG,3,0)&$L147)","v":""},{"$f":"IF($Z147=\"\",IF($G147=\"\",\"\",\"RR\"&LEFT($G147,1)&\" \"&$H147&\", секций \"&$J147&\", цвет \"&$L147&\", подкл. \"&LEFT($O147,3)&\", \"&$U147),$Z147&\" \"&$L147)","v":""},"",{"$f":"IF($Z147=\"\",IF($G147=\"\",\"\",$D147*$W147*$K$1),VLOOKUP($Z147,Ref!$AE:$AG,2,0)*$Q147*$K$1*(1-$H$4/100))","v":""},{"$nulls":3},{"$f":"SUMIF(pricelist!$W:$W,'подбор радиатора TESI'!$AA147,pricelist!$J:$J)","v":0},null,{"$f":"$J147*45","v":0},null,{"$f":"IF($L147=\"\",\"\",VLOOKUP($L147,Ref!$D:$J,7,0))","v":""},{"$f":"SUMIF(Ref!$D:$D,'подбор радиатора TESI'!$L:$L,Ref!$E:$E)","v":{"v":0,"d":"0.00"}},null,{"$f":"SUMIF(Ref!$F:$F,'подбор радиатора TESI'!$O:$O,Ref!$G:$G)","v":{"v":0,"d":"0.00"}},null,{"$f":"SUMIF(pricelist!$W:$W,'подбор радиатора TESI'!$AA:$AA,pricelist!$K:$K)*$J147","v":{"v":0,"d":"0.00"}},{"$f":"SUMIF(pricelist!$W:$W,$AA:$AA,INDIRECT($S$12&$S$14))*$J147","v":{"v":0,"d":"0.00"}},0,null,{"$f":"SUMIF(Ref!$H:$H,'подбор радиатора TESI'!$U:$U,Ref!$I:$I)","v":{"v":0,"d":"0.00"}},{"$f":"(($N147*SUMIF(pricelist!$W:$W,'подбор радиатора TESI'!$AA:$AA,pricelist!$S:$S)*$J147)+$P147+IF($U147=\"радиусный\",$V147*$J147,$V147)+IF($J147>$AC147,31*1.13,0))*(1-$H$4/100)","v":{"v":0,"d":"0.00"}},{"$nulls":3},"/","/",{"$f":"SUMIF(Ref!$R:$R,'подбор радиатора TESI'!$AB:$AB,Ref!$Q:$Q)","v":0},{"$f":"IF($Z147=\"\",1,0)","v":1}]
["",{"$f":"IF($Z148=\"\",IF($G148=\"\",\"\",\"RR\"&LEFT($G148,1)&$H148&IF($J148<=9,\"0\"&$J148,$J148)&$L148&\"A4\"&LEFT($O148,2)&\"N\"),VLOOKUP($Z148,Ref!$AE:$AG,3,0)&$L148)","v":""},"","",{"$f":"IF($Z148=\"\",IF($G148=\"\",\"\",$D148*$W148*$K$1),VLOOKUP($Z148,Ref!$AE:$AG,2,0)*$Q148*$K$1*(1-$H$4/100))","v":""},{"$nulls":3},{"$f":"SUMIF(pricelist!$W:$W,'подбор радиатора TESI'!$AA148,pricelist!$J:$J)","v":0},null,0,null,{"$f":"IF($L148=\"\",\"\",VLOOKUP($L148,Ref!$D:$J,7,0))","v":""},{"$f":"SUMIF(Ref!$D:$D,'подбор радиатора TESI'!$L:$L,Ref!$E:$E)","v":{"v":0,"d":"0.00"}},null,{"$f":"SUMIF(Ref!$F:$F,'подбор радиатора TESI'!$O:$O,Ref!$G:$G)","v":{"v":0,"d":"0.00"}},null,{"$f":"SUMIF(pricelist!$W:$W,'подбор радиатора TESI'!$AA:$AA,pricelist!$K:$K)*$J148","v":{"v":0,"d":"0.00"}},{"$f":"SUMIF(pricelist!$W:$W,$AA:$AA,INDIRECT($S$12&$S$14))*$J148","v":{"v":0,"d":"0.00"}},0,null,{"$f":"SUMIF(Ref!$H:$H,'подбор радиатора TESI'!$U:$U,Ref!$I:$I)","v":{"v":0,"d":"0.00"}},{"$f":"(($N148*SUMIF(pricelist!$W:$W,'подбор радиатора TESI'!$AA:$AA,pricelist!$S:$S)*$J148)+$P148+IF($U148=\"радиусный\",$V148*$J148,$V148)+IF($J148>$AC148,31*1.13,0))*(1-$H$4/100)","v":{"v":0,"d":"0.00"}},{"$nulls":3},"/","/",{"$f":"SUMIF(Ref!$R:$R,'подбор радиатора TESI'!$AB:$AB,Ref!$Q:$Q)","v":0},1]
["",{"$f":"IF($Z149=\"\",IF($G149=\"\",\"\",\"RR\"&LEFT($G149,1)&$H149&IF($J149<=9,\"0\"&$J149,$J149)&$L149&\"A4\"&LEFT($O149,2)&\"N\"),VLOOKUP($Z149,Ref!$AE:$AG,3,0)&$L149)","v":""},"","",{"$f":"IF($Z149=\"\",IF($G149=\"\",\"\",$D149*$W149*$K$1),VLOOKUP($Z149,Ref!$AE:$AG,2,0)*$Q149*$K$1*(1-$H$4/100))","v":""},{"$nulls":3},{"$f":"SUMIF(pricelist!$W:$W,'подбор радиатора TESI'!$AA149,pricelist!$J:$J)","v":0},null,0,null,{"$f":"IF($L149=\"\",\"\",VLOOKUP($L149,Ref!$D:$J,7,0))","v":""},{"$f":"SUMIF(Ref!$D:$D,'подбор радиатора TESI'!$L:$L,Ref!$E:$E)","v":{"v":0,"d":"0.00"}},null,{"$f":"SUMIF(Ref!$F:$F,'подбор радиатора TESI'!$O:$O,Ref!$G:$G)","v":{"v":0,"d":"0.00"}},null,{"$f":"SUMIF(pricelist!$W:$W,'подбор радиатора TESI'!$AA:$AA,pricelist!$K:$K)*$J149","v":{"v":0,"d":"0.00"}},{"$f":"SUMIF(pricelist!$W:$W,$AA:$AA,INDIRECT($S$12&$S$14))*$J149","v":{"v":0,"d":"0.00"}},0,null,{"$f":"SUMIF(Ref!$H:$H,'подбор радиатора TESI'!$U:$U,Ref!$I:$I)","v":{"v":0,"d":"0.00"}},{"$f":"(($N149*SUMIF(pricelist!$W:$W,'подбор радиатора TESI'!$AA:$AA,pricelist!$S:$S)*$J149)+$P149+IF($U149=\"радиусный\",$V149*$J149,$V149)+IF($J149>$AC149,31*1.13,0))*(1-$H$4/100)","v":{"v":0,"d":"0.00"}},{"$nulls":3},"/","/",{"$f":"SUMIF(Ref!$R:$R,'подбор радиатора TESI'!$AB:$AB,Ref!$Q:$Q)","v":0},1]
["",{"$f":"IF($Z150=\"\",IF($G150=\"\",\"\",\"RR\"&LEFT($G150,1)&$H150&IF($J150<=9,\"0\"&$J150,$J150)&$L150&\"A4\"&LEFT($O150,2)&\"N\"),VLOOKUP($Z150,Ref!$AE:$AG,3,0)&$L150)","v":""},"","",{"$f":"IF($Z150=\"\",IF($G150=\"\",\"\",$D150*$W150*$K$1),VLOOKUP($Z150,Ref!$AE:$AG,2,0)*$Q150*$K$1*(1-$H$4/100))","v":""},{"$nulls":3},{"$f":"SUMIF(pricelist!$W:$W,'подбор радиатора TESI'!$AA150,pricelist!$J:$J)","v":0},null,0,null,{"$f":"IF($L150=\"\",\"\",VLOOKUP($L150,Ref!$D:$J,7,0))","v":""},{"$f":"SUMIF(Ref!$D:$D,'подбор радиатора TESI'!$L:$L,Ref!$E:$E)","v":{"v":0,"d":"0.00"}},null,{"$f":"SUMIF(Ref!$F:$F,'подбор радиатора TESI'!$O:$O,Ref!$G:$G)","v":{"v":0,"d":"0.00"}},null,{"$f":"SUMIF(pricelist!$W:$W,'подбор радиатора TESI'!$AA:$AA,pricelist!$K:$K)*$J150","v":{"v":0,"d":"0.00"}},{"$f":"SUMIF(pricelist!$W:$W,$AA:$AA,INDIRECT($S$12&$S$14))*$J150","v":{"v":0,"d":"0.00"}},0,null,{"$f":"SUMIF(Ref!$H:$H,'подбор радиатора TESI'!$U:$U,Ref!$I:$I)","v":{"v":0,"d":"0.00"}},{"$f":"(($N150*SUMIF(pricelist!$W:$W,'подбор радиатора TESI'!$AA:$AA,pricelist!$S:$S)*$J150)+$P150+IF($U150=\"радиусный\",$V150*$J150,$V150)+IF($J150>$AC150,31*1.13,0))*(1-$H$4/100)","v":{"v":0,"d":"0.00"}},{"$nulls":3},"/","/",{"$f":"SUMIF(Ref!$R:$R,'подбор радиатора TESI'!$AB:$AB,Ref!$Q:$Q)","v":0},1]
["",{"$f":"IF($Z151=\"\",IF($G151=\"\",\"\",\"RR\"&LEFT($G151,1)&$H151&IF($J151<=9,\"0\"&$J151,$J151)&$L151&\"A4\"&LEFT($O151,2)&\"N\"),VLOOKUP($Z151,Ref!$AE:$AG,3,0)&$L151)","v":""},"","",{"$f":"IF($Z151=\"\",IF($G151=\"\",\"\",$D151*$W151*$K$1),VLOOKUP($Z151,Ref!$AE:$AG,2,0)*$Q151*$K$1*(1-$H$4/100))","v":""},{"$nulls":3},{"$f":"SUMIF(pricelist!$W:$W,'подбор радиатора TESI'!$AA151,pricelist!$J:$J)","v":0},null,0,null,{"$f":"IF($L151=\"\",\"\",VLOOKUP($L151,Ref!$D:$J,7,0))","v":""},{"$f":"SUMIF(Ref!$D:$D,'подбор радиатора TESI'!$L:$L,Ref!$E:$E)","v":{"v":0,"d":"0.00"}},null,{"$f":"SUMIF(Ref!$F:$F,'подбор радиатора TESI'!$O:$O,Ref!$G:$G)","v":{"v":0,"d":"0.00"}},null,{"$f":"SUMIF(pricelist!$W:$W,'подбор радиатора TESI'!$AA:$AA,pricelist!$K:$K)*$J151","v":{"v":0,"d":"0.00"}},{"$f":"SUMIF(pricelist!$W:$W,$AA:$AA,INDIRECT($S$12&$S$14))*$J151","v":{"v":0,"d":"0.00"}},0,null,{"$f":"SUMIF(Ref!$H:$H,'подбор радиатора TESI'!$U:$U,Ref!$I:$I)","v":{"v":0,"d":"0.00"}},{"$f":"(($N151*SUMIF(pricelist!$W:$W,'подбор радиатора TESI'!$AA:$AA,pricelist!$S:$S)*$J151)+$P151+IF($U151=\"радиусный\",$V151*$J151,$V151)+IF($J151>$AC151,31*1.13,0))*(1-$H$4/100)","v":{"v":0,"d":"0.00"}},{"$nulls":3},"/","/",{"$f":"SUMIF(Ref!$R:$R,'подбор радиатора TESI'!$AB:$AB,Ref!$Q:$Q)","v":0},1]
["",{"$f":"IF($Z152=\"\",IF($G152=\"\",\"\",\"RR\"&LEFT($G152,1)&$H152&IF($J152<=9,\"0\"&$J152,$J152)&$L152&\"A4\"&LEFT($O152,2)&\"N\"),VLOOKUP($Z152,Ref!$AE:$AG,3,0)&$L152)","v":""},"","",{"$f":"IF($Z152=\"\",IF($G152=\"\",\"\",$D152*$W152*$K$1),VLOOKUP($Z152,Ref!$AE:$AG,2,0)*$Q152*$K$1*(1-$H$4/100))","v":""},{"$nulls":3},{"$f":"SUMIF(pricelist!$W:$W,'подбор радиатора TESI'!$AA152,pricelist!$J:$J)","v":0},null,0,null,{"$f":"IF($L152=\"\",\"\",VLOOKUP($L152,Ref!$D:$J,7,0))","v":""},{"$f":"SUMIF(Ref!$D:$D,'подбор радиатора TESI'!$L:$L,Ref!$E:$E)","v":{"v":0,"d":"0.00"}},null,{"$f":"SUMIF(Ref!$F:$F,'подбор радиатора TESI'!$O:$O,Ref!$G:$G)","v":{"v":0,"d":"0.00"}},null,{"$f":"SUMIF(pricelist!$W:$W,'подбор радиатора TESI'!$AA:$AA,pricelist!$K:$K)*$J152","v":{"v":0,"d":"0.00"}},{"$f":"SUMIF(pricelist!$W:$W,$AA:$AA,INDIRECT($S$12&$S$14))*$J152","v":{"v":0,"d":"0.00"}},0,null,{"$f":"SUMIF(Ref!$H:$H,'подбор радиатора TESI'!$U:$U,Ref!$I:$I)","v":{"v":0,"d":"0.00"}},{"$f":"(($N152*SUMIF(pricelist!$W:$W,'подбор радиатора TESI'!$AA:$AA,pricelist!$S:$S)*$J152)+$P152+IF($U152=\"радиусный\",$V152*$J152,$V152)+IF($J152>$AC152,31*1.13,0))*(1-$H$4/100)","v":{"v":0,"d":"0.00"}},{"$nulls":3},"/","/",{"$f":"SUMIF(Ref!$R:$R,'подбор радиатора TESI'!$AB:$AB,Ref!$Q:$Q)","v":0},1]
["",{"$f":"IF($Z153=\"\",IF($G153=\"\",\"\",\"RR\"&LEFT($G153,1)&$H153&IF($J153<=9,\"0\"&$J153,$J153)&$L153&\"A4\"&LEFT($O153,2)&\"N\"),VLOOKUP($Z153,Ref!$AE:$AG,3,0)&$L153)","v":""},"","",{"$f":"IF($Z153=\"\",IF($G153=\"\",\"\",$D153*$W153*$K$1),VLOOKUP($Z153,Ref!$AE:$AG,2,0)*$Q153*$K$1*(1-$H$4/100))","v":""},{"$nulls":3},{"$f":"SUMIF(pricelist!$W:$W,'подбор радиатора TESI'!$AA153,pricelist!$J:$J)","v":0},null,0,null,{"$f":"IF($L153=\"\",\"\",VLOOKUP($L153,Ref!$D:$J,7,0))","v":""},{"$f":"SUMIF(Ref!$D:$D,'подбор радиатора TESI'!$L:$L,Ref!$E:$E)","v":{"v":0,"d":"0.00"}},null,{"$f":"SUMIF(Ref!$F:$F,'подбор радиатора TESI'!$O:$O,Ref!$G:$G)","v":{"v":0,"d":"0.00"}},null,{"$f":"SUMIF(pricelist!$W:$W,'подбор радиатора TESI'!$AA:$AA,pricelist!$K:$K)*$J153","v":{"v":0,"d":"0.00"}},{"$f":"SUMIF(pricelist!$W:$W,$AA:$AA,INDIRECT($S$12&$S$14))*$J153","v":{"v":0,"d":"0.00"}},0,null,{"$f":"SUMIF(Ref!$H:$H,'подбор радиатора TESI'!$U:$U,Ref!$I:$I)","v":{"v":0,"d":"0.00"}},{"$f":"(($N153*SUMIF(pricelist!$W:$W,'подбор радиатора TESI'!$AA:$AA,pricelist!$S:$S)*$J153)+$P153+IF($U153=\"радиусный\",$V153*$J153,$V153)+IF($J153>$AC153,31*1.13,0))*(1-$H$4/100)","v":{"v":0,"d":"0.00"}},{"$nulls":3},"/","/",{"$f":"SUMIF(Ref!$R:$R,'подбор радиатора TESI'!$AB:$AB,Ref!$Q:$Q)","v":0},1]
["",{"$f":"IF($Z154=\"\",IF($G154=\"\",\"\",\"RR\"&LEFT($G154,1)&$H154&IF($J154<=9,\"0\"&$J154,$J154)&$L154&\"A4\"&LEFT($O154,2)&\"N\"),VLOOKUP($Z154,Ref!$AE:$AG,3,0)&$L154)","v":""},"","",{"$f":"IF($Z154=\"\",IF($G154=\"\",\"\",$D154*$W154*$K$1),VLOOKUP($Z154,Ref!$AE:$AG,2,0)*$Q154*$K$1*(1-$H$4/100))","v":""},{"$nulls":3},{"$f":"SUMIF(pricelist!$W:$W,'подбор радиатора TESI'!$AA154,pricelist!$J:$J)","v":0},null,0,null,{"$f":"IF($L154=\"\",\"\",VLOOKUP($L154,Ref!$D:$J,7,0))","v":""},{"$f":"SUMIF(Ref!$D:$D,'подбор радиатора TESI'!$L:$L,Ref!$E:$E)","v":{"v":0,"d":"0.00"}},null,{"$f":"SUMIF(Ref!$F:$F,'подбор радиатора TESI'!$O:$O,Ref!$G:$G)","v":{"v":0,"d":"0.00"}},null,{"$f":"SUMIF(pricelist!$W:$W,'подбор радиатора TESI'!$AA:$AA,pricelist!$K:$K)*$J154","v":{"v":0,"d":"0.00"}},{"$f":"SUMIF(pricelist!$W:$W,$AA:$AA,INDIRECT($S$12&$S$14))*$J154","v":{"v":0,"d":"0.00"}},0,null,{"$f":"SUMIF(Ref!$H:$H,'подбор радиатора TESI'!$U:$U,Ref!$I:$I)","v":{"v":0,"d":"0.00"}},{"$f":"(($N154*SUMIF(pricelist!$W:$W,'подбор радиатора TESI'!$AA:$AA,pricelist!$S:$S)*$J154)+$P154+IF($U154=\"радиусный\",$V154*$J154,$V154)+IF($J154>$AC154,31*1.13,0))*(1-$H$4/100)","v":{"v":0,"d":"0.00"}},{"$nulls":3},"/","/",{"$f":"SUMIF(Ref!$R:$R,'подбор радиатора TESI'!$AB:$AB,Ref!$Q:$Q)","v":0},1]
["",{"$f":"IF($Z155=\"\",IF($G155=\"\",\"\",\"RR\"&LEFT($G155,1)&$H155&IF($J155<=9,\"0\"&$J155,$J155)&$L155&\"A4\"&LEFT($O155,2)&\"N\"),VLOOKUP($Z155,Ref!$AE:$AG,3,0)&$L155)","v":""},"","",{"$f":"IF($Z155=\"\",IF($G155=\"\",\"\",$D155*$W155*$K$1),VLOOKUP($Z155,Ref!$AE:$AG,2,0)*$Q155*$K$1*(1-$H$4/100))","v":""},{"$nulls":3},{"$f":"SUMIF(pricelist!$W:$W,'подбор радиатора TESI'!$AA155,pricelist!$J:$J)","v":0},null,0,null,{"$f":"IF($L155=\"\",\"\",VLOOKUP($L155,Ref!$D:$J,7,0))","v":""},{"$f":"SUMIF(Ref!$D:$D,'подбор радиатора TESI'!$L:$L,Ref!$E:$E)","v":{"v":0,"d":"0.00"}},null,{"$f":"SUMIF(Ref!$F:$F,'подбор радиатора TESI'!$O:$O,Ref!$G:$G)","v":{"v":0,"d":"0.00"}},null,{"$f":"SUMIF(pricelist!$W:$W,'подбор радиатора TESI'!$AA:$AA,pricelist!$K:$K)*$J155","v":{"v":0,"d":"0.00"}},{"$f":"SUMIF(pricelist!$W:$W,$AA:$AA,INDIRECT($S$12&$S$14))*$J155","v":{"v":0,"d":"0.00"}},0,null,{"$f":"SUMIF(Ref!$H:$H,'подбор радиатора TESI'!$U:$U,Ref!$I:$I)","v":{"v":0,"d":"0.00"}},{"$f":"(($N155*SUMIF(pricelist!$W:$W,'подбор радиатора TESI'!$AA:$AA,pricelist!$S:$S)*$J155)+$P155+IF($U155=\"радиусный\",$V155*$J155,$V155)+IF($J155>$AC155,31*1.13,0))*(1-$H$4/100)","v":{"v":0,"d":"0.00"}},{"$nulls":3},"/","/",{"$f":"SUMIF(Ref!$R:$R,'подбор радиатора TESI'!$AB:$AB,Ref!$Q:$Q)","v":0},1]
["",{"$f":"IF($Z156=\"\",IF($G156=\"\",\"\",\"RR\"&LEFT($G156,1)&$H156&IF($J156<=9,\"0\"&$J156,$J156)&$L156&\"A4\"&LEFT($O156,2)&\"N\"),VLOOKUP($Z156,Ref!$AE:$AG,3,0)&$L156)","v":""},"","",{"$f":"IF($Z156=\"\",IF($G156=\"\",\"\",$D156*$W156*$K$1),VLOOKUP($Z156,Ref!$AE:$AG,2,0)*$Q156*$K$1*(1-$H$4/100))","v":""},{"$nulls":3},{"$f":"SUMIF(pricelist!$W:$W,'подбор радиатора TESI'!$AA156,pricelist!$J:$J)","v":0},null,0,null,{"$f":"IF($L156=\"\",\"\",VLOOKUP($L156,Ref!$D:$J,7,0))","v":""},{"$f":"SUMIF(Ref!$D:$D,'подбор радиатора TESI'!$L:$L,Ref!$E:$E)","v":{"v":0,"d":"0.00"}},null,{"$f":"SUMIF(Ref!$F:$F,'подбор радиатора TESI'!$O:$O,Ref!$G:$G)","v":{"v":0,"d":"0.00"}},null,{"$f":"SUMIF(pricelist!$W:$W,'подбор радиатора TESI'!$AA:$AA,pricelist!$K:$K)*$J156","v":{"v":0,"d":"0.00"}},{"$f":"SUMIF(pricelist!$W:$W,$AA:$AA,INDIRECT($S$12&$S$14))*$J156","v":{"v":0,"d":"0.00"}},0,null,{"$f":"SUMIF(Ref!$H:$H,'подбор радиатора TESI'!$U:$U,Ref!$I:$I)","v":{"v":0,"d":"0.00"}},{"$f":"(($N156*SUMIF(pricelist!$W:$W,'подбор радиатора TESI'!$AA:$AA,pricelist!$S:$S)*$J156)+$P156+IF($U156=\"радиусный\",$V156*$J156,$V156)+IF($J156>$AC156,31*1.13,0))*(1-$H$4/100)","v":{"v":0,"d":"0.00"}},{"$nulls":3},"/","/",{"$f":"SUMIF(Ref!$R:$R,'подбор радиатора TESI'!$AB:$AB,Ref!$Q:$Q)","v":0},1]
["",{"$f":"IF($Z157=\"\",IF($G157=\"\",\"\",\"RR\"&LEFT($G157,1)&$H157&IF($J157<=9,\"0\"&$J157,$J157)&$L157&\"A4\"&LEFT($O157,2)&\"N\"),VLOOKUP($Z157,Ref!$AE:$AG,3,0)&$L157)","v":""},"","",{"$f":"IF($Z157=\"\",IF($G157=\"\",\"\",$D157*$W157*$K$1),VLOOKUP($Z157,Ref!$AE:$AG,2,0)*$Q157*$K$1*(1-$H$4/100))","v":""},{"$nulls":3},{"$f":"SUMIF(pricelist!$W:$W,'подбор радиатора TESI'!$AA157,pricelist!$J:$J)","v":0},null,0,null,{"$f":"IF($L157=\"\",\"\",VLOOKUP($L157,Ref!$D:$J,7,0))","v":""},{"$f":"SUMIF(Ref!$D:$D,'подбор радиатора TESI'!$L:$L,Ref!$E:$E)","v":{"v":0,"d":"0.00"}},null,{"$f":"SUMIF(Ref!$F:$F,'подбор радиатора TESI'!$O:$O,Ref!$G:$G)","v":{"v":0,"d":"0.00"}},null,{"$f":"SUMIF(pricelist!$W:$W,'подбор радиатора TESI'!$AA:$AA,pricelist!$K:$K)*$J157","v":{"v":0,"d":"0.00"}},{"$f":"SUMIF(pricelist!$W:$W,$AA:$AA,INDIRECT($S$12&$S$14))*$J157","v":{"v":0,"d":"0.00"}},0,null,{"$f":"SUMIF(Ref!$H:$H,'подбор радиатора TESI'!$U:$U,Ref!$I:$I)","v":{"v":0,"d":"0.00"}},{"$f":"(($N157*SUMIF(pricelist!$W:$W,'подбор радиатора TESI'!$AA:$AA,pricelist!$S:$S)*$J157)+$P157+IF($U157=\"радиусный\",$V157*$J157,$V157)+IF($J157>$AC157,31*1.13,0))*(1-$H$4/100)","v":{"v":0,"d":"0.00"}},{"$nulls":3},"/","/",{"$f":"SUMIF(Ref!$R:$R,'подбор радиатора TESI'!$AB:$AB,Ref!$Q:$Q)","v":0},1]
["",{"$f":"IF($Z158=\"\",IF($G158=\"\",\"\",\"RR\"&LEFT($G158,1)&$H158&IF($J158<=9,\"0\"&$J158,$J158)&$L158&\"A4\"&LEFT($O158,2)&\"N\"),VLOOKUP($Z158,Ref!$AE:$AG,3,0)&$L158)","v":""},"","",{"$f":"IF($Z158=\"\",IF($G158=\"\",\"\",$D158*$W158*$K$1),VLOOKUP($Z158,Ref!$AE:$AG,2,0)*$Q158*$K$1*(1-$H$4/100))","v":""},{"$nulls":3},{"$f":"SUMIF(pricelist!$W:$W,'подбор радиатора TESI'!$AA158,pricelist!$J:$J)","v":0},null,0,null,{"$f":"IF($L158=\"\",\"\",VLOOKUP($L158,Ref!$D:$J,7,0))","v":""},{"$f":"SUMIF(Ref!$D:$D,'подбор радиатора TESI'!$L:$L,Ref!$E:$E)","v":{"v":0,"d":"0.00"}},null,{"$f":"SUMIF(Ref!$F:$F,'подбор радиатора TESI'!$O:$O,Ref!$G:$G)","v":{"v":0,"d":"0.00"}},null,{"$f":"SUMIF(pricelist!$W:$W,'подбор радиатора TESI'!$AA:$AA,pricelist!$K:$K)*$J158","v":{"v":0,"d":"0.00"}},{"$f":"SUMIF(pricelist!$W:$W,$AA:$AA,INDIRECT($S$12&$S$14))*$J158","v":{"v":0,"d":"0.00"}},0,null,{"$f":"SUMIF(Ref!$H:$H,'подбор радиатора TESI'!$U:$U,Ref!$I:$I)","v":{"v":0,"d":"0.00"}},{"$f":"(($N158*SUMIF(pricelist!$W:$W,'подбор радиатора TESI'!$AA:$AA,pricelist!$S:$S)*$J158)+$P158+IF($U158=\"радиусный\",$V158*$J158,$V158)+IF($J158>$AC158,31*1.13,0))*(1-$H$4/100)","v":{"v":0,"d":"0.00"}},{"$nulls":3},"/","/",{"$f":"SUMIF(Ref!$R:$R,'подбор радиатора TESI'!$AB:$AB,Ref!$Q:$Q)","v":0},1]
["",{"$f":"IF($Z159=\"\",IF($G159=\"\",\"\",\"RR\"&LEFT($G159,1)&$H159&IF($J159<=9,\"0\"&$J159,$J159)&$L159&\"A4\"&LEFT($O159,2)&\"N\"),VLOOKUP($Z159,Ref!$AE:$AG,3,0)&$L159)","v":""},"","",{"$f":"IF($Z159=\"\",IF($G159=\"\",\"\",$D159*$W159*$K$1),VLOOKUP($Z159,Ref!$AE:$AG,2,0)*$Q159*$K$1*(1-$H$4/100))","v":""},{"$nulls":3},{"$f":"SUMIF(pricelist!$W:$W,'подбор радиатора TESI'!$AA159,pricelist!$J:$J)","v":0},null,0,null,{"$f":"IF($L159=\"\",\"\",VLOOKUP($L159,Ref!$D:$J,7,0))","v":""},{"$f":"SUMIF(Ref!$D:$D,'подбор радиатора TESI'!$L:$L,Ref!$E:$E)","v":{"v":0,"d":"0.00"}},null,{"$f":"SUMIF(Ref!$F:$F,'подбор радиатора TESI'!$O:$O,Ref!$G:$G)","v":{"v":0,"d":"0.00"}},null,{"$f":"SUMIF(pricelist!$W:$W,'подбор радиатора TESI'!$AA:$AA,pricelist!$K:$K)*$J159","v":{"v":0,"d":"0.00"}},{"$f":"SUMIF(pricelist!$W:$W,$AA:$AA,INDIRECT($S$12&$S$14))*$J159","v":{"v":0,"d":"0.00"}},0,null,{"$f":"SUMIF(Ref!$H:$H,'подбор радиатора TESI'!$U:$U,Ref!$I:$I)","v":{"v":0,"d":"0.00"}},{"$f":"(($N159*SUMIF(pricelist!$W:$W,'подбор радиатора TESI'!$AA:$AA,pricelist!$S:$S)*$J159)+$P159+IF($U159=\"радиусный\",$V159*$J159,$V159)+IF($J159>$AC159,31*1.13,0))*(1-$H$4/100)","v":{"v":0,"d":"0.00"}},{"$nulls":3},"/","/",{"$f":"SUMIF(Ref!$R:$R,'подбор радиатора TESI'!$AB:$AB,Ref!$Q:$Q)","v":0},1]
["",{"$f":"IF($Z160=\"\",IF($G160=\"\",\"\",\"RR\"&LEFT($G160,1)&$H160&IF($J160<=9,\"0\"&$J160,$J160)&$L160&\"A4\"&LEFT($O160,2)&\"N\"),VLOOKUP($Z160,Ref!$AE:$AG,3,0)&$L160)","v":""},"","",{"$f":"IF($Z160=\"\",IF($G160=\"\",\"\",$D160*$W160*$K$1),VLOOKUP($Z160,Ref!$AE:$AG,2,0)*$Q160*$K$1*(1-$H$4/100))","v":""},{"$nulls":3},{"$f":"SUMIF(pricelist!$W:$W,'подбор радиатора TESI'!$AA160,pricelist!$J:$J)","v":0},null,0,null,{"$f":"IF($L160=\"\",\"\",VLOOKUP($L160,Ref!$D:$J,7,0))","v":""},{"$f":"SUMIF(Ref!$D:$D,'подбор радиатора TESI'!$L:$L,Ref!$E:$E)","v":{"v":0,"d":"0.00"}},null,{"$f":"SUMIF(Ref!$F:$F,'подбор радиатора TESI'!$O:$O,Ref!$G:$G)","v":{"v":0,"d":"0.00"}},null,{"$f":"SUMIF(pricelist!$W:$W,'подбор радиатора TESI'!$AA:$AA,pricelist!$K:$K)*$J160","v":{"v":0,"d":"0.00"}},{"$f":"SUMIF(pricelist!$W:$W,$AA:$AA,INDIRECT($S$12&$S$14))*$J160","v":{"v":0,"d":"0.00"}},0,null,{"$f":"SUMIF(Ref!$H:$H,'подбор радиатора TESI'!$U:$U,Ref!$I:$I)","v":{"v":0,"d":"0.00"}},{"$f":"(($N160*SUMIF(pricelist!$W:$W,'подбор радиатора TESI'!$AA:$AA,pricelist!$S:$S)*$J160)+$P160+IF($U160=\"радиусный\",$V160*$J160,$V160)+IF($J160>$AC160,31*1.13,0))*(1-$H$4/100)","v":{"v":0,"d":"0.00"}},{"$nulls":3},"/","/",{"$f":"SUMIF(Ref!$R:$R,'подбор радиатора TESI'!$AB:$AB,Ref!$Q:$Q)","v":0},1]
["",{"$f":"IF($Z161=\"\",IF($G161=\"\",\"\",\"RR\"&LEFT($G161,1)&$H161&IF($J161<=9,\"0\"&$J161,$J161)&$L161&\"A4\"&LEFT($O161,2)&\"N\"),VLOOKUP($Z161,Ref!$AE:$AG,3,0)&$L161)","v":""},"","",{"$f":"IF($Z161=\"\",IF($G161=\"\",\"\",$D161*$W161*$K$1),VLOOKUP($Z161,Ref!$AE:$AG,2,0)*$Q161*$K$1*(1-$H$4/100))","v":""},{"$nulls":3},{"$f":"SUMIF(pricelist!$W:$W,'подбор радиатора TESI'!$AA161,pricelist!$J:$J)","v":0},null,0,null,{"$f":"IF($L161=\"\",\"\",VLOOKUP($L161,Ref!$D:$J,7,0))","v":""},{"$f":"SUMIF(Ref!$D:$D,'подбор радиатора TESI'!$L:$L,Ref!$E:$E)","v":{"v":0,"d":"0.00"}},null,{"$f":"SUMIF(Ref!$F:$F,'подбор радиатора TESI'!$O:$O,Ref!$G:$G)","v":{"v":0,"d":"0.00"}},null,{"$f":"SUMIF(pricelist!$W:$W,'подбор радиатора TESI'!$AA:$AA,pricelist!$K:$K)*$J161","v":{"v":0,"d":"0.00"}},{"$f":"SUMIF(pricelist!$W:$W,$AA:$AA,INDIRECT($S$12&$S$14))*$J161","v":{"v":0,"d":"0.00"}},0,null,{"$f":"SUMIF(Ref!$H:$H,'подбор радиатора TESI'!$U:$U,Ref!$I:$I)","v":{"v":0,"d":"0.00"}},{"$f":"(($N161*SUMIF(pricelist!$W:$W,'подбор радиатора TESI'!$AA:$AA,pricelist!$S:$S)*$J161)+$P161+IF($U161=\"радиусный\",$V161*$J161,$V161)+IF($J161>$AC161,31*1.13,0))*(1-$H$4/100)","v":{"v":0,"d":"0.00"}},{"$nulls":3},"/","/",{"$f":"SUMIF(Ref!$R:$R,'подбор радиатора TESI'!$AB:$AB,Ref!$Q:$Q)","v":0},1]
["",{"$f":"IF($Z162=\"\",IF($G162=\"\",\"\",\"RR\"&LEFT($G162,1)&$H162&IF($J162<=9,\"0\"&$J162,$J162)&$L162&\"A4\"&LEFT($O162,2)&\"N\"),VLOOKUP($Z162,Ref!$AE:$AG,3,0)&$L162)","v":""},"","",{"$f":"IF($Z162=\"\",IF($G162=\"\",\"\",$D162*$W162*$K$1),VLOOKUP($Z162,Ref!$AE:$AG,2,0)*$Q162*$K$1*(1-$H$4/100))","v":""},{"$nulls":3},{"$f":"SUMIF(pricelist!$W:$W,'подбор радиатора TESI'!$AA162,pricelist!$J:$J)","v":0},null,0,null,{"$f":"IF($L162=\"\",\"\",VLOOKUP($L162,Ref!$D:$J,7,0))","v":""},{"$f":"SUMIF(Ref!$D:$D,'подбор радиатора TESI'!$L:$L,Ref!$E:$E)","v":{"v":0,"d":"0.00"}},null,{"$f":"SUMIF(Ref!$F:$F,'подбор радиатора TESI'!$O:$O,Ref!$G:$G)","v":{"v":0,"d":"0.00"}},null,{"$f":"SUMIF(pricelist!$W:$W,'подбор радиатора TESI'!$AA:$AA,pricelist!$K:$K)*$J162","v":{"v":0,"d":"0.00"}},{"$f":"SUMIF(pricelist!$W:$W,$AA:$AA,INDIRECT($S$12&$S$14))*$J162","v":{"v":0,"d":"0.00"}},0,null,{"$f":"SUMIF(Ref!$H:$H,'подбор радиатора TESI'!$U:$U,Ref!$I:$I)","v":{"v":0,"d":"0.00"}},{"$f":"(($N162*SUMIF(pricelist!$W:$W,'подбор радиатора TESI'!$AA:$AA,pricelist!$S:$S)*$J162)+$P162+IF($U162=\"радиусный\",$V162*$J162,$V162)+IF($J162>$AC162,31*1.13,0))*(1-$H$4/100)","v":{"v":0,"d":"0.00"}},{"$nulls":3},"/","/",{"$f":"SUMIF(Ref!$R:$R,'подбор радиатора TESI'!$AB:$AB,Ref!$Q:$Q)","v":0},1]
["",{"$f":"IF($Z163=\"\",IF($G163=\"\",\"\",\"RR\"&LEFT($G163,1)&$H163&IF($J163<=9,\"0\"&$J163,$J163)&$L163&\"A4\"&LEFT($O163,2)&\"N\"),VLOOKUP($Z163,Ref!$AE:$AG,3,0)&$L163)","v":""},"","",{"$f":"IF($Z163=\"\",IF($G163=\"\",\"\",$D163*$W163*$K$1),VLOOKUP($Z163,Ref!$AE:$AG,2,0)*$Q163*$K$1*(1-$H$4/100))","v":""},{"$nulls":3},{"$f":"SUMIF(pricelist!$W:$W,'подбор радиатора TESI'!$AA163,pricelist!$J:$J)","v":0},null,0,null,{"$f":"IF($L163=\"\",\"\",VLOOKUP($L163,Ref!$D:$J,7,0))","v":""},{"$f":"SUMIF(Ref!$D:$D,'подбор радиатора TESI'!$L:$L,Ref!$E:$E)","v":{"v":0,"d":"0.00"}},null,{"$f":"SUMIF(Ref!$F:$F,'подбор радиатора TESI'!$O:$O,Ref!$G:$G)","v":{"v":0,"d":"0.00"}},null,{"$f":"SUMIF(pricelist!$W:$W,'подбор радиатора TESI'!$AA:$AA,pricelist!$K:$K)*$J163","v":{"v":0,"d":"0.00"}},{"$f":"SUMIF(pricelist!$W:$W,$AA:$AA,INDIRECT($S$12&$S$14))*$J163","v":{"v":0,"d":"0.00"}},0,null,{"$f":"SUMIF(Ref!$H:$H,'подбор радиатора TESI'!$U:$U,Ref!$I:$I)","v":{"v":0,"d":"0.00"}},{"$f":"(($N163*SUMIF(pricelist!$W:$W,'подбор радиатора TESI'!$AA:$AA,pricelist!$S:$S)*$J163)+$P163+IF($U163=\"радиусный\",$V163*$J163,$V163)+IF($J163>$AC163,31*1.13,0))*(1-$H$4/100)","v":{"v":0,"d":"0.00"}},{"$nulls":3},"/","/",{"$f":"SUMIF(Ref!$R:$R,'подбор радиатора TESI'!$AB:$AB,Ref!$Q:$Q)","v":0},1]
["",{"$f":"IF($Z164=\"\",IF($G164=\"\",\"\",\"RR\"&LEFT($G164,1)&$H164&IF($J164<=9,\"0\"&$J164,$J164)&$L164&\"A4\"&LEFT($O164,2)&\"N\"),VLOOKUP($Z164,Ref!$AE:$AG,3,0)&$L164)","v":""},"","",{"$f":"IF($Z164=\"\",IF($G164=\"\",\"\",$D164*$W164*$K$1),VLOOKUP($Z164,Ref!$AE:$AG,2,0)*$Q164*$K$1*(1-$H$4/100))","v":""},{"$nulls":3},{"$f":"SUMIF(pricelist!$W:$W,'подбор радиатора TESI'!$AA164,pricelist!$J:$J)","v":0},null,0,null,{"$f":"IF($L164=\"\",\"\",VLOOKUP($L164,Ref!$D:$J,7,0))","v":""},{"$f":"SUMIF(Ref!$D:$D,'подбор радиатора TESI'!$L:$L,Ref!$E:$E)","v":{"v":0,"d":"0.00"}},null,{"$f":"SUMIF(Ref!$F:$F,'подбор радиатора TESI'!$O:$O,Ref!$G:$G)","v":{"v":0,"d":"0.00"}},null,{"$f":"SUMIF(pricelist!$W:$W,'подбор радиатора TESI'!$AA:$AA,pricelist!$K:$K)*$J164","v":{"v":0,"d":"0.00"}},{"$f":"SUMIF(pricelist!$W:$W,$AA:$AA,INDIRECT($S$12&$S$14))*$J164","v":{"v":0,"d":"0.00"}},0,null,{"$f":"SUMIF(Ref!$H:$H,'подбор радиатора TESI'!$U:$U,Ref!$I:$I)","v":{"v":0,"d":"0.00"}},{"$f":"(($N164*SUMIF(pricelist!$W:$W,'подбор радиатора TESI'!$AA:$AA,pricelist!$S:$S)*$J164)+$P164+IF($U164=\"радиусный\",$V164*$J164,$V164)+IF($J164>$AC164,31*1.13,0))*(1-$H$4/100)","v":{"v":0,"d":"0.00"}},{"$nulls":3},"/","/",{"$f":"SUMIF(Ref!$R:$R,'подбор радиатора TESI'!$AB:$AB,Ref!$Q:$Q)","v":0},1]
["",{"$f":"IF($Z165=\"\",IF($G165=\"\",\"\",\"RR\"&LEFT($G165,1)&$H165&IF($J165<=9,\"0\"&$J165,$J165)&$L165&\"A4\"&LEFT($O165,2)&\"N\"),VLOOKUP($Z165,Ref!$AE:$AG,3,0)&$L165)","v":""},"","",{"$f":"IF($Z165=\"\",IF($G165=\"\",\"\",$D165*$W165*$K$1),VLOOKUP($Z165,Ref!$AE:$AG,2,0)*$Q165*$K$1*(1-$H$4/100))","v":""},{"$nulls":3},{"$f":"SUMIF(pricelist!$W:$W,'подбор радиатора TESI'!$AA165,pricelist!$J:$J)","v":0},null,0,null,{"$f":"IF($L165=\"\",\"\",VLOOKUP($L165,Ref!$D:$J,7,0))","v":""},{"$f":"SUMIF(Ref!$D:$D,'подбор радиатора TESI'!$L:$L,Ref!$E:$E)","v":{"v":0,"d":"0.00"}},null,{"$f":"SUMIF(Ref!$F:$F,'подбор радиатора TESI'!$O:$O,Ref!$G:$G)","v":{"v":0,"d":"0.00"}},null,{"$f":"SUMIF(pricelist!$W:$W,'подбор радиатора TESI'!$AA:$AA,pricelist!$K:$K)*$J165","v":{"v":0,"d":"0.00"}},{"$f":"SUMIF(pricelist!$W:$W,$AA:$AA,INDIRECT($S$12&$S$14))*$J165","v":{"v":0,"d":"0.00"}},0,null,{"$f":"SUMIF(Ref!$H:$H,'подбор радиатора TESI'!$U:$U,Ref!$I:$I)","v":{"v":0,"d":"0.00"}},{"$f":"(($N165*SUMIF(pricelist!$W:$W,'подбор радиатора TESI'!$AA:$AA,pricelist!$S:$S)*$J165)+$P165+IF($U165=\"радиусный\",$V165*$J165,$V165)+IF($J165>$AC165,31*1.13,0))*(1-$H$4/100)","v":{"v":0,"d":"0.00"}},{"$nulls":3},"/","/",{"$f":"SUMIF(Ref!$R:$R,'подбор радиатора TESI'!$AB:$AB,Ref!$Q:$Q)","v":0},1]
["",{"$f":"IF($Z166=\"\",IF($G166=\"\",\"\",\"RR\"&LEFT($G166,1)&$H166&IF($J166<=9,\"0\"&$J166,$J166)&$L166&\"A4\"&LEFT($O166,2)&\"N\"),VLOOKUP($Z166,Ref!$AE:$AG,3,0)&$L166)","v":""},"","",{"$f":"IF($Z166=\"\",IF($G166=\"\",\"\",$D166*$W166*$K$1),VLOOKUP($Z166,Ref!$AE:$AG,2,0)*$Q166*$K$1*(1-$H$4/100))","v":""},{"$nulls":3},{"$f":"SUMIF(pricelist!$W:$W,'подбор радиатора TESI'!$AA166,pricelist!$J:$J)","v":0},null,0,null,{"$f":"IF($L166=\"\",\"\",VLOOKUP($L166,Ref!$D:$J,7,0))","v":""},{"$f":"SUMIF(Ref!$D:$D,'подбор радиатора TESI'!$L:$L,Ref!$E:$E)","v":{"v":0,"d":"0.00"}},null,{"$f":"SUMIF(Ref!$F:$F,'подбор радиатора TESI'!$O:$O,Ref!$G:$G)","v":{"v":0,"d":"0.00"}},null,{"$f":"SUMIF(pricelist!$W:$W,'подбор радиатора TESI'!$AA:$AA,pricelist!$K:$K)*$J166","v":{"v":0,"d":"0.00"}},{"$f":"SUMIF(pricelist!$W:$W,$AA:$AA,INDIRECT($S$12&$S$14))*$J166","v":{"v":0,"d":"0.00"}},0,null,{"$f":"SUMIF(Ref!$H:$H,'подбор радиатора TESI'!$U:$U,Ref!$I:$I)","v":{"v":0,"d":"0.00"}},{"$f":"(($N166*SUMIF(pricelist!$W:$W,'подбор радиатора TESI'!$AA:$AA,pricelist!$S:$S)*$J166)+$P166+IF($U166=\"радиусный\",$V166*$J166,$V166)+IF($J166>$AC166,31*1.13,0))*(1-$H$4/100)","v":{"v":0,"d":"0.00"}},{"$nulls":3},"/","/",{"$f":"SUMIF(Ref!$R:$R,'подбор радиатора TESI'!$AB:$AB,Ref!$Q:$Q)","v":0},1]
["",{"$f":"IF($Z167=\"\",IF($G167=\"\",\"\",\"RR\"&LEFT($G167,1)&$H167&IF($J167<=9,\"0\"&$J167,$J167)&$L167&\"A4\"&LEFT($O167,2)&\"N\"),VLOOKUP($Z167,Ref!$AE:$AG,3,0)&$L167)","v":""},"","",{"$f":"IF($Z167=\"\",IF($G167=\"\",\"\",$D167*$W167*$K$1),VLOOKUP($Z167,Ref!$AE:$AG,2,0)*$Q167*$K$1*(1-$H$4/100))","v":""},{"$nulls":3},{"$f":"SUMIF(pricelist!$W:$W,'подбор радиатора TESI'!$AA167,pricelist!$J:$J)","v":0},null,0,null,{"$f":"IF($L167=\"\",\"\",VLOOKUP($L167,Ref!$D:$J,7,0))","v":""},{"$f":"SUMIF(Ref!$D:$D,'подбор радиатора TESI'!$L:$L,Ref!$E:$E)","v":{"v":0,"d":"0.00"}},null,{"$f":"SUMIF(Ref!$F:$F,'подбор радиатора TESI'!$O:$O,Ref!$G:$G)","v":{"v":0,"d":"0.00"}},null,{"$f":"SUMIF(pricelist!$W:$W,'подбор радиатора TESI'!$AA:$AA,pricelist!$K:$K)*$J167","v":{"v":0,"d":"0.00"}},{"$f":"SUMIF(pricelist!$W:$W,$AA:$AA,INDIRECT($S$12&$S$14))*$J167","v":{"v":0,"d":"0.00"}},0,null,{"$f":"SUMIF(Ref!$H:$H,'подбор радиатора TESI'!$U:$U,Ref!$I:$I)","v":{"v":0,"d":"0.00"}},{"$f":"(($N167*SUMIF(pricelist!$W:$W,'подбор радиатора TESI'!$AA:$AA,pricelist!$S:$S)*$J167)+$P167+IF($U167=\"радиусный\",$V167*$J167,$V167)+IF($J167>$AC167,31*1.13,0))*(1-$H$4/100)","v":{"v":0,"d":"0.00"}},{"$nulls":3},"/","/",{"$f":"SUMIF(Ref!$R:$R,'подбор радиатора TESI'!$AB:$AB,Ref!$Q:$Q)","v":0},1]
["",{"$f":"IF($Z168=\"\",IF($G168=\"\",\"\",\"RR\"&LEFT($G168,1)&$H168&IF($J168<=9,\"0\"&$J168,$J168)&$L168&\"A4\"&LEFT($O168,2)&\"N\"),VLOOKUP($Z168,Ref!$AE:$AG,3,0)&$L168)","v":""},"","",{"$f":"IF($Z168=\"\",IF($G168=\"\",\"\",$D168*$W168*$K$1),VLOOKUP($Z168,Ref!$AE:$AG,2,0)*$Q168*$K$1*(1-$H$4/100))","v":""},{"$nulls":3},{"$f":"SUMIF(pricelist!$W:$W,'подбор радиатора TESI'!$AA168,pricelist!$J:$J)","v":0},null,0,null,{"$f":"IF($L168=\"\",\"\",VLOOKUP($L168,Ref!$D:$J,7,0))","v":""},{"$f":"SUMIF(Ref!$D:$D,'подбор радиатора TESI'!$L:$L,Ref!$E:$E)","v":{"v":0,"d":"0.00"}},null,{"$f":"SUMIF(Ref!$F:$F,'подбор радиатора TESI'!$O:$O,Ref!$G:$G)","v":{"v":0,"d":"0.00"}},null,{"$f":"SUMIF(pricelist!$W:$W,'подбор радиатора TESI'!$AA:$AA,pricelist!$K:$K)*$J168","v":{"v":0,"d":"0.00"}},{"$f":"SUMIF(pricelist!$W:$W,$AA:$AA,INDIRECT($S$12&$S$14))*$J168","v":{"v":0,"d":"0.00"}},0,null,{"$f":"SUMIF(Ref!$H:$H,'подбор радиатора TESI'!$U:$U,Ref!$I:$I)","v":{"v":0,"d":"0.00"}},{"$f":"(($N168*SUMIF(pricelist!$W:$W,'подбор радиатора TESI'!$AA:$AA,pricelist!$S:$S)*$J168)+$P168+IF($U168=\"радиусный\",$V168*$J168,$V168)+IF($J168>$AC168,31*1.13,0))*(1-$H$4/100)","v":{"v":0,"d":"0.00"}},{"$nulls":3},"/","/",{"$f":"SUMIF(Ref!$R:$R,'подбор радиатора TESI'!$AB:$AB,Ref!$Q:$Q)","v":0},1]
["",{"$f":"IF($Z169=\"\",IF($G169=\"\",\"\",\"RR\"&LEFT($G169,1)&$H169&IF($J169<=9,\"0\"&$J169,$J169)&$L169&\"A4\"&LEFT($O169,2)&\"N\"),VLOOKUP($Z169,Ref!$AE:$AG,3,0)&$L169)","v":""},"","",{"$f":"IF($Z169=\"\",IF($G169=\"\",\"\",$D169*$W169*$K$1),VLOOKUP($Z169,Ref!$AE:$AG,2,0)*$Q169*$K$1*(1-$H$4/100))","v":""},{"$nulls":3},{"$f":"SUMIF(pricelist!$W:$W,'подбор радиатора TESI'!$AA169,pricelist!$J:$J)","v":0},null,0,null,{"$f":"IF($L169=\"\",\"\",VLOOKUP($L169,Ref!$D:$J,7,0))","v":""},{"$f":"SUMIF(Ref!$D:$D,'подбор радиатора TESI'!$L:$L,Ref!$E:$E)","v":{"v":0,"d":"0.00"}},null,{"$f":"SUMIF(Ref!$F:$F,'подбор радиатора TESI'!$O:$O,Ref!$G:$G)","v":{"v":0,"d":"0.00"}},null,{"$f":"SUMIF(pricelist!$W:$W,'подбор радиатора TESI'!$AA:$AA,pricelist!$K:$K)*$J169","v":{"v":0,"d":"0.00"}},{"$f":"SUMIF(pricelist!$W:$W,$AA:$AA,INDIRECT($S$12&$S$14))*$J169","v":{"v":0,"d":"0.00"}},0,null,{"$f":"SUMIF(Ref!$H:$H,'подбор радиатора TESI'!$U:$U,Ref!$I:$I)","v":{"v":0,"d":"0.00"}},{"$f":"(($N169*SUMIF(pricelist!$W:$W,'подбор радиатора TESI'!$AA:$AA,pricelist!$S:$S)*$J169)+$P169+IF($U169=\"радиусный\",$V169*$J169,$V169)+IF($J169>$AC169,31*1.13,0))*(1-$H$4/100)","v":{"v":0,"d":"0.00"}},{"$nulls":3},"/","/",{"$f":"SUMIF(Ref!$R:$R,'подбор радиатора TESI'!$AB:$AB,Ref!$Q:$Q)","v":0},1]
["",{"$f":"IF($Z170=\"\",IF($G170=\"\",\"\",\"RR\"&LEFT($G170,1)&$H170&IF($J170<=9,\"0\"&$J170,$J170)&$L170&\"A4\"&LEFT($O170,2)&\"N\"),VLOOKUP($Z170,Ref!$AE:$AG,3,0)&$L170)","v":""},"","",{"$f":"IF($Z170=\"\",IF($G170=\"\",\"\",$D170*$W170*$K$1),VLOOKUP($Z170,Ref!$AE:$AG,2,0)*$Q170*$K$1*(1-$H$4/100))","v":""},{"$nulls":3},{"$f":"SUMIF(pricelist!$W:$W,'подбор радиатора TESI'!$AA170,pricelist!$J:$J)","v":0},null,0,null,{"$f":"IF($L170=\"\",\"\",VLOOKUP($L170,Ref!$D:$J,7,0))","v":""},{"$f":"SUMIF(Ref!$D:$D,'подбор радиатора TESI'!$L:$L,Ref!$E:$E)","v":{"v":0,"d":"0.00"}},null,{"$f":"SUMIF(Ref!$F:$F,'подбор радиатора TESI'!$O:$O,Ref!$G:$G)","v":{"v":0,"d":"0.00"}},null,{"$f":"SUMIF(pricelist!$W:$W,'подбор радиатора TESI'!$AA:$AA,pricelist!$K:$K)*$J170","v":{"v":0,"d":"0.00"}},{"$f":"SUMIF(pricelist!$W:$W,$AA:$AA,INDIRECT($S$12&$S$14))*$J170","v":{"v":0,"d":"0.00"}},0,null,{"$f":"SUMIF(Ref!$H:$H,'подбор радиатора TESI'!$U:$U,Ref!$I:$I)","v":{"v":0,"d":"0.00"}},{"$f":"(($N170*SUMIF(pricelist!$W:$W,'подбор радиатора TESI'!$AA:$AA,pricelist!$S:$S)*$J170)+$P170+IF($U170=\"радиусный\",$V170*$J170,$V170)+IF($J170>$AC170,31*1.13,0))*(1-$H$4/100)","v":{"v":0,"d":"0.00"}},{"$nulls":3},"/","/",{"$f":"SUMIF(Ref!$R:$R,'подбор радиатора TESI'!$AB:$AB,Ref!$Q:$Q)","v":0},1]
["",{"$f":"IF($Z171=\"\",IF($G171=\"\",\"\",\"RR\"&LEFT($G171,1)&$H171&IF($J171<=9,\"0\"&$J171,$J171)&$L171&\"A4\"&LEFT($O171,2)&\"N\"),VLOOKUP($Z171,Ref!$AE:$AG,3,0)&$L171)","v":""},"","",{"$f":"IF($Z171=\"\",IF($G171=\"\",\"\",$D171*$W171*$K$1),VLOOKUP($Z171,Ref!$AE:$AG,2,0)*$Q171*$K$1*(1-$H$4/100))","v":""},{"$nulls":3},{"$f":"SUMIF(pricelist!$W:$W,'подбор радиатора TESI'!$AA171,pricelist!$J:$J)","v":0},null,0,null,{"$f":"IF($L171=\"\",\"\",VLOOKUP($L171,Ref!$D:$J,7,0))","v":""},{"$f":"SUMIF(Ref!$D:$D,'подбор радиатора TESI'!$L:$L,Ref!$E:$E)","v":{"v":0,"d":"0.00"}},null,{"$f":"SUMIF(Ref!$F:$F,'подбор радиатора TESI'!$O:$O,Ref!$G:$G)","v":{"v":0,"d":"0.00"}},null,{"$f":"SUMIF(pricelist!$W:$W,'подбор радиатора TESI'!$AA:$AA,pricelist!$K:$K)*$J171","v":{"v":0,"d":"0.00"}},{"$f":"SUMIF(pricelist!$W:$W,$AA:$AA,INDIRECT($S$12&$S$14))*$J171","v":{"v":0,"d":"0.00"}},0,null,{"$f":"SUMIF(Ref!$H:$H,'подбор радиатора TESI'!$U:$U,Ref!$I:$I)","v":{"v":0,"d":"0.00"}},{"$f":"(($N171*SUMIF(pricelist!$W:$W,'подбор радиатора TESI'!$AA:$AA,pricelist!$S:$S)*$J171)+$P171+IF($U171=\"радиусный\",$V171*$J171,$V171)+IF($J171>$AC171,31*1.13,0))*(1-$H$4/100)","v":{"v":0,"d":"0.00"}},{"$nulls":3},"/","/",{"$f":"SUMIF(Ref!$R:$R,'подбор радиатора TESI'!$AB:$AB,Ref!$Q:$Q)","v":0},1]
["",{"$f":"IF($Z172=\"\",IF($G172=\"\",\"\",\"RR\"&LEFT($G172,1)&$H172&IF($J172<=9,\"0\"&$J172,$J172)&$L172&\"A4\"&LEFT($O172,2)&\"N\"),VLOOKUP($Z172,Ref!$AE:$AG,3,0)&$L172)","v":""},"","",{"$f":"IF($Z172=\"\",IF($G172=\"\",\"\",$D172*$W172*$K$1),VLOOKUP($Z172,Ref!$AE:$AG,2,0)*$Q172*$K$1*(1-$H$4/100))","v":""},{"$nulls":3},{"$f":"SUMIF(pricelist!$W:$W,'подбор радиатора TESI'!$AA172,pricelist!$J:$J)","v":0},null,0,null,{"$f":"IF($L172=\"\",\"\",VLOOKUP($L172,Ref!$D:$J,7,0))","v":""},{"$f":"SUMIF(Ref!$D:$D,'подбор радиатора TESI'!$L:$L,Ref!$E:$E)","v":{"v":0,"d":"0.00"}},null,{"$f":"SUMIF(Ref!$F:$F,'подбор радиатора TESI'!$O:$O,Ref!$G:$G)","v":{"v":0,"d":"0.00"}},null,{"$f":"SUMIF(pricelist!$W:$W,'подбор радиатора TESI'!$AA:$AA,pricelist!$K:$K)*$J172","v":{"v":0,"d":"0.00"}},{"$f":"SUMIF(pricelist!$W:$W,$AA:$AA,INDIRECT($S$12&$S$14))*$J172","v":{"v":0,"d":"0.00"}},0,null,{"$f":"SUMIF(Ref!$H:$H,'подбор радиатора TESI'!$U:$U,Ref!$I:$I)","v":{"v":0,"d":"0.00"}},{"$f":"(($N172*SUMIF(pricelist!$W:$W,'подбор радиатора TESI'!$AA:$AA,pricelist!$S:$S)*$J172)+$P172+IF($U172=\"радиусный\",$V172*$J172,$V172)+IF($J172>$AC172,31*1.13,0))*(1-$H$4/100)","v":{"v":0,"d":"0.00"}},{"$nulls":3},"/","/",{"$f":"SUMIF(Ref!$R:$R,'подбор радиатора TESI'!$AB:$AB,Ref!$Q:$Q)","v":0},1]
["",{"$f":"IF($Z173=\"\",IF($G173=\"\",\"\",\"RR\"&LEFT($G173,1)&$H173&IF($J173<=9,\"0\"&$J173,$J173)&$L173&\"A4\"&LEFT($O173,2)&\"N\"),VLOOKUP($Z173,Ref!$AE:$AG,3,0)&$L173)","v":""},"","",{"$f":"IF($Z173=\"\",IF($G173=\"\",\"\",$D173*$W173*$K$1),VLOOKUP($Z173,Ref!$AE:$AG,2,0)*$Q173*$K$1*(1-$H$4/100))","v":""},{"$nulls":3},{"$f":"SUMIF(pricelist!$W:$W,'подбор радиатора TESI'!$AA173,pricelist!$J:$J)","v":0},null,0,null,{"$f":"IF($L173=\"\",\"\",VLOOKUP($L173,Ref!$D:$J,7,0))","v":""},{"$f":"SUMIF(Ref!$D:$D,'подбор радиатора TESI'!$L:$L,Ref!$E:$E)","v":{"v":0,"d":"0.00"}},null,{"$f":"SUMIF(Ref!$F:$F,'подбор радиатора TESI'!$O:$O,Ref!$G:$G)","v":{"v":0,"d":"0.00"}},null,{"$f":"SUMIF(pricelist!$W:$W,'подбор радиатора TESI'!$AA:$AA,pricelist!$K:$K)*$J173","v":{"v":0,"d":"0.00"}},{"$f":"SUMIF(pricelist!$W:$W,$AA:$AA,INDIRECT($S$12&$S$14))*$J173","v":{"v":0,"d":"0.00"}},0,null,{"$f":"SUMIF(Ref!$H:$H,'подбор радиатора TESI'!$U:$U,Ref!$I:$I)","v":{"v":0,"d":"0.00"}},{"$f":"(($N173*SUMIF(pricelist!$W:$W,'подбор радиатора TESI'!$AA:$AA,pricelist!$S:$S)*$J173)+$P173+IF($U173=\"радиусный\",$V173*$J173,$V173)+IF($J173>$AC173,31*1.13,0))*(1-$H$4/100)","v":{"v":0,"d":"0.00"}},{"$nulls":3},"/","/",{"$f":"SUMIF(Ref!$R:$R,'подбор радиатора TESI'!$AB:$AB,Ref!$Q:$Q)","v":0},1]
["",{"$f":"IF($Z174=\"\",IF($G174=\"\",\"\",\"RR\"&LEFT($G174,1)&$H174&IF($J174<=9,\"0\"&$J174,$J174)&$L174&\"A4\"&LEFT($O174,2)&\"N\"),VLOOKUP($Z174,Ref!$AE:$AG,3,0)&$L174)","v":""},"","",{"$f":"IF($Z174=\"\",IF($G174=\"\",\"\",$D174*$W174*$K$1),VLOOKUP($Z174,Ref!$AE:$AG,2,0)*$Q174*$K$1*(1-$H$4/100))","v":""},{"$nulls":3},{"$f":"SUMIF(pricelist!$W:$W,'подбор радиатора TESI'!$AA174,pricelist!$J:$J)","v":0},null,0,null,{"$f":"IF($L174=\"\",\"\",VLOOKUP($L174,Ref!$D:$J,7,0))","v":""},{"$f":"SUMIF(Ref!$D:$D,'подбор радиатора TESI'!$L:$L,Ref!$E:$E)","v":{"v":0,"d":"0.00"}},null,{"$f":"SUMIF(Ref!$F:$F,'подбор радиатора TESI'!$O:$O,Ref!$G:$G)","v":{"v":0,"d":"0.00"}},null,{"$f":"SUMIF(pricelist!$W:$W,'подбор радиатора TESI'!$AA:$AA,pricelist!$K:$K)*$J174","v":{"v":0,"d":"0.00"}},{"$f":"SUMIF(pricelist!$W:$W,$AA:$AA,INDIRECT($S$12&$S$14))*$J174","v":{"v":0,"d":"0.00"}},0,null,{"$f":"SUMIF(Ref!$H:$H,'подбор радиатора TESI'!$U:$U,Ref!$I:$I)","v":{"v":0,"d":"0.00"}},{"$f":"(($N174*SUMIF(pricelist!$W:$W,'подбор радиатора TESI'!$AA:$AA,pricelist!$S:$S)*$J174)+$P174+IF($U174=\"радиусный\",$V174*$J174,$V174)+IF($J174>$AC174,31*1.13,0))*(1-$H$4/100)","v":{"v":0,"d":"0.00"}},{"$nulls":3},"/","/",{"$f":"SUMIF(Ref!$R:$R,'подбор радиатора TESI'!$AB:$AB,Ref!$Q:$Q)","v":0},1]
["",{"$f":"IF($Z175=\"\",IF($G175=\"\",\"\",\"RR\"&LEFT($G175,1)&$H175&IF($J175<=9,\"0\"&$J175,$J175)&$L175&\"A4\"&LEFT($O175,2)&\"N\"),VLOOKUP($Z175,Ref!$AE:$AG,3,0)&$L175)","v":""},"","",{"$f":"IF($Z175=\"\",IF($G175=\"\",\"\",$D175*$W175*$K$1),VLOOKUP($Z175,Ref!$AE:$AG,2,0)*$Q175*$K$1*(1-$H$4/100))","v":""},{"$nulls":3},{"$f":"SUMIF(pricelist!$W:$W,'подбор радиатора TESI'!$AA175,pricelist!$J:$J)","v":0},null,0,null,{"$f":"IF($L175=\"\",\"\",VLOOKUP($L175,Ref!$D:$J,7,0))","v":""},{"$f":"SUMIF(Ref!$D:$D,'подбор радиатора TESI'!$L:$L,Ref!$E:$E)","v":{"v":0,"d":"0.00"}},null,{"$f":"SUMIF(Ref!$F:$F,'подбор радиатора TESI'!$O:$O,Ref!$G:$G)","v":{"v":0,"d":"0.00"}},null,{"$f":"SUMIF(pricelist!$W:$W,'подбор радиатора TESI'!$AA:$AA,pricelist!$K:$K)*$J175","v":{"v":0,"d":"0.00"}},{"$f":"SUMIF(pricelist!$W:$W,$AA:$AA,INDIRECT($S$12&$S$14))*$J175","v":{"v":0,"d":"0.00"}},0,null,{"$f":"SUMIF(Ref!$H:$H,'подбор радиатора TESI'!$U:$U,Ref!$I:$I)","v":{"v":0,"d":"0.00"}},{"$f":"(($N175*SUMIF(pricelist!$W:$W,'подбор радиатора TESI'!$AA:$AA,pricelist!$S:$S)*$J175)+$P175+IF($U175=\"радиусный\",$V175*$J175,$V175)+IF($J175>$AC175,31*1.13,0))*(1-$H$4/100)","v":{"v":0,"d":"0.00"}},{"$nulls":3},"/","/",{"$f":"SUMIF(Ref!$R:$R,'подбор радиатора TESI'!$AB:$AB,Ref!$Q:$Q)","v":0},1]
["",{"$f":"IF($Z176=\"\",IF($G176=\"\",\"\",\"RR\"&LEFT($G176,1)&$H176&IF($J176<=9,\"0\"&$J176,$J176)&$L176&\"A4\"&LEFT($O176,2)&\"N\"),VLOOKUP($Z176,Ref!$AE:$AG,3,0)&$L176)","v":""},"","",{"$f":"IF($Z176=\"\",IF($G176=\"\",\"\",$D176*$W176*$K$1),VLOOKUP($Z176,Ref!$AE:$AG,2,0)*$Q176*$K$1*(1-$H$4/100))","v":""},{"$nulls":3},{"$f":"SUMIF(pricelist!$W:$W,'подбор радиатора TESI'!$AA176,pricelist!$J:$J)","v":0},null,0,null,{"$f":"IF($L176=\"\",\"\",VLOOKUP($L176,Ref!$D:$J,7,0))","v":""},{"$f":"SUMIF(Ref!$D:$D,'подбор радиатора TESI'!$L:$L,Ref!$E:$E)","v":{"v":0,"d":"0.00"}},null,{"$f":"SUMIF(Ref!$F:$F,'подбор радиатора TESI'!$O:$O,Ref!$G:$G)","v":{"v":0,"d":"0.00"}},null,{"$f":"SUMIF(pricelist!$W:$W,'подбор радиатора TESI'!$AA:$AA,pricelist!$K:$K)*$J176","v":{"v":0,"d":"0.00"}},{"$f":"SUMIF(pricelist!$W:$W,$AA:$AA,INDIRECT($S$12&$S$14))*$J176","v":{"v":0,"d":"0.00"}},0,null,{"$f":"SUMIF(Ref!$H:$H,'подбор радиатора TESI'!$U:$U,Ref!$I:$I)","v":{"v":0,"d":"0.00"}},{"$f":"(($N176*SUMIF(pricelist!$W:$W,'подбор радиатора TESI'!$AA:$AA,pricelist!$S:$S)*$J176)+$P176+IF($U176=\"радиусный\",$V176*$J176,$V176)+IF($J176>$AC176,31*1.13,0))*(1-$H$4/100)","v":{"v":0,"d":"0.00"}},{"$nulls":3},"/","/",{"$f":"SUMIF(Ref!$R:$R,'подбор радиатора TESI'!$AB:$AB,Ref!$Q:$Q)","v":0},1]
["",{"$f":"IF($Z177=\"\",IF($G177=\"\",\"\",\"RR\"&LEFT($G177,1)&$H177&IF($J177<=9,\"0\"&$J177,$J177)&$L177&\"A4\"&LEFT($O177,2)&\"N\"),VLOOKUP($Z177,Ref!$AE:$AG,3,0)&$L177)","v":""},"","",{"$f":"IF($Z177=\"\",IF($G177=\"\",\"\",$D177*$W177*$K$1),VLOOKUP($Z177,Ref!$AE:$AG,2,0)*$Q177*$K$1*(1-$H$4/100))","v":""},{"$nulls":3},{"$f":"SUMIF(pricelist!$W:$W,'подбор радиатора TESI'!$AA177,pricelist!$J:$J)","v":0},null,0,null,{"$f":"IF($L177=\"\",\"\",VLOOKUP($L177,Ref!$D:$J,7,0))","v":""},{"$f":"SUMIF(Ref!$D:$D,'подбор радиатора TESI'!$L:$L,Ref!$E:$E)","v":{"v":0,"d":"0.00"}},null,{"$f":"SUMIF(Ref!$F:$F,'подбор радиатора TESI'!$O:$O,Ref!$G:$G)","v":{"v":0,"d":"0.00"}},null,{"$f":"SUMIF(pricelist!$W:$W,'подбор радиатора TESI'!$AA:$AA,pricelist!$K:$K)*$J177","v":{"v":0,"d":"0.00"}},{"$f":"SUMIF(pricelist!$W:$W,$AA:$AA,INDIRECT($S$12&$S$14))*$J177","v":{"v":0,"d":"0.00"}},0,null,{"$f":"SUMIF(Ref!$H:$H,'подбор радиатора TESI'!$U:$U,Ref!$I:$I)","v":{"v":0,"d":"0.00"}},{"$f":"(($N177*SUMIF(pricelist!$W:$W,'подбор радиатора TESI'!$AA:$AA,pricelist!$S:$S)*$J177)+$P177+IF($U177=\"радиусный\",$V177*$J177,$V177)+IF($J177>$AC177,31*1.13,0))*(1-$H$4/100)","v":{"v":0,"d":"0.00"}},{"$nulls":3},"/","/",{"$f":"SUMIF(Ref!$R:$R,'подбор радиатора TESI'!$AB:$AB,Ref!$Q:$Q)","v":0},1]
["",{"$f":"IF($Z178=\"\",IF($G178=\"\",\"\",\"RR\"&LEFT($G178,1)&$H178&IF($J178<=9,\"0\"&$J178,$J178)&$L178&\"A4\"&LEFT($O178,2)&\"N\"),VLOOKUP($Z178,Ref!$AE:$AG,3,0)&$L178)","v":""},"","",{"$f":"IF($Z178=\"\",IF($G178=\"\",\"\",$D178*$W178*$K$1),VLOOKUP($Z178,Ref!$AE:$AG,2,0)*$Q178*$K$1*(1-$H$4/100))","v":""},{"$nulls":3},{"$f":"SUMIF(pricelist!$W:$W,'подбор радиатора TESI'!$AA178,pricelist!$J:$J)","v":0},null,0,null,{"$f":"IF($L178=\"\",\"\",VLOOKUP($L178,Ref!$D:$J,7,0))","v":""},{"$f":"SUMIF(Ref!$D:$D,'подбор радиатора TESI'!$L:$L,Ref!$E:$E)","v":{"v":0,"d":"0.00"}},null,{"$f":"SUMIF(Ref!$F:$F,'подбор радиатора TESI'!$O:$O,Ref!$G:$G)","v":{"v":0,"d":"0.00"}},null,{"$f":"SUMIF(pricelist!$W:$W,'подбор радиатора TESI'!$AA:$AA,pricelist!$K:$K)*$J178","v":{"v":0,"d":"0.00"}},{"$f":"SUMIF(pricelist!$W:$W,$AA:$AA,INDIRECT($S$12&$S$14))*$J178","v":{"v":0,"d":"0.00"}},0,null,{"$f":"SUMIF(Ref!$H:$H,'подбор радиатора TESI'!$U:$U,Ref!$I:$I)","v":{"v":0,"d":"0.00"}},{"$f":"(($N178*SUMIF(pricelist!$W:$W,'подбор радиатора TESI'!$AA:$AA,pricelist!$S:$S)*$J178)+$P178+IF($U178=\"радиусный\",$V178*$J178,$V178)+IF($J178>$AC178,31*1.13,0))*(1-$H$4/100)","v":{"v":0,"d":"0.00"}},{"$nulls":3},"/","/",{"$f":"SUMIF(Ref!$R:$R,'подбор радиатора TESI'!$AB:$AB,Ref!$Q:$Q)","v":0},1]
["",{"$f":"IF($Z179=\"\",IF($G179=\"\",\"\",\"RR\"&LEFT($G179,1)&$H179&IF($J179<=9,\"0\"&$J179,$J179)&$L179&\"A4\"&LEFT($O179,2)&\"N\"),VLOOKUP($Z179,Ref!$AE:$AG,3,0)&$L179)","v":""},"","",{"$f":"IF($Z179=\"\",IF($G179=\"\",\"\",$D179*$W179*$K$1),VLOOKUP($Z179,Ref!$AE:$AG,2,0)*$Q179*$K$1*(1-$H$4/100))","v":""},{"$nulls":3},{"$f":"SUMIF(pricelist!$W:$W,'подбор радиатора TESI'!$AA179,pricelist!$J:$J)","v":0},null,0,null,{"$f":"IF($L179=\"\",\"\",VLOOKUP($L179,Ref!$D:$J,7,0))","v":""},{"$f":"SUMIF(Ref!$D:$D,'подбор радиатора TESI'!$L:$L,Ref!$E:$E)","v":{"v":0,"d":"0.00"}},null,{"$f":"SUMIF(Ref!$F:$F,'подбор радиатора TESI'!$O:$O,Ref!$G:$G)","v":{"v":0,"d":"0.00"}},null,{"$f":"SUMIF(pricelist!$W:$W,'подбор радиатора TESI'!$AA:$AA,pricelist!$K:$K)*$J179","v":{"v":0,"d":"0.00"}},{"$f":"SUMIF(pricelist!$W:$W,$AA:$AA,INDIRECT($S$12&$S$14))*$J179","v":{"v":0,"d":"0.00"}},0,null,{"$f":"SUMIF(Ref!$H:$H,'подбор радиатора TESI'!$U:$U,Ref!$I:$I)","v":{"v":0,"d":"0.00"}},{"$f":"(($N179*SUMIF(pricelist!$W:$W,'подбор радиатора TESI'!$AA:$AA,pricelist!$S:$S)*$J179)+$P179+IF($U179=\"радиусный\",$V179*$J179,$V179)+IF($J179>$AC179,31*1.13,0))*(1-$H$4/100)","v":{"v":0,"d":"0.00"}},{"$nulls":3},"/","/",{"$f":"SUMIF(Ref!$R:$R,'подбор радиатора TESI'!$AB:$AB,Ref!$Q:$Q)","v":0},1]
["",{"$f":"IF($Z180=\"\",IF($G180=\"\",\"\",\"RR\"&LEFT($G180,1)&$H180&IF($J180<=9,\"0\"&$J180,$J180)&$L180&\"A4\"&LEFT($O180,2)&\"N\"),VLOOKUP($Z180,Ref!$AE:$AG,3,0)&$L180)","v":""},"","",{"$f":"IF($Z180=\"\",IF($G180=\"\",\"\",$D180*$W180*$K$1),VLOOKUP($Z180,Ref!$AE:$AG,2,0)*$Q180*$K$1*(1-$H$4/100))","v":""},{"$nulls":3},{"$f":"SUMIF(pricelist!$W:$W,'подбор радиатора TESI'!$AA180,pricelist!$J:$J)","v":0},null,0,null,{"$f":"IF($L180=\"\",\"\",VLOOKUP($L180,Ref!$D:$J,7,0))","v":""},{"$f":"SUMIF(Ref!$D:$D,'подбор радиатора TESI'!$L:$L,Ref!$E:$E)","v":{"v":0,"d":"0.00"}},null,{"$f":"SUMIF(Ref!$F:$F,'подбор радиатора TESI'!$O:$O,Ref!$G:$G)","v":{"v":0,"d":"0.00"}},null,{"$f":"SUMIF(pricelist!$W:$W,'подбор радиатора TESI'!$AA:$AA,pricelist!$K:$K)*$J180","v":{"v":0,"d":"0.00"}},{"$f":"SUMIF(pricelist!$W:$W,$AA:$AA,INDIRECT($S$12&$S$14))*$J180","v":{"v":0,"d":"0.00"}},0,null,{"$f":"SUMIF(Ref!$H:$H,'подбор радиатора TESI'!$U:$U,Ref!$I:$I)","v":{"v":0,"d":"0.00"}},{"$f":"(($N180*SUMIF(pricelist!$W:$W,'подбор радиатора TESI'!$AA:$AA,pricelist!$S:$S)*$J180)+$P180+IF($U180=\"радиусный\",$V180*$J180,$V180)+IF($J180>$AC180,31*1.13,0))*(1-$H$4/100)","v":{"v":0,"d":"0.00"}},{"$nulls":3},{"$f":"LEFT($G180,1)&\"/\"&$H180","v":"/"},"/",{"$f":"SUMIF(Ref!$R:$R,'подбор радиатора TESI'!$AB:$AB,Ref!$Q:$Q)","v":0},1]
["",{"$f":"IF($Z181=\"\",IF($G181=\"\",\"\",\"RR\"&LEFT($G181,1)&$H181&IF($J181<=9,\"0\"&$J181,$J181)&$L181&\"A4\"&LEFT($O181,2)&\"N\"),VLOOKUP($Z181,Ref!$AE:$AG,3,0)&$L181)","v":""},"","",{"$f":"IF($Z181=\"\",IF($G181=\"\",\"\",$D181*$W181*$K$1),VLOOKUP($Z181,Ref!$AE:$AG,2,0)*$Q181*$K$1*(1-$H$4/100))","v":""},{"$nulls":3},{"$f":"SUMIF(pricelist!$W:$W,'подбор радиатора TESI'!$AA181,pricelist!$J:$J)","v":0},null,0,null,{"$f":"IF($L181=\"\",\"\",VLOOKUP($L181,Ref!$D:$J,7,0))","v":""},{"$f":"SUMIF(Ref!$D:$D,'подбор радиатора TESI'!$L:$L,Ref!$E:$E)","v":{"v":0,"d":"0.00"}},null,{"$f":"SUMIF(Ref!$F:$F,'подбор радиатора TESI'!$O:$O,Ref!$G:$G)","v":{"v":0,"d":"0.00"}},null,{"$f":"SUMIF(pricelist!$W:$W,'подбор радиатора TESI'!$AA:$AA,pricelist!$K:$K)*$J181","v":{"v":0,"d":"0.00"}},{"$f":"SUMIF(pricelist!$W:$W,$AA:$AA,INDIRECT($S$12&$S$14))*$J181","v":{"v":0,"d":"0.00"}},0,null,{"$f":"SUMIF(Ref!$H:$H,'подбор радиатора TESI'!$U:$U,Ref!$I:$I)","v":{"v":0,"d":"0.00"}},{"$f":"(($N181*SUMIF(pricelist!$W:$W,'подбор радиатора TESI'!$AA:$AA,pricelist!$S:$S)*$J181)+$P181+IF($U181=\"радиусный\",$V181*$J181,$V181)+IF($J181>$AC181,31*1.13,0))*(1-$H$4/100)","v":{"v":0,"d":"0.00"}},{"$nulls":3},"/","/",{"$f":"SUMIF(Ref!$R:$R,'подбор радиатора TESI'!$AB:$AB,Ref!$Q:$Q)","v":0},1]
["",{"$f":"IF($Z182=\"\",IF($G182=\"\",\"\",\"RR\"&LEFT($G182,1)&$H182&IF($J182<=9,\"0\"&$J182,$J182)&$L182&\"A4\"&LEFT($O182,2)&\"N\"),VLOOKUP($Z182,Ref!$AE:$AG,3,0)&$L182)","v":""},"","",{"$f":"IF($Z182=\"\",IF($G182=\"\",\"\",$D182*$W182*$K$1),VLOOKUP($Z182,Ref!$AE:$AG,2,0)*$Q182*$K$1*(1-$H$4/100))","v":""},{"$nulls":3},{"$f":"SUMIF(pricelist!$W:$W,'подбор радиатора TESI'!$AA182,pricelist!$J:$J)","v":0},null,0,null,{"$f":"IF($L182=\"\",\"\",VLOOKUP($L182,Ref!$D:$J,7,0))","v":""},{"$f":"SUMIF(Ref!$D:$D,'подбор радиатора TESI'!$L:$L,Ref!$E:$E)","v":{"v":0,"d":"0.00"}},null,{"$f":"SUMIF(Ref!$F:$F,'подбор радиатора TESI'!$O:$O,Ref!$G:$G)","v":{"v":0,"d":"0.00"}},null,{"$f":"SUMIF(pricelist!$W:$W,'подбор радиатора TESI'!$AA:$AA,pricelist!$K:$K)*$J182","v":{"v":0,"d":"0.00"}},{"$f":"SUMIF(pricelist!$W:$W,$AA:$AA,INDIRECT($S$12&$S$14))*$J182","v":{"v":0,"d":"0.00"}},0,null,{"$f":"SUMIF(Ref!$H:$H,'подбор радиатора TESI'!$U:$U,Ref!$I:$I)","v":{"v":0,"d":"0.00"}},{"$f":"(($N182*SUMIF(pricelist!$W:$W,'подбор радиатора TESI'!$AA:$AA,pricelist!$S:$S)*$J182)+$P182+IF($U182=\"радиусный\",$V182*$J182,$V182)+IF($J182>$AC182,31*1.13,0))*(1-$H$4/100)","v":{"v":0,"d":"0.00"}},{"$nulls":3},"/","/",{"$f":"SUMIF(Ref!$R:$R,'подбор радиатора TESI'!$AB:$AB,Ref!$Q:$Q)","v":0},1]
["",{"$f":"IF($Z183=\"\",IF($G183=\"\",\"\",\"RR\"&LEFT($G183,1)&$H183&IF($J183<=9,\"0\"&$J183,$J183)&$L183&\"A4\"&LEFT($O183,2)&\"N\"),VLOOKUP($Z183,Ref!$AE:$AG,3,0)&$L183)","v":""},"","",{"$f":"IF($Z183=\"\",IF($G183=\"\",\"\",$D183*$W183*$K$1),VLOOKUP($Z183,Ref!$AE:$AG,2,0)*$Q183*$K$1*(1-$H$4/100))","v":""},{"$nulls":3},{"$f":"SUMIF(pricelist!$W:$W,'подбор радиатора TESI'!$AA183,pricelist!$J:$J)","v":0},null,0,null,{"$f":"IF($L183=\"\",\"\",VLOOKUP($L183,Ref!$D:$J,7,0))","v":""},{"$f":"SUMIF(Ref!$D:$D,'подбор радиатора TESI'!$L:$L,Ref!$E:$E)","v":{"v":0,"d":"0.00"}},null,{"$f":"SUMIF(Ref!$F:$F,'подбор радиатора TESI'!$O:$O,Ref!$G:$G)","v":{"v":0,"d":"0.00"}},null,{"$f":"SUMIF(pricelist!$W:$W,'подбор радиатора TESI'!$AA:$AA,pricelist!$K:$K)*$J183","v":{"v":0,"d":"0.00"}},{"$f":"SUMIF(pricelist!$W:$W,$AA:$AA,INDIRECT($S$12&$S$14))*$J183","v":{"v":0,"d":"0.00"}},0,null,{"$f":"SUMIF(Ref!$H:$H,'подбор радиатора TESI'!$U:$U,Ref!$I:$I)","v":{"v":0,"d":"0.00"}},{"$f":"(($N183*SUMIF(pricelist!$W:$W,'подбор радиатора TESI'!$AA:$AA,pricelist!$S:$S)*$J183)+$P183+IF($U183=\"радиусный\",$V183*$J183,$V183)+IF($J183>$AC183,31*1.13,0))*(1-$H$4/100)","v":{"v":0,"d":"0.00"}},{"$nulls":3},"/","/",{"$f":"SUMIF(Ref!$R:$R,'подбор радиатора TESI'!$AB:$AB,Ref!$Q:$Q)","v":0},1]
["",{"$f":"IF($Z184=\"\",IF($G184=\"\",\"\",\"RR\"&LEFT($G184,1)&$H184&IF($J184<=9,\"0\"&$J184,$J184)&$L184&\"A4\"&LEFT($O184,2)&\"N\"),VLOOKUP($Z184,Ref!$AE:$AG,3,0)&$L184)","v":""},"","",{"$f":"IF($Z184=\"\",IF($G184=\"\",\"\",$D184*$W184*$K$1),VLOOKUP($Z184,Ref!$AE:$AG,2,0)*$Q184*$K$1*(1-$H$4/100))","v":""},{"$nulls":3},{"$f":"SUMIF(pricelist!$W:$W,'подбор радиатора TESI'!$AA184,pricelist!$J:$J)","v":0},null,0,null,{"$f":"IF($L184=\"\",\"\",VLOOKUP($L184,Ref!$D:$J,7,0))","v":""},{"$f":"SUMIF(Ref!$D:$D,'подбор радиатора TESI'!$L:$L,Ref!$E:$E)","v":{"v":0,"d":"0.00"}},null,{"$f":"SUMIF(Ref!$F:$F,'подбор радиатора TESI'!$O:$O,Ref!$G:$G)","v":{"v":0,"d":"0.00"}},null,{"$f":"SUMIF(pricelist!$W:$W,'подбор радиатора TESI'!$AA:$AA,pricelist!$K:$K)*$J184","v":{"v":0,"d":"0.00"}},{"$f":"SUMIF(pricelist!$W:$W,$AA:$AA,INDIRECT($S$12&$S$14))*$J184","v":{"v":0,"d":"0.00"}},0,null,{"$f":"SUMIF(Ref!$H:$H,'подбор радиатора TESI'!$U:$U,Ref!$I:$I)","v":{"v":0,"d":"0.00"}},{"$f":"(($N184*SUMIF(pricelist!$W:$W,'подбор радиатора TESI'!$AA:$AA,pricelist!$S:$S)*$J184)+$P184+IF($U184=\"радиусный\",$V184*$J184,$V184)+IF($J184>$AC184,31*1.13,0))*(1-$H$4/100)","v":{"v":0,"d":"0.00"}},{"$nulls":3},"/","/",{"$f":"SUMIF(Ref!$R:$R,'подбор радиатора TESI'!$AB:$AB,Ref!$Q:$Q)","v":0},1]
["",{"$f":"IF($Z185=\"\",IF($G185=\"\",\"\",\"RR\"&LEFT($G185,1)&$H185&IF($J185<=9,\"0\"&$J185,$J185)&$L185&\"A4\"&LEFT($O185,2)&\"N\"),VLOOKUP($Z185,Ref!$AE:$AG,3,0)&$L185)","v":""},"","",{"$f":"IF($Z185=\"\",IF($G185=\"\",\"\",$D185*$W185*$K$1),VLOOKUP($Z185,Ref!$AE:$AG,2,0)*$Q185*$K$1*(1-$H$4/100))","v":""},{"$nulls":3},{"$f":"SUMIF(pricelist!$W:$W,'подбор радиатора TESI'!$AA185,pricelist!$J:$J)","v":0},null,0,null,{"$f":"IF($L185=\"\",\"\",VLOOKUP($L185,Ref!$D:$J,7,0))","v":""},{"$f":"SUMIF(Ref!$D:$D,'подбор радиатора TESI'!$L:$L,Ref!$E:$E)","v":{"v":0,"d":"0.00"}},null,{"$f":"SUMIF(Ref!$F:$F,'подбор радиатора TESI'!$O:$O,Ref!$G:$G)","v":{"v":0,"d":"0.00"}},null,{"$f":"SUMIF(pricelist!$W:$W,'подбор радиатора TESI'!$AA:$AA,pricelist!$K:$K)*$J185","v":{"v":0,"d":"0.00"}},{"$f":"SUMIF(pricelist!$W:$W,$AA:$AA,INDIRECT($S$12&$S$14))*$J185","v":{"v":0,"d":"0.00"}},0,null,{"$f":"SUMIF(Ref!$H:$H,'подбор радиатора TESI'!$U:$U,Ref!$I:$I)","v":{"v":0,"d":"0.00"}},{"$f":"(($N185*SUMIF(pricelist!$W:$W,'подбор радиатора TESI'!$AA:$AA,pricelist!$S:$S)*$J185)+$P185+IF($U185=\"радиусный\",$V185*$J185,$V185)+IF($J185>$AC185,31*1.13,0))*(1-$H$4/100)","v":{"v":0,"d":"0.00"}},{"$nulls":3},"/","/",{"$f":"SUMIF(Ref!$R:$R,'подбор радиатора TESI'!$AB:$AB,Ref!$Q:$Q)","v":0},1]
["",{"$f":"IF($Z186=\"\",IF($G186=\"\",\"\",\"RR\"&LEFT($G186,1)&$H186&IF($J186<=9,\"0\"&$J186,$J186)&$L186&\"A4\"&LEFT($O186,2)&\"N\"),VLOOKUP($Z186,Ref!$AE:$AG,3,0)&$L186)","v":""},"","",{"$f":"IF($Z186=\"\",IF($G186=\"\",\"\",$D186*$W186*$K$1),VLOOKUP($Z186,Ref!$AE:$AG,2,0)*$Q186*$K$1*(1-$H$4/100))","v":""},{"$nulls":3},{"$f":"SUMIF(pricelist!$W:$W,'подбор радиатора TESI'!$AA186,pricelist!$J:$J)","v":0},null,0,null,{"$f":"IF($L186=\"\",\"\",VLOOKUP($L186,Ref!$D:$J,7,0))","v":""},{"$f":"SUMIF(Ref!$D:$D,'подбор радиатора TESI'!$L:$L,Ref!$E:$E)","v":{"v":0,"d":"0.00"}},null,{"$f":"SUMIF(Ref!$F:$F,'подбор радиатора TESI'!$O:$O,Ref!$G:$G)","v":{"v":0,"d":"0.00"}},null,{"$f":"SUMIF(pricelist!$W:$W,'подбор радиатора TESI'!$AA:$AA,pricelist!$K:$K)*$J186","v":{"v":0,"d":"0.00"}},{"$f":"SUMIF(pricelist!$W:$W,$AA:$AA,INDIRECT($S$12&$S$14))*$J186","v":{"v":0,"d":"0.00"}},0,null,{"$f":"SUMIF(Ref!$H:$H,'подбор радиатора TESI'!$U:$U,Ref!$I:$I)","v":{"v":0,"d":"0.00"}},{"$f":"(($N186*SUMIF(pricelist!$W:$W,'подбор радиатора TESI'!$AA:$AA,pricelist!$S:$S)*$J186)+$P186+IF($U186=\"радиусный\",$V186*$J186,$V186)+IF($J186>$AC186,31*1.13,0))*(1-$H$4/100)","v":{"v":0,"d":"0.00"}},{"$nulls":3},"/","/",{"$f":"SUMIF(Ref!$R:$R,'подбор радиатора TESI'!$AB:$AB,Ref!$Q:$Q)","v":0},1]
["",{"$f":"IF($Z187=\"\",IF($G187=\"\",\"\",\"RR\"&LEFT($G187,1)&$H187&IF($J187<=9,\"0\"&$J187,$J187)&$L187&\"A4\"&LEFT($O187,2)&\"N\"),VLOOKUP($Z187,Ref!$AE:$AG,3,0)&$L187)","v":""},"","",{"$f":"IF($Z187=\"\",IF($G187=\"\",\"\",$D187*$W187*$K$1),VLOOKUP($Z187,Ref!$AE:$AG,2,0)*$Q187*$K$1*(1-$H$4/100))","v":""},{"$nulls":3},{"$f":"SUMIF(pricelist!$W:$W,'подбор радиатора TESI'!$AA187,pricelist!$J:$J)","v":0},null,0,null,{"$f":"IF($L187=\"\",\"\",VLOOKUP($L187,Ref!$D:$J,7,0))","v":""},{"$f":"SUMIF(Ref!$D:$D,'подбор радиатора TESI'!$L:$L,Ref!$E:$E)","v":{"v":0,"d":"0.00"}},null,{"$f":"SUMIF(Ref!$F:$F,'подбор радиатора TESI'!$O:$O,Ref!$G:$G)","v":{"v":0,"d":"0.00"}},null,{"$f":"SUMIF(pricelist!$W:$W,'подбор радиатора TESI'!$AA:$AA,pricelist!$K:$K)*$J187","v":{"v":0,"d":"0.00"}},{"$f":"SUMIF(pricelist!$W:$W,$AA:$AA,INDIRECT($S$12&$S$14))*$J187","v":{"v":0,"d":"0.00"}},0,null,{"$f":"SUMIF(Ref!$H:$H,'подбор радиатора TESI'!$U:$U,Ref!$I:$I)","v":{"v":0,"d":"0.00"}},{"$f":"(($N187*SUMIF(pricelist!$W:$W,'подбор радиатора TESI'!$AA:$AA,pricelist!$S:$S)*$J187)+$P187+IF($U187=\"радиусный\",$V187*$J187,$V187)+IF($J187>$AC187,31*1.13,0))*(1-$H$4/100)","v":{"v":0,"d":"0.00"}},{"$nulls":3},"/","/",{"$f":"SUMIF(Ref!$R:$R,'подбор радиатора TESI'!$AB:$AB,Ref!$Q:$Q)","v":0},1]
["",{"$f":"IF($Z188=\"\",IF($G188=\"\",\"\",\"RR\"&LEFT($G188,1)&$H188&IF($J188<=9,\"0\"&$J188,$J188)&$L188&\"A4\"&LEFT($O188,2)&\"N\"),VLOOKUP($Z188,Ref!$AE:$AG,3,0)&$L188)","v":""},"","",{"$f":"IF($Z188=\"\",IF($G188=\"\",\"\",$D188*$W188*$K$1),VLOOKUP($Z188,Ref!$AE:$AG,2,0)*$Q188*$K$1*(1-$H$4/100))","v":""},{"$nulls":3},{"$f":"SUMIF(pricelist!$W:$W,'подбор радиатора TESI'!$AA188,pricelist!$J:$J)","v":0},null,0,null,{"$f":"IF($L188=\"\",\"\",VLOOKUP($L188,Ref!$D:$J,7,0))","v":""},{"$f":"SUMIF(Ref!$D:$D,'подбор радиатора TESI'!$L:$L,Ref!$E:$E)","v":{"v":0,"d":"0.00"}},null,{"$f":"SUMIF(Ref!$F:$F,'подбор радиатора TESI'!$O:$O,Ref!$G:$G)","v":{"v":0,"d":"0.00"}},null,{"$f":"SUMIF(pricelist!$W:$W,'подбор радиатора TESI'!$AA:$AA,pricelist!$K:$K)*$J188","v":{"v":0,"d":"0.00"}},{"$f":"SUMIF(pricelist!$W:$W,$AA:$AA,INDIRECT($S$12&$S$14))*$J188","v":{"v":0,"d":"0.00"}},0,null,{"$f":"SUMIF(Ref!$H:$H,'подбор радиатора TESI'!$U:$U,Ref!$I:$I)","v":{"v":0,"d":"0.00"}},{"$f":"(($N188*SUMIF(pricelist!$W:$W,'подбор радиатора TESI'!$AA:$AA,pricelist!$S:$S)*$J188)+$P188+IF($U188=\"радиусный\",$V188*$J188,$V188)+IF($J188>$AC188,31*1.13,0))*(1-$H$4/100)","v":{"v":0,"d":"0.00"}},{"$nulls":3},"/","/",{"$f":"SUMIF(Ref!$R:$R,'подбор радиатора TESI'!$AB:$AB,Ref!$Q:$Q)","v":0},1]
["",{"$f":"IF($Z189=\"\",IF($G189=\"\",\"\",\"RR\"&LEFT($G189,1)&$H189&IF($J189<=9,\"0\"&$J189,$J189)&$L189&\"A4\"&LEFT($O189,2)&\"N\"),VLOOKUP($Z189,Ref!$AE:$AG,3,0)&$L189)","v":""},"","",{"$f":"IF($Z189=\"\",IF($G189=\"\",\"\",$D189*$W189*$K$1),VLOOKUP($Z189,Ref!$AE:$AG,2,0)*$Q189*$K$1*(1-$H$4/100))","v":""},{"$nulls":3},{"$f":"SUMIF(pricelist!$W:$W,'подбор радиатора TESI'!$AA189,pricelist!$J:$J)","v":0},null,0,null,{"$f":"IF($L189=\"\",\"\",VLOOKUP($L189,Ref!$D:$J,7,0))","v":""},{"$f":"SUMIF(Ref!$D:$D,'подбор радиатора TESI'!$L:$L,Ref!$E:$E)","v":{"v":0,"d":"0.00"}},null,{"$f":"SUMIF(Ref!$F:$F,'подбор радиатора TESI'!$O:$O,Ref!$G:$G)","v":{"v":0,"d":"0.00"}},null,{"$f":"SUMIF(pricelist!$W:$W,'подбор радиатора TESI'!$AA:$AA,pricelist!$K:$K)*$J189","v":{"v":0,"d":"0.00"}},{"$f":"SUMIF(pricelist!$W:$W,$AA:$AA,INDIRECT($S$12&$S$14))*$J189","v":{"v":0,"d":"0.00"}},0,null,{"$f":"SUMIF(Ref!$H:$H,'подбор радиатора TESI'!$U:$U,Ref!$I:$I)","v":{"v":0,"d":"0.00"}},{"$f":"(($N189*SUMIF(pricelist!$W:$W,'подбор радиатора TESI'!$AA:$AA,pricelist!$S:$S)*$J189)+$P189+IF($U189=\"радиусный\",$V189*$J189,$V189)+IF($J189>$AC189,31*1.13,0))*(1-$H$4/100)","v":{"v":0,"d":"0.00"}},{"$nulls":3},"/","/",{"$f":"SUMIF(Ref!$R:$R,'подбор радиатора TESI'!$AB:$AB,Ref!$Q:$Q)","v":0},1]
["",{"$f":"IF($Z190=\"\",IF($G190=\"\",\"\",\"RR\"&LEFT($G190,1)&$H190&IF($J190<=9,\"0\"&$J190,$J190)&$L190&\"A4\"&LEFT($O190,2)&\"N\"),VLOOKUP($Z190,Ref!$AE:$AG,3,0)&$L190)","v":""},"","",{"$f":"IF($Z190=\"\",IF($G190=\"\",\"\",$D190*$W190*$K$1),VLOOKUP($Z190,Ref!$AE:$AG,2,0)*$Q190*$K$1*(1-$H$4/100))","v":""},{"$nulls":3},{"$f":"SUMIF(pricelist!$W:$W,'подбор радиатора TESI'!$AA190,pricelist!$J:$J)","v":0},null,0,null,{"$f":"IF($L190=\"\",\"\",VLOOKUP($L190,Ref!$D:$J,7,0))","v":""},{"$f":"SUMIF(Ref!$D:$D,'подбор радиатора TESI'!$L:$L,Ref!$E:$E)","v":{"v":0,"d":"0.00"}},null,{"$f":"SUMIF(Ref!$F:$F,'подбор радиатора TESI'!$O:$O,Ref!$G:$G)","v":{"v":0,"d":"0.00"}},null,{"$f":"SUMIF(pricelist!$W:$W,'подбор радиатора TESI'!$AA:$AA,pricelist!$K:$K)*$J190","v":{"v":0,"d":"0.00"}},{"$f":"SUMIF(pricelist!$W:$W,$AA:$AA,INDIRECT($S$12&$S$14))*$J190","v":{"v":0,"d":"0.00"}},0,null,{"$f":"SUMIF(Ref!$H:$H,'подбор радиатора TESI'!$U:$U,Ref!$I:$I)","v":{"v":0,"d":"0.00"}},{"$f":"(($N190*SUMIF(pricelist!$W:$W,'подбор радиатора TESI'!$AA:$AA,pricelist!$S:$S)*$J190)+$P190+IF($U190=\"радиусный\",$V190*$J190,$V190)+IF($J190>$AC190,31*1.13,0))*(1-$H$4/100)","v":{"v":0,"d":"0.00"}},{"$nulls":3},"/","/",{"$f":"SUMIF(Ref!$R:$R,'подбор радиатора TESI'!$AB:$AB,Ref!$Q:$Q)","v":0},1]
["",{"$f":"IF($Z191=\"\",IF($G191=\"\",\"\",\"RR\"&LEFT($G191,1)&$H191&IF($J191<=9,\"0\"&$J191,$J191)&$L191&\"A4\"&LEFT($O191,2)&\"N\"),VLOOKUP($Z191,Ref!$AE:$AG,3,0)&$L191)","v":""},"","",{"$f":"IF($Z191=\"\",IF($G191=\"\",\"\",$D191*$W191*$K$1),VLOOKUP($Z191,Ref!$AE:$AG,2,0)*$Q191*$K$1*(1-$H$4/100))","v":""},{"$nulls":3},{"$f":"SUMIF(pricelist!$W:$W,'подбор радиатора TESI'!$AA191,pricelist!$J:$J)","v":0},null,0,null,{"$f":"IF($L191=\"\",\"\",VLOOKUP($L191,Ref!$D:$J,7,0))","v":""},{"$f":"SUMIF(Ref!$D:$D,'подбор радиатора TESI'!$L:$L,Ref!$E:$E)","v":{"v":0,"d":"0.00"}},null,{"$f":"SUMIF(Ref!$F:$F,'подбор радиатора TESI'!$O:$O,Ref!$G:$G)","v":{"v":0,"d":"0.00"}},null,{"$f":"SUMIF(pricelist!$W:$W,'подбор радиатора TESI'!$AA:$AA,pricelist!$K:$K)*$J191","v":{"v":0,"d":"0.00"}},{"$f":"SUMIF(pricelist!$W:$W,$AA:$AA,INDIRECT($S$12&$S$14))*$J191","v":{"v":0,"d":"0.00"}},0,null,{"$f":"SUMIF(Ref!$H:$H,'подбор радиатора TESI'!$U:$U,Ref!$I:$I)","v":{"v":0,"d":"0.00"}},{"$f":"(($N191*SUMIF(pricelist!$W:$W,'подбор радиатора TESI'!$AA:$AA,pricelist!$S:$S)*$J191)+$P191+IF($U191=\"радиусный\",$V191*$J191,$V191)+IF($J191>$AC191,31*1.13,0))*(1-$H$4/100)","v":{"v":0,"d":"0.00"}},{"$nulls":3},"/","/",{"$f":"SUMIF(Ref!$R:$R,'подбор радиатора TESI'!$AB:$AB,Ref!$Q:$Q)","v":0},1]
["",{"$f":"IF($Z192=\"\",IF($G192=\"\",\"\",\"RR\"&LEFT($G192,1)&$H192&IF($J192<=9,\"0\"&$J192,$J192)&$L192&\"A4\"&LEFT($O192,2)&\"N\"),VLOOKUP($Z192,Ref!$AE:$AG,3,0)&$L192)","v":""},"","",{"$f":"IF($Z192=\"\",IF($G192=\"\",\"\",$D192*$W192*$K$1),VLOOKUP($Z192,Ref!$AE:$AG,2,0)*$Q192*$K$1*(1-$H$4/100))","v":""},{"$nulls":3},{"$f":"SUMIF(pricelist!$W:$W,'подбор радиатора TESI'!$AA192,pricelist!$J:$J)","v":0},null,0,null,{"$f":"IF($L192=\"\",\"\",VLOOKUP($L192,Ref!$D:$J,7,0))","v":""},{"$f":"SUMIF(Ref!$D:$D,'подбор радиатора TESI'!$L:$L,Ref!$E:$E)","v":{"v":0,"d":"0.00"}},null,{"$f":"SUMIF(Ref!$F:$F,'подбор радиатора TESI'!$O:$O,Ref!$G:$G)","v":{"v":0,"d":"0.00"}},null,{"$f":"SUMIF(pricelist!$W:$W,'подбор радиатора TESI'!$AA:$AA,pricelist!$K:$K)*$J192","v":{"v":0,"d":"0.00"}},{"$f":"SUMIF(pricelist!$W:$W,$AA:$AA,INDIRECT($S$12&$S$14))*$J192","v":{"v":0,"d":"0.00"}},0,null,{"$f":"SUMIF(Ref!$H:$H,'подбор радиатора TESI'!$U:$U,Ref!$I:$I)","v":{"v":0,"d":"0.00"}},{"$f":"(($N192*SUMIF(pricelist!$W:$W,'подбор радиатора TESI'!$AA:$AA,pricelist!$S:$S)*$J192)+$P192+IF($U192=\"радиусный\",$V192*$J192,$V192)+IF($J192>$AC192,31*1.13,0))*(1-$H$4/100)","v":{"v":0,"d":"0.00"}},{"$nulls":3},"/","/",{"$f":"SUMIF(Ref!$R:$R,'подбор радиатора TESI'!$AB:$AB,Ref!$Q:$Q)","v":0},1]
["",{"$f":"IF($Z193=\"\",IF($G193=\"\",\"\",\"RR\"&LEFT($G193,1)&$H193&IF($J193<=9,\"0\"&$J193,$J193)&$L193&\"A4\"&LEFT($O193,2)&\"N\"),VLOOKUP($Z193,Ref!$AE:$AG,3,0)&$L193)","v":""},"","",{"$f":"IF($Z193=\"\",IF($G193=\"\",\"\",$D193*$W193*$K$1),VLOOKUP($Z193,Ref!$AE:$AG,2,0)*$Q193*$K$1*(1-$H$4/100))","v":""},{"$nulls":3},{"$f":"SUMIF(pricelist!$W:$W,'подбор радиатора TESI'!$AA193,pricelist!$J:$J)","v":0},null,0,null,{"$f":"IF($L193=\"\",\"\",VLOOKUP($L193,Ref!$D:$J,7,0))","v":""},{"$f":"SUMIF(Ref!$D:$D,'подбор радиатора TESI'!$L:$L,Ref!$E:$E)","v":{"v":0,"d":"0.00"}},null,{"$f":"SUMIF(Ref!$F:$F,'подбор радиатора TESI'!$O:$O,Ref!$G:$G)","v":{"v":0,"d":"0.00"}},null,{"$f":"SUMIF(pricelist!$W:$W,'подбор радиатора TESI'!$AA:$AA,pricelist!$K:$K)*$J193","v":{"v":0,"d":"0.00"}},{"$f":"SUMIF(pricelist!$W:$W,$AA:$AA,INDIRECT($S$12&$S$14))*$J193","v":{"v":0,"d":"0.00"}},0,null,{"$f":"SUMIF(Ref!$H:$H,'подбор радиатора TESI'!$U:$U,Ref!$I:$I)","v":{"v":0,"d":"0.00"}},{"$f":"(($N193*SUMIF(pricelist!$W:$W,'подбор радиатора TESI'!$AA:$AA,pricelist!$S:$S)*$J193)+$P193+IF($U193=\"радиусный\",$V193*$J193,$V193)+IF($J193>$AC193,31*1.13,0))*(1-$H$4/100)","v":{"v":0,"d":"0.00"}},{"$nulls":3},"/","/",{"$f":"SUMIF(Ref!$R:$R,'подбор радиатора TESI'!$AB:$AB,Ref!$Q:$Q)","v":0},1]
["",{"$f":"IF($Z194=\"\",IF($G194=\"\",\"\",\"RR\"&LEFT($G194,1)&$H194&IF($J194<=9,\"0\"&$J194,$J194)&$L194&\"A4\"&LEFT($O194,2)&\"N\"),VLOOKUP($Z194,Ref!$AE:$AG,3,0)&$L194)","v":""},"","",{"$f":"IF($Z194=\"\",IF($G194=\"\",\"\",$D194*$W194*$K$1),VLOOKUP($Z194,Ref!$AE:$AG,2,0)*$Q194*$K$1*(1-$H$4/100))","v":""},{"$nulls":3},{"$f":"SUMIF(pricelist!$W:$W,'подбор радиатора TESI'!$AA194,pricelist!$J:$J)","v":0},null,0,null,{"$f":"IF($L194=\"\",\"\",VLOOKUP($L194,Ref!$D:$J,7,0))","v":""},{"$f":"SUMIF(Ref!$D:$D,'подбор радиатора TESI'!$L:$L,Ref!$E:$E)","v":{"v":0,"d":"0.00"}},null,{"$f":"SUMIF(Ref!$F:$F,'подбор радиатора TESI'!$O:$O,Ref!$G:$G)","v":{"v":0,"d":"0.00"}},null,{"$f":"SUMIF(pricelist!$W:$W,'подбор радиатора TESI'!$AA:$AA,pricelist!$K:$K)*$J194","v":{"v":0,"d":"0.00"}},{"$f":"SUMIF(pricelist!$W:$W,$AA:$AA,INDIRECT($S$12&$S$14))*$J194","v":{"v":0,"d":"0.00"}},0,null,{"$f":"SUMIF(Ref!$H:$H,'подбор радиатора TESI'!$U:$U,Ref!$I:$I)","v":{"v":0,"d":"0.00"}},{"$f":"(($N194*SUMIF(pricelist!$W:$W,'подбор радиатора TESI'!$AA:$AA,pricelist!$S:$S)*$J194)+$P194+IF($U194=\"радиусный\",$V194*$J194,$V194)+IF($J194>$AC194,31*1.13,0))*(1-$H$4/100)","v":{"v":0,"d":"0.00"}},{"$nulls":3},"/","/",{"$f":"SUMIF(Ref!$R:$R,'подбор радиатора TESI'!$AB:$AB,Ref!$Q:$Q)","v":0},1]
["",{"$f":"IF($Z195=\"\",IF($G195=\"\",\"\",\"RR\"&LEFT($G195,1)&$H195&IF($J195<=9,\"0\"&$J195,$J195)&$L195&\"A4\"&LEFT($O195,2)&\"N\"),VLOOKUP($Z195,Ref!$AE:$AG,3,0)&$L195)","v":""},"","",{"$f":"IF($Z195=\"\",IF($G195=\"\",\"\",$D195*$W195*$K$1),VLOOKUP($Z195,Ref!$AE:$AG,2,0)*$Q195*$K$1*(1-$H$4/100))","v":""},{"$nulls":3},{"$f":"SUMIF(pricelist!$W:$W,'подбор радиатора TESI'!$AA195,pricelist!$J:$J)","v":0},null,0,null,{"$f":"IF($L195=\"\",\"\",VLOOKUP($L195,Ref!$D:$J,7,0))","v":""},{"$f":"SUMIF(Ref!$D:$D,'подбор радиатора TESI'!$L:$L,Ref!$E:$E)","v":{"v":0,"d":"0.00"}},null,{"$f":"SUMIF(Ref!$F:$F,'подбор радиатора TESI'!$O:$O,Ref!$G:$G)","v":{"v":0,"d":"0.00"}},null,{"$f":"SUMIF(pricelist!$W:$W,'подбор радиатора TESI'!$AA:$AA,pricelist!$K:$K)*$J195","v":{"v":0,"d":"0.00"}},{"$f":"SUMIF(pricelist!$W:$W,$AA:$AA,INDIRECT($S$12&$S$14))*$J195","v":{"v":0,"d":"0.00"}},0,null,{"$f":"SUMIF(Ref!$H:$H,'подбор радиатора TESI'!$U:$U,Ref!$I:$I)","v":{"v":0,"d":"0.00"}},{"$f":"(($N195*SUMIF(pricelist!$W:$W,'подбор радиатора TESI'!$AA:$AA,pricelist!$S:$S)*$J195)+$P195+IF($U195=\"радиусный\",$V195*$J195,$V195)+IF($J195>$AC195,31*1.13,0))*(1-$H$4/100)","v":{"v":0,"d":"0.00"}},{"$nulls":3},"/","/",{"$f":"SUMIF(Ref!$R:$R,'подбор радиатора TESI'!$AB:$AB,Ref!$Q:$Q)","v":0},1]
["",{"$f":"IF($Z196=\"\",IF($G196=\"\",\"\",\"RR\"&LEFT($G196,1)&$H196&IF($J196<=9,\"0\"&$J196,$J196)&$L196&\"A4\"&LEFT($O196,2)&\"N\"),VLOOKUP($Z196,Ref!$AE:$AG,3,0)&$L196)","v":""},"","",{"$f":"IF($Z196=\"\",IF($G196=\"\",\"\",$D196*$W196*$K$1),VLOOKUP($Z196,Ref!$AE:$AG,2,0)*$Q196*$K$1*(1-$H$4/100))","v":""},{"$nulls":3},{"$f":"SUMIF(pricelist!$W:$W,'подбор радиатора TESI'!$AA196,pricelist!$J:$J)","v":0},null,0,null,{"$f":"IF($L196=\"\",\"\",VLOOKUP($L196,Ref!$D:$J,7,0))","v":""},{"$f":"SUMIF(Ref!$D:$D,'подбор радиатора TESI'!$L:$L,Ref!$E:$E)","v":{"v":0,"d":"0.00"}},null,{"$f":"SUMIF(Ref!$F:$F,'подбор радиатора TESI'!$O:$O,Ref!$G:$G)","v":{"v":0,"d":"0.00"}},null,{"$f":"SUMIF(pricelist!$W:$W,'подбор радиатора TESI'!$AA:$AA,pricelist!$K:$K)*$J196","v":{"v":0,"d":"0.00"}},{"$f":"SUMIF(pricelist!$W:$W,$AA:$AA,INDIRECT($S$12&$S$14))*$J196","v":{"v":0,"d":"0.00"}},0,null,{"$f":"SUMIF(Ref!$H:$H,'подбор радиатора TESI'!$U:$U,Ref!$I:$I)","v":{"v":0,"d":"0.00"}},{"$f":"(($N196*SUMIF(pricelist!$W:$W,'подбор радиатора TESI'!$AA:$AA,pricelist!$S:$S)*$J196)+$P196+IF($U196=\"радиусный\",$V196*$J196,$V196)+IF($J196>$AC196,31*1.13,0))*(1-$H$4/100)","v":{"v":0,"d":"0.00"}},{"$nulls":3},"/","/",{"$f":"SUMIF(Ref!$R:$R,'подбор радиатора TESI'!$AB:$AB,Ref!$Q:$Q)","v":0},1]
["",{"$f":"IF($Z197=\"\",IF($G197=\"\",\"\",\"RR\"&LEFT($G197,1)&$H197&IF($J197<=9,\"0\"&$J197,$J197)&$L197&\"A4\"&LEFT($O197,2)&\"N\"),VLOOKUP($Z197,Ref!$AE:$AG,3,0)&$L197)","v":""},"","",{"$f":"IF($Z197=\"\",IF($G197=\"\",\"\",$D197*$W197*$K$1),VLOOKUP($Z197,Ref!$AE:$AG,2,0)*$Q197*$K$1*(1-$H$4/100))","v":""},{"$nulls":3},{"$f":"SUMIF(pricelist!$W:$W,'подбор радиатора TESI'!$AA197,pricelist!$J:$J)","v":0},null,0,null,{"$f":"IF($L197=\"\",\"\",VLOOKUP($L197,Ref!$D:$J,7,0))","v":""},{"$f":"SUMIF(Ref!$D:$D,'подбор радиатора TESI'!$L:$L,Ref!$E:$E)","v":{"v":0,"d":"0.00"}},null,{"$f":"SUMIF(Ref!$F:$F,'подбор радиатора TESI'!$O:$O,Ref!$G:$G)","v":{"v":0,"d":"0.00"}},null,{"$f":"SUMIF(pricelist!$W:$W,'подбор радиатора TESI'!$AA:$AA,pricelist!$K:$K)*$J197","v":{"v":0,"d":"0.00"}},{"$f":"SUMIF(pricelist!$W:$W,$AA:$AA,INDIRECT($S$12&$S$14))*$J197","v":{"v":0,"d":"0.00"}},0,null,{"$f":"SUMIF(Ref!$H:$H,'подбор радиатора TESI'!$U:$U,Ref!$I:$I)","v":{"v":0,"d":"0.00"}},{"$f":"(($N197*SUMIF(pricelist!$W:$W,'подбор радиатора TESI'!$AA:$AA,pricelist!$S:$S)*$J197)+$P197+IF($U197=\"радиусный\",$V197*$J197,$V197)+IF($J197>$AC197,31*1.13,0))*(1-$H$4/100)","v":{"v":0,"d":"0.00"}},{"$nulls":3},"/","/",{"$f":"SUMIF(Ref!$R:$R,'подбор радиатора TESI'!$AB:$AB,Ref!$Q:$Q)","v":0},1]
["",{"$f":"IF($Z198=\"\",IF($G198=\"\",\"\",\"RR\"&LEFT($G198,1)&$H198&IF($J198<=9,\"0\"&$J198,$J198)&$L198&\"A4\"&LEFT($O198,2)&\"N\"),VLOOKUP($Z198,Ref!$AE:$AG,3,0)&$L198)","v":""},"","",{"$f":"IF($Z198=\"\",IF($G198=\"\",\"\",$D198*$W198*$K$1),VLOOKUP($Z198,Ref!$AE:$AG,2,0)*$Q198*$K$1*(1-$H$4/100))","v":""},{"$nulls":3},{"$f":"SUMIF(pricelist!$W:$W,'подбор радиатора TESI'!$AA198,pricelist!$J:$J)","v":0},null,0,null,{"$f":"IF($L198=\"\",\"\",VLOOKUP($L198,Ref!$D:$J,7,0))","v":""},{"$f":"SUMIF(Ref!$D:$D,'подбор радиатора TESI'!$L:$L,Ref!$E:$E)","v":{"v":0,"d":"0.00"}},null,{"$f":"SUMIF(Ref!$F:$F,'подбор радиатора TESI'!$O:$O,Ref!$G:$G)","v":{"v":0,"d":"0.00"}},null,{"$f":"SUMIF(pricelist!$W:$W,'подбор радиатора TESI'!$AA:$AA,pricelist!$K:$K)*$J198","v":{"v":0,"d":"0.00"}},{"$f":"SUMIF(pricelist!$W:$W,$AA:$AA,INDIRECT($S$12&$S$14))*$J198","v":{"v":0,"d":"0.00"}},0,null,{"$f":"SUMIF(Ref!$H:$H,'подбор радиатора TESI'!$U:$U,Ref!$I:$I)","v":{"v":0,"d":"0.00"}},{"$f":"(($N198*SUMIF(pricelist!$W:$W,'подбор радиатора TESI'!$AA:$AA,pricelist!$S:$S)*$J198)+$P198+IF($U198=\"радиусный\",$V198*$J198,$V198)+IF($J198>$AC198,31*1.13,0))*(1-$H$4/100)","v":{"v":0,"d":"0.00"}},{"$nulls":3},"/","/",{"$f":"SUMIF(Ref!$R:$R,'подбор радиатора TESI'!$AB:$AB,Ref!$Q:$Q)","v":0},1]
["",{"$f":"IF($Z199=\"\",IF($G199=\"\",\"\",\"RR\"&LEFT($G199,1)&$H199&IF($J199<=9,\"0\"&$J199,$J199)&$L199&\"A4\"&LEFT($O199,2)&\"N\"),VLOOKUP($Z199,Ref!$AE:$AG,3,0)&$L199)","v":""},"","",{"$f":"IF($Z199=\"\",IF($G199=\"\",\"\",$D199*$W199*$K$1),VLOOKUP($Z199,Ref!$AE:$AG,2,0)*$Q199*$K$1*(1-$H$4/100))","v":""},{"$nulls":3},{"$f":"SUMIF(pricelist!$W:$W,'подбор радиатора TESI'!$AA199,pricelist!$J:$J)","v":0},null,0,null,{"$f":"IF($L199=\"\",\"\",VLOOKUP($L199,Ref!$D:$J,7,0))","v":""},{"$f":"SUMIF(Ref!$D:$D,'подбор радиатора TESI'!$L:$L,Ref!$E:$E)","v":{"v":0,"d":"0.00"}},null,{"$f":"SUMIF(Ref!$F:$F,'подбор радиатора TESI'!$O:$O,Ref!$G:$G)","v":{"v":0,"d":"0.00"}},null,{"$f":"SUMIF(pricelist!$W:$W,'подбор радиатора TESI'!$AA:$AA,pricelist!$K:$K)*$J199","v":{"v":0,"d":"0.00"}},{"$f":"SUMIF(pricelist!$W:$W,$AA:$AA,INDIRECT($S$12&$S$14))*$J199","v":{"v":0,"d":"0.00"}},0,null,{"$f":"SUMIF(Ref!$H:$H,'подбор радиатора TESI'!$U:$U,Ref!$I:$I)","v":{"v":0,"d":"0.00"}},{"$f":"(($N199*SUMIF(pricelist!$W:$W,'подбор радиатора TESI'!$AA:$AA,pricelist!$S:$S)*$J199)+$P199+IF($U199=\"радиусный\",$V199*$J199,$V199)+IF($J199>$AC199,31*1.13,0))*(1-$H$4/100)","v":{"v":0,"d":"0.00"}},{"$nulls":3},{"$f":"LEFT($G199,1)&\"/\"&$H199","v":"/"},"/",{"$f":"SUMIF(Ref!$R:$R,'подбор радиатора TESI'!$AB:$AB,Ref!$Q:$Q)","v":0},1]
["",{"$f":"IF($Z200=\"\",IF($G200=\"\",\"\",\"RR\"&LEFT($G200,1)&$H200&IF($J200<=9,\"0\"&$J200,$J200)&$L200&\"A4\"&LEFT($O200,2)&\"N\"),VLOOKUP($Z200,Ref!$AE:$AG,3,0)&$L200)","v":""},"","",{"$f":"IF($Z200=\"\",IF($G200=\"\",\"\",$D200*$W200*$K$1),VLOOKUP($Z200,Ref!$AE:$AG,2,0)*$Q200*$K$1*(1-$H$4/100))","v":""},{"$nulls":3},{"$f":"SUMIF(pricelist!$W:$W,'подбор радиатора TESI'!$AA200,pricelist!$J:$J)","v":0},null,0,null,{"$f":"IF($L200=\"\",\"\",VLOOKUP($L200,Ref!$D:$J,7,0))","v":""},{"$f":"SUMIF(Ref!$D:$D,'подбор радиатора TESI'!$L:$L,Ref!$E:$E)","v":{"v":0,"d":"0.00"}},null,{"$f":"SUMIF(Ref!$F:$F,'подбор радиатора TESI'!$O:$O,Ref!$G:$G)","v":{"v":0,"d":"0.00"}},null,{"$f":"SUMIF(pricelist!$W:$W,'подбор радиатора TESI'!$AA:$AA,pricelist!$K:$K)*$J200","v":{"v":0,"d":"0.00"}},{"$f":"SUMIF(pricelist!$W:$W,$AA:$AA,INDIRECT($S$12&$S$14))*$J200","v":{"v":0,"d":"0.00"}},0,null,{"$f":"SUMIF(Ref!$H:$H,'подбор радиатора TESI'!$U:$U,Ref!$I:$I)","v":{"v":0,"d":"0.00"}},{"$f":"(($N200*SUMIF(pricelist!$W:$W,'подбор радиатора TESI'!$AA:$AA,pricelist!$S:$S)*$J200)+$P200+IF($U200=\"радиусный\",$V200*$J200,$V200)+IF($J200>$AC200,31*1.13,0))*(1-$H$4/100)","v":{"v":0,"d":"0.00"}},{"$nulls":3},"/","/",{"$f":"SUMIF(Ref!$R:$R,'подбор радиатора TESI'!$AB:$AB,Ref!$Q:$Q)","v":0},1]
["",{"$f":"IF($Z201=\"\",IF($G201=\"\",\"\",\"RR\"&LEFT($G201,1)&$H201&IF($J201<=9,\"0\"&$J201,$J201)&$L201&\"A4\"&LEFT($O201,2)&\"N\"),VLOOKUP($Z201,Ref!$AE:$AG,3,0)&$L201)","v":""},"","",{"$f":"IF($Z201=\"\",IF($G201=\"\",\"\",$D201*$W201*$K$1),VLOOKUP($Z201,Ref!$AE:$AG,2,0)*$Q201*$K$1*(1-$H$4/100))","v":""},{"$nulls":3},{"$f":"SUMIF(pricelist!$W:$W,'подбор радиатора TESI'!$AA201,pricelist!$J:$J)","v":0},null,0,null,{"$f":"IF($L201=\"\",\"\",VLOOKUP($L201,Ref!$D:$J,7,0))","v":""},{"$f":"SUMIF(Ref!$D:$D,'подбор радиатора TESI'!$L:$L,Ref!$E:$E)","v":{"v":0,"d":"0.00"}},null,{"$f":"SUMIF(Ref!$F:$F,'подбор радиатора TESI'!$O:$O,Ref!$G:$G)","v":{"v":0,"d":"0.00"}},null,{"$f":"SUMIF(pricelist!$W:$W,'подбор радиатора TESI'!$AA:$AA,pricelist!$K:$K)*$J201","v":{"v":0,"d":"0.00"}},{"$f":"SUMIF(pricelist!$W:$W,$AA:$AA,INDIRECT($S$12&$S$14))*$J201","v":{"v":0,"d":"0.00"}},0,null,{"$f":"SUMIF(Ref!$H:$H,'подбор радиатора TESI'!$U:$U,Ref!$I:$I)","v":{"v":0,"d":"0.00"}},{"$f":"(($N201*SUMIF(pricelist!$W:$W,'подбор радиатора TESI'!$AA:$AA,pricelist!$S:$S)*$J201)+$P201+IF($U201=\"радиусный\",$V201*$J201,$V201)+IF($J201>$AC201,31*1.13,0))*(1-$H$4/100)","v":{"v":0,"d":"0.00"}},{"$nulls":3},"/","/",{"$f":"SUMIF(Ref!$R:$R,'подбор радиатора TESI'!$AB:$AB,Ref!$Q:$Q)","v":0},1]
["",{"$f":"IF($Z202=\"\",IF($G202=\"\",\"\",\"RR\"&LEFT($G202,1)&$H202&IF($J202<=9,\"0\"&$J202,$J202)&$L202&\"A4\"&LEFT($O202,2)&\"N\"),VLOOKUP($Z202,Ref!$AE:$AG,3,0)&$L202)","v":""},"","",{"$f":"IF($Z202=\"\",IF($G202=\"\",\"\",$D202*$W202*$K$1),VLOOKUP($Z202,Ref!$AE:$AG,2,0)*$Q202*$K$1*(1-$H$4/100))","v":""},{"$nulls":3},{"$f":"SUMIF(pricelist!$W:$W,'подбор радиатора TESI'!$AA202,pricelist!$J:$J)","v":0},null,0,null,{"$f":"IF($L202=\"\",\"\",VLOOKUP($L202,Ref!$D:$J,7,0))","v":""},{"$f":"SUMIF(Ref!$D:$D,'подбор радиатора TESI'!$L:$L,Ref!$E:$E)","v":{"v":0,"d":"0.00"}},null,{"$f":"SUMIF(Ref!$F:$F,'подбор радиатора TESI'!$O:$O,Ref!$G:$G)","v":{"v":0,"d":"0.00"}},null,{"$f":"SUMIF(pricelist!$W:$W,'подбор радиатора TESI'!$AA:$AA,pricelist!$K:$K)*$J202","v":{"v":0,"d":"0.00"}},{"$f":"SUMIF(pricelist!$W:$W,$AA:$AA,INDIRECT($S$12&$S$14))*$J202","v":{"v":0,"d":"0.00"}},0,null,{"$f":"SUMIF(Ref!$H:$H,'подбор радиатора TESI'!$U:$U,Ref!$I:$I)","v":{"v":0,"d":"0.00"}},{"$f":"(($N202*SUMIF(pricelist!$W:$W,'подбор радиатора TESI'!$AA:$AA,pricelist!$S:$S)*$J202)+$P202+IF($U202=\"радиусный\",$V202*$J202,$V202)+IF($J202>$AC202,31*1.13,0))*(1-$H$4/100)","v":{"v":0,"d":"0.00"}},{"$nulls":3},"/","/",{"$f":"SUMIF(Ref!$R:$R,'подбор радиатора TESI'!$AB:$AB,Ref!$Q:$Q)","v":0},1]
["",{"$f":"IF($Z203=\"\",IF($G203=\"\",\"\",\"RR\"&LEFT($G203,1)&$H203&IF($J203<=9,\"0\"&$J203,$J203)&$L203&\"A4\"&LEFT($O203,2)&\"N\"),VLOOKUP($Z203,Ref!$AE:$AG,3,0)&$L203)","v":""},"","",{"$f":"IF($Z203=\"\",IF($G203=\"\",\"\",$D203*$W203*$K$1),VLOOKUP($Z203,Ref!$AE:$AG,2,0)*$Q203*$K$1*(1-$H$4/100))","v":""},{"$nulls":3},{"$f":"SUMIF(pricelist!$W:$W,'подбор радиатора TESI'!$AA203,pricelist!$J:$J)","v":0},null,0,null,{"$f":"IF($L203=\"\",\"\",VLOOKUP($L203,Ref!$D:$J,7,0))","v":""},{"$f":"SUMIF(Ref!$D:$D,'подбор радиатора TESI'!$L:$L,Ref!$E:$E)","v":{"v":0,"d":"0.00"}},null,{"$f":"SUMIF(Ref!$F:$F,'подбор радиатора TESI'!$O:$O,Ref!$G:$G)","v":{"v":0,"d":"0.00"}},null,{"$f":"SUMIF(pricelist!$W:$W,'подбор радиатора TESI'!$AA:$AA,pricelist!$K:$K)*$J203","v":{"v":0,"d":"0.00"}},{"$f":"SUMIF(pricelist!$W:$W,$AA:$AA,INDIRECT($S$12&$S$14))*$J203","v":{"v":0,"d":"0.00"}},0,null,{"$f":"SUMIF(Ref!$H:$H,'подбор радиатора TESI'!$U:$U,Ref!$I:$I)","v":{"v":0,"d":"0.00"}},{"$f":"(($N203*SUMIF(pricelist!$W:$W,'подбор радиатора TESI'!$AA:$AA,pricelist!$S:$S)*$J203)+$P203+IF($U203=\"радиусный\",$V203*$J203,$V203)+IF($J203>$AC203,31*1.13,0))*(1-$H$4/100)","v":{"v":0,"d":"0.00"}},{"$nulls":3},"/","/",{"$f":"SUMIF(Ref!$R:$R,'подбор радиатора TESI'!$AB:$AB,Ref!$Q:$Q)","v":0},1]
["",{"$f":"IF($Z204=\"\",IF($G204=\"\",\"\",\"RR\"&LEFT($G204,1)&$H204&IF($J204<=9,\"0\"&$J204,$J204)&$L204&\"A4\"&LEFT($O204,2)&\"N\"),VLOOKUP($Z204,Ref!$AE:$AG,3,0)&$L204)","v":""},"","",{"$f":"IF($Z204=\"\",IF($G204=\"\",\"\",$D204*$W204*$K$1),VLOOKUP($Z204,Ref!$AE:$AG,2,0)*$Q204*$K$1*(1-$H$4/100))","v":""},{"$nulls":3},{"$f":"SUMIF(pricelist!$W:$W,'подбор радиатора TESI'!$AA204,pricelist!$J:$J)","v":0},null,0,null,{"$f":"IF($L204=\"\",\"\",VLOOKUP($L204,Ref!$D:$J,7,0))","v":""},{"$f":"SUMIF(Ref!$D:$D,'подбор радиатора TESI'!$L:$L,Ref!$E:$E)","v":{"v":0,"d":"0.00"}},null,{"$f":"SUMIF(Ref!$F:$F,'подбор радиатора TESI'!$O:$O,Ref!$G:$G)","v":{"v":0,"d":"0.00"}},null,{"$f":"SUMIF(pricelist!$W:$W,'подбор радиатора TESI'!$AA:$AA,pricelist!$K:$K)*$J204","v":{"v":0,"d":"0.00"}},{"$f":"SUMIF(pricelist!$W:$W,$AA:$AA,INDIRECT($S$12&$S$14))*$J204","v":{"v":0,"d":"0.00"}},0,null,{"$f":"SUMIF(Ref!$H:$H,'подбор радиатора TESI'!$U:$U,Ref!$I:$I)","v":{"v":0,"d":"0.00"}},{"$f":"(($N204*SUMIF(pricelist!$W:$W,'подбор радиатора TESI'!$AA:$AA,pricelist!$S:$S)*$J204)+$P204+IF($U204=\"радиусный\",$V204*$J204,$V204)+IF($J204>$AC204,31*1.13,0))*(1-$H$4/100)","v":{"v":0,"d":"0.00"}},{"$nulls":3},"/","/",{"$f":"SUMIF(Ref!$R:$R,'подбор радиатора TESI'!$AB:$AB,Ref!$Q:$Q)","v":0},1]
["",{"$f":"IF($Z205=\"\",IF($G205=\"\",\"\",\"RR\"&LEFT($G205,1)&$H205&IF($J205<=9,\"0\"&$J205,$J205)&$L205&\"A4\"&LEFT($O205,2)&\"N\"),VLOOKUP($Z205,Ref!$AE:$AG,3,0)&$L205)","v":""},"","",{"$f":"IF($Z205=\"\",IF($G205=\"\",\"\",$D205*$W205*$K$1),VLOOKUP($Z205,Ref!$AE:$AG,2,0)*$Q205*$K$1*(1-$H$4/100))","v":""},{"$nulls":3},{"$f":"SUMIF(pricelist!$W:$W,'подбор радиатора TESI'!$AA205,pricelist!$J:$J)","v":0},null,0,null,{"$f":"IF($L205=\"\",\"\",VLOOKUP($L205,Ref!$D:$J,7,0))","v":""},{"$f":"SUMIF(Ref!$D:$D,'подбор радиатора TESI'!$L:$L,Ref!$E:$E)","v":{"v":0,"d":"0.00"}},null,{"$f":"SUMIF(Ref!$F:$F,'подбор радиатора TESI'!$O:$O,Ref!$G:$G)","v":{"v":0,"d":"0.00"}},null,{"$f":"SUMIF(pricelist!$W:$W,'подбор радиатора TESI'!$AA:$AA,pricelist!$K:$K)*$J205","v":{"v":0,"d":"0.00"}},{"$f":"SUMIF(pricelist!$W:$W,$AA:$AA,INDIRECT($S$12&$S$14))*$J205","v":{"v":0,"d":"0.00"}},0,null,{"$f":"SUMIF(Ref!$H:$H,'подбор радиатора TESI'!$U:$U,Ref!$I:$I)","v":{"v":0,"d":"0.00"}},{"$f":"(($N205*SUMIF(pricelist!$W:$W,'подбор радиатора TESI'!$AA:$AA,pricelist!$S:$S)*$J205)+$P205+IF($U205=\"радиусный\",$V205*$J205,$V205)+IF($J205>$AC205,31*1.13,0))*(1-$H$4/100)","v":{"v":0,"d":"0.00"}},{"$nulls":3},"/","/",{"$f":"SUMIF(Ref!$R:$R,'подбор радиатора TESI'!$AB:$AB,Ref!$Q:$Q)","v":0},1]
["",{"$f":"IF($Z206=\"\",IF($G206=\"\",\"\",\"RR\"&LEFT($G206,1)&$H206&IF($J206<=9,\"0\"&$J206,$J206)&$L206&\"A4\"&LEFT($O206,2)&\"N\"),VLOOKUP($Z206,Ref!$AE:$AG,3,0)&$L206)","v":""},"","",{"$f":"IF($Z206=\"\",IF($G206=\"\",\"\",$D206*$W206*$K$1),VLOOKUP($Z206,Ref!$AE:$AG,2,0)*$Q206*$K$1*(1-$H$4/100))","v":""},{"$nulls":3},{"$f":"SUMIF(pricelist!$W:$W,'подбор радиатора TESI'!$AA206,pricelist!$J:$J)","v":0},null,0,null,{"$f":"IF($L206=\"\",\"\",VLOOKUP($L206,Ref!$D:$J,7,0))","v":""},{"$f":"SUMIF(Ref!$D:$D,'подбор радиатора TESI'!$L:$L,Ref!$E:$E)","v":{"v":0,"d":"0.00"}},null,{"$f":"SUMIF(Ref!$F:$F,'подбор радиатора TESI'!$O:$O,Ref!$G:$G)","v":{"v":0,"d":"0.00"}},null,{"$f":"SUMIF(pricelist!$W:$W,'подбор радиатора TESI'!$AA:$AA,pricelist!$K:$K)*$J206","v":{"v":0,"d":"0.00"}},{"$f":"SUMIF(pricelist!$W:$W,$AA:$AA,INDIRECT($S$12&$S$14))*$J206","v":{"v":0,"d":"0.00"}},0,null,{"$f":"SUMIF(Ref!$H:$H,'подбор радиатора TESI'!$U:$U,Ref!$I:$I)","v":{"v":0,"d":"0.00"}},{"$f":"(($N206*SUMIF(pricelist!$W:$W,'подбор радиатора TESI'!$AA:$AA,pricelist!$S:$S)*$J206)+$P206+IF($U206=\"радиусный\",$V206*$J206,$V206)+IF($J206>$AC206,31*1.13,0))*(1-$H$4/100)","v":{"v":0,"d":"0.00"}},{"$nulls":3},"/","/",{"$f":"SUMIF(Ref!$R:$R,'подбор радиатора TESI'!$AB:$AB,Ref!$Q:$Q)","v":0},1]
["",{"$f":"IF($Z207=\"\",IF($G207=\"\",\"\",\"RR\"&LEFT($G207,1)&$H207&IF($J207<=9,\"0\"&$J207,$J207)&$L207&\"A4\"&LEFT($O207,2)&\"N\"),VLOOKUP($Z207,Ref!$AE:$AG,3,0)&$L207)","v":""},"","",{"$f":"IF($Z207=\"\",IF($G207=\"\",\"\",$D207*$W207*$K$1),VLOOKUP($Z207,Ref!$AE:$AG,2,0)*$Q207*$K$1*(1-$H$4/100))","v":""},{"$nulls":3},{"$f":"SUMIF(pricelist!$W:$W,'подбор радиатора TESI'!$AA207,pricelist!$J:$J)","v":0},null,0,null,{"$f":"IF($L207=\"\",\"\",VLOOKUP($L207,Ref!$D:$J,7,0))","v":""},{"$f":"SUMIF(Ref!$D:$D,'подбор радиатора TESI'!$L:$L,Ref!$E:$E)","v":{"v":0,"d":"0.00"}},null,{"$f":"SUMIF(Ref!$F:$F,'подбор радиатора TESI'!$O:$O,Ref!$G:$G)","v":{"v":0,"d":"0.00"}},null,{"$f":"SUMIF(pricelist!$W:$W,'подбор радиатора TESI'!$AA:$AA,pricelist!$K:$K)*$J207","v":{"v":0,"d":"0.00"}},{"$f":"SUMIF(pricelist!$W:$W,$AA:$AA,INDIRECT($S$12&$S$14))*$J207","v":{"v":0,"d":"0.00"}},0,null,{"$f":"SUMIF(Ref!$H:$H,'подбор радиатора TESI'!$U:$U,Ref!$I:$I)","v":{"v":0,"d":"0.00"}},{"$f":"(($N207*SUMIF(pricelist!$W:$W,'подбор радиатора TESI'!$AA:$AA,pricelist!$S:$S)*$J207)+$P207+IF($U207=\"радиусный\",$V207*$J207,$V207)+IF($J207>$AC207,31*1.13,0))*(1-$H$4/100)","v":{"v":0,"d":"0.00"}},{"$nulls":3},"/","/",{"$f":"SUMIF(Ref!$R:$R,'подбор радиатора TESI'!$AB:$AB,Ref!$Q:$Q)","v":0},1]
["",{"$f":"IF($Z208=\"\",IF($G208=\"\",\"\",\"RR\"&LEFT($G208,1)&$H208&IF($J208<=9,\"0\"&$J208,$J208)&$L208&\"A4\"&LEFT($O208,2)&\"N\"),VLOOKUP($Z208,Ref!$AE:$AG,3,0)&$L208)","v":""},"","",{"$f":"IF($Z208=\"\",IF($G208=\"\",\"\",$D208*$W208*$K$1),VLOOKUP($Z208,Ref!$AE:$AG,2,0)*$Q208*$K$1*(1-$H$4/100))","v":""},{"$nulls":3},{"$f":"SUMIF(pricelist!$W:$W,'подбор радиатора TESI'!$AA208,pricelist!$J:$J)","v":0},null,0,null,{"$f":"IF($L208=\"\",\"\",VLOOKUP($L208,Ref!$D:$J,7,0))","v":""},{"$f":"SUMIF(Ref!$D:$D,'подбор радиатора TESI'!$L:$L,Ref!$E:$E)","v":{"v":0,"d":"0.00"}},null,{"$f":"SUMIF(Ref!$F:$F,'подбор радиатора TESI'!$O:$O,Ref!$G:$G)","v":{"v":0,"d":"0.00"}},null,{"$f":"SUMIF(pricelist!$W:$W,'подбор радиатора TESI'!$AA:$AA,pricelist!$K:$K)*$J208","v":{"v":0,"d":"0.00"}},{"$f":"SUMIF(pricelist!$W:$W,$AA:$AA,INDIRECT($S$12&$S$14))*$J208","v":{"v":0,"d":"0.00"}},0,null,{"$f":"SUMIF(Ref!$H:$H,'подбор радиатора TESI'!$U:$U,Ref!$I:$I)","v":{"v":0,"d":"0.00"}},{"$f":"(($N208*SUMIF(pricelist!$W:$W,'подбор радиатора TESI'!$AA:$AA,pricelist!$S:$S)*$J208)+$P208+IF($U208=\"радиусный\",$V208*$J208,$V208)+IF($J208>$AC208,31*1.13,0))*(1-$H$4/100)","v":{"v":0,"d":"0.00"}},{"$nulls":3},"/","/",{"$f":"SUMIF(Ref!$R:$R,'подбор радиатора TESI'!$AB:$AB,Ref!$Q:$Q)","v":0},1]
["",{"$f":"IF($Z209=\"\",IF($G209=\"\",\"\",\"RR\"&LEFT($G209,1)&$H209&IF($J209<=9,\"0\"&$J209,$J209)&$L209&\"A4\"&LEFT($O209,2)&\"N\"),VLOOKUP($Z209,Ref!$AE:$AG,3,0)&$L209)","v":""},"","",{"$f":"IF($Z209=\"\",IF($G209=\"\",\"\",$D209*$W209*$K$1),VLOOKUP($Z209,Ref!$AE:$AG,2,0)*$Q209*$K$1*(1-$H$4/100))","v":""},{"$nulls":3},{"$f":"SUMIF(pricelist!$W:$W,'подбор радиатора TESI'!$AA209,pricelist!$J:$J)","v":0},null,0,null,{"$f":"IF($L209=\"\",\"\",VLOOKUP($L209,Ref!$D:$J,7,0))","v":""},{"$f":"SUMIF(Ref!$D:$D,'подбор радиатора TESI'!$L:$L,Ref!$E:$E)","v":{"v":0,"d":"0.00"}},null,{"$f":"SUMIF(Ref!$F:$F,'подбор радиатора TESI'!$O:$O,Ref!$G:$G)","v":{"v":0,"d":"0.00"}},null,{"$f":"SUMIF(pricelist!$W:$W,'подбор радиатора TESI'!$AA:$AA,pricelist!$K:$K)*$J209","v":{"v":0,"d":"0.00"}},{"$f":"SUMIF(pricelist!$W:$W,$AA:$AA,INDIRECT($S$12&$S$14))*$J209","v":{"v":0,"d":"0.00"}},0,null,{"$f":"SUMIF(Ref!$H:$H,'подбор радиатора TESI'!$U:$U,Ref!$I:$I)","v":{"v":0,"d":"0.00"}},{"$f":"(($N209*SUMIF(pricelist!$W:$W,'подбор радиатора TESI'!$AA:$AA,pricelist!$S:$S)*$J209)+$P209+IF($U209=\"радиусный\",$V209*$J209,$V209)+IF($J209>$AC209,31*1.13,0))*(1-$H$4/100)","v":{"v":0,"d":"0.00"}},{"$nulls":3},"/","/",{"$f":"SUMIF(Ref!$R:$R,'подбор радиатора TESI'!$AB:$AB,Ref!$Q:$Q)","v":0},1]
["",{"$f":"IF($Z210=\"\",IF($G210=\"\",\"\",\"RR\"&LEFT($G210,1)&$H210&IF($J210<=9,\"0\"&$J210,$J210)&$L210&\"A4\"&LEFT($O210,2)&\"N\"),VLOOKUP($Z210,Ref!$AE:$AG,3,0)&$L210)","v":""},"",{"$f":"IF($Z210=\"\",IF($G210=\"\",\"\",$Q210),$Q210)","v":""},{"$f":"IF($Z210=\"\",IF($G210=\"\",\"\",$D210*$W210*$K$1),VLOOKUP($Z210,Ref!$AE:$AG,2,0)*$Q210*$K$1*(1-$H$4/100))","v":""},{"$nulls":3},{"$f":"SUMIF(pricelist!$W:$W,'подбор радиатора TESI'!$AA210,pricelist!$J:$J)","v":0},null,0,null,{"$f":"IF($L210=\"\",\"\",VLOOKUP($L210,Ref!$D:$J,7,0))","v":""},{"$f":"SUMIF(Ref!$D:$D,'подбор радиатора TESI'!$L:$L,Ref!$E:$E)","v":{"v":0,"d":"0.00"}},null,{"$f":"SUMIF(Ref!$F:$F,'подбор радиатора TESI'!$O:$O,Ref!$G:$G)","v":{"v":0,"d":"0.00"}},null,{"$f":"SUMIF(pricelist!$W:$W,'подбор радиатора TESI'!$AA:$AA,pricelist!$K:$K)*$J210","v":{"v":0,"d":"0.00"}},{"$f":"SUMIF(pricelist!$W:$W,$AA:$AA,INDIRECT($S$12&$S$14))*$J210","v":{"v":0,"d":"0.00"}},{"$f":"$J210*$Q210","v":0},null,{"$f":"SUMIF(Ref!$H:$H,'подбор радиатора TESI'!$U:$U,Ref!$I:$I)","v":{"v":0,"d":"0.00"}},{"$f":"(($N210*SUMIF(pricelist!$W:$W,'подбор радиатора TESI'!$AA:$AA,pricelist!$S:$S)*$J210)+$P210+IF($U210=\"радиусный\",$V210*$J210,$V210)+IF($J210>$AC210,31*1.13,0))*(1-$H$4/100)","v":{"v":0,"d":"0.00"}},{"$nulls":3},"/","/",{"$f":"SUMIF(Ref!$R:$R,'подбор радиатора TESI'!$AB:$AB,Ref!$Q:$Q)","v":0},1]
[{"$f":"IF($C211=\"\",\"\",A210+1)","v":""},{"$f":"IF($Z211=\"\",IF($G211=\"\",\"\",\"RR\"&LEFT($G211,1)&$H211&IF($J211<=9,\"0\"&$J211,$J211)&$L211&\"A4\"&LEFT($O211,2)&\"N\"),VLOOKUP($Z211,Ref!$AE:$AG,3,0)&$L211)","v":""},{"$f":"IF($Z211=\"\",IF($G211=\"\",\"\",\"RR\"&LEFT($G211,1)&\" \"&$H211&\", секций \"&$J211&\", цвет \"&$L211&\", подкл. \"&LEFT($O211,3)&\", \"&$U211),$Z211&\" \"&$L211)","v":""},"",{"$f":"IF($Z211=\"\",IF($G211=\"\",\"\",$D211*$W211*$K$1),VLOOKUP($Z211,Ref!$AE:$AG,2,0)*$Q211*$K$1*(1-$H$4/100))","v":""},{"$nulls":3},{"$f":"SUMIF(pricelist!$W:$W,'подбор радиатора TESI'!$AA211,pricelist!$J:$J)","v":0},null,{"$f":"$J211*45","v":0},null,{"$f":"IF($L211=\"\",\"\",VLOOKUP($L211,Ref!$D:$J,7,0))","v":""},{"$f":"SUMIF(Ref!$D:$D,'подбор радиатора TESI'!$L:$L,Ref!$E:$E)","v":{"v":0,"d":"0.00"}},null,{"$f":"SUMIF(Ref!$F:$F,'подбор радиатора TESI'!$O:$O,Ref!$G:$G)","v":{"v":0,"d":"0.00"}},null,{"$f":"SUMIF(pricelist!$W:$W,'подбор радиатора TESI'!$AA:$AA,pricelist!$K:$K)*$J211","v":{"v":0,"d":"0.00"}},{"$f":"SUMIF(pricelist!$W:$W,$AA:$AA,INDIRECT($S$12&$S$14))*$J211","v":{"v":0,"d":"0.00"}},0,null,{"$f":"SUMIF(Ref!$H:$H,'подбор радиатора TESI'!$U:$U,Ref!$I:$I)","v":{"v":0,"d":"0.00"}},{"$f":"(($N211*SUMIF(pricelist!$W:$W,'подбор радиатора TESI'!$AA:$AA,pricelist!$S:$S)*$J211)+$P211+IF($U211=\"радиусный\",$V211*$J211,$V211)+IF($J211>$AC211,31*1.13,0))*(1-$H$4/100)","v":{"v":0,"d":"0.00"}},{"$nulls":3},"/","/",{"$f":"SUMIF(Ref!$R:$R,'подбор радиатора TESI'!$AB:$AB,Ref!$Q:$Q)","v":0},{"$f":"IF($Z211=\"\",1,0)","v":1}]
["",{"$f":"IF($Z212=\"\",IF($G212=\"\",\"\",\"RR\"&LEFT($G212,1)&$H212&IF($J212<=9,\"0\"&$J212,$J212)&$L212&\"A4\"&LEFT($O212,2)&\"N\"),VLOOKUP($Z212,Ref!$AE:$AG,3,0)&$L212)","v":""},"","",{"$f":"IF($Z212=\"\",IF($G212=\"\",\"\",$D212*$W212*$K$1),VLOOKUP($Z212,Ref!$AE:$AG,2,0)*$Q212*$K$1*(1-$H$4/100))","v":""},{"$nulls":3},{"$f":"SUMIF(pricelist!$W:$W,'подбор радиатора TESI'!$AA212,pricelist!$J:$J)","v":0},null,0,null,{"$f":"IF($L212=\"\",\"\",VLOOKUP($L212,Ref!$D:$J,7,0))","v":""},{"$f":"SUMIF(Ref!$D:$D,'подбор радиатора TESI'!$L:$L,Ref!$E:$E)","v":{"v":0,"d":"0.00"}},null,{"$f":"SUMIF(Ref!$F:$F,'подбор радиатора TESI'!$O:$O,Ref!$G:$G)","v":{"v":0,"d":"0.00"}},null,{"$f":"SUMIF(pricelist!$W:$W,'подбор радиатора TESI'!$AA:$AA,pricelist!$K:$K)*$J212","v":{"v":0,"d":"0.00"}},{"$f":"SUMIF(pricelist!$W:$W,$AA:$AA,INDIRECT($S$12&$S$14))*$J212","v":{"v":0,"d":"0.00"}},0,null,{"$f":"SUMIF(Ref!$H:$H,'подбор радиатора TESI'!$U:$U,Ref!$I:$I)","v":{"v":0,"d":"0.00"}},{"$f":"(($N212*SUMIF(pricelist!$W:$W,'подбор радиатора TESI'!$AA:$AA,pricelist!$S:$S)*$J212)+$P212+IF($U212=\"радиусный\",$V212*$J212,$V212)+IF($J212>$AC212,31*1.13,0))*(1-$H$4/100)","v":{"v":0,"d":"0.00"}},{"$nulls":3},"/","/",{"$f":"SUMIF(Ref!$R:$R,'подбор радиатора TESI'!$AB:$AB,Ref!$Q:$Q)","v":0},1]
["",{"$f":"IF($Z213=\"\",IF($G213=\"\",\"\",\"RR\"&LEFT($G213,1)&$H213&IF($J213<=9,\"0\"&$J213,$J213)&$L213&\"A4\"&LEFT($O213,2)&\"N\"),VLOOKUP($Z213,Ref!$AE:$AG,3,0)&$L213)","v":""},"","",{"$f":"IF($Z213=\"\",IF($G213=\"\",\"\",$D213*$W213*$K$1),VLOOKUP($Z213,Ref!$AE:$AG,2,0)*$Q213*$K$1*(1-$H$4/100))","v":""},{"$nulls":3},{"$f":"SUMIF(pricelist!$W:$W,'подбор радиатора TESI'!$AA213,pricelist!$J:$J)","v":0},null,0,null,{"$f":"IF($L213=\"\",\"\",VLOOKUP($L213,Ref!$D:$J,7,0))","v":""},{"$f":"SUMIF(Ref!$D:$D,'подбор радиатора TESI'!$L:$L,Ref!$E:$E)","v":{"v":0,"d":"0.00"}},null,{"$f":"SUMIF(Ref!$F:$F,'подбор радиатора TESI'!$O:$O,Ref!$G:$G)","v":{"v":0,"d":"0.00"}},null,{"$f":"SUMIF(pricelist!$W:$W,'подбор радиатора TESI'!$AA:$AA,pricelist!$K:$K)*$J213","v":{"v":0,"d":"0.00"}},{"$f":"SUMIF(pricelist!$W:$W,$AA:$AA,INDIRECT($S$12&$S$14))*$J213","v":{"v":0,"d":"0.00"}},0,null,{"$f":"SUMIF(Ref!$H:$H,'подбор радиатора TESI'!$U:$U,Ref!$I:$I)","v":{"v":0,"d":"0.00"}},{"$f":"(($N213*SUMIF(pricelist!$W:$W,'подбор радиатора TESI'!$AA:$AA,pricelist!$S:$S)*$J213)+$P213+IF($U213=\"радиусный\",$V213*$J213,$V213)+IF($J213>$AC213,31*1.13,0))*(1-$H$4/100)","v":{"v":0,"d":"0.00"}},{"$nulls":3},"/","/",{"$f":"SUMIF(Ref!$R:$R,'подбор радиатора TESI'!$AB:$AB,Ref!$Q:$Q)","v":0},1]
["",{"$f":"IF($Z214=\"\",IF($G214=\"\",\"\",\"RR\"&LEFT($G214,1)&$H214&IF($J214<=9,\"0\"&$J214,$J214)&$L214&\"A4\"&LEFT($O214,2)&\"N\"),VLOOKUP($Z214,Ref!$AE:$AG,3,0)&$L214)","v":""},"","",{"$f":"IF($Z214=\"\",IF($G214=\"\",\"\",$D214*$W214*$K$1),VLOOKUP($Z214,Ref!$AE:$AG,2,0)*$Q214*$K$1*(1-$H$4/100))","v":""},{"$nulls":3},{"$f":"SUMIF(pricelist!$W:$W,'подбор радиатора TESI'!$AA214,pricelist!$J:$J)","v":0},null,0,null,{"$f":"IF($L214=\"\",\"\",VLOOKUP($L214,Ref!$D:$J,7,0))","v":""},{"$f":"SUMIF(Ref!$D:$D,'подбор радиатора TESI'!$L:$L,Ref!$E:$E)","v":{"v":0,"d":"0.00"}},null,{"$f":"SUMIF(Ref!$F:$F,'подбор радиатора TESI'!$O:$O,Ref!$G:$G)","v":{"v":0,"d":"0.00"}},null,{"$f":"SUMIF(pricelist!$W:$W,'подбор радиатора TESI'!$AA:$AA,pricelist!$K:$K)*$J214","v":{"v":0,"d":"0.00"}},{"$f":"SUMIF(pricelist!$W:$W,$AA:$AA,INDIRECT($S$12&$S$14))*$J214","v":{"v":0,"d":"0.00"}},0,null,{"$f":"SUMIF(Ref!$H:$H,'подбор радиатора TESI'!$U:$U,Ref!$I:$I)","v":{"v":0,"d":"0.00"}},{"$f":"(($N214*SUMIF(pricelist!$W:$W,'подбор радиатора TESI'!$AA:$AA,pricelist!$S:$S)*$J214)+$P214+IF($U214=\"радиусный\",$V214*$J214,$V214)+IF($J214>$AC214,31*1.13,0))*(1-$H$4/100)","v":{"v":0,"d":"0.00"}},{"$nulls":3},"/","/",{"$f":"SUMIF(Ref!$R:$R,'подбор радиатора TESI'!$AB:$AB,Ref!$Q:$Q)","v":0},1]
["",{"$f":"IF($Z215=\"\",IF($G215=\"\",\"\",\"RR\"&LEFT($G215,1)&$H215&IF($J215<=9,\"0\"&$J215,$J215)&$L215&\"A4\"&LEFT($O215,2)&\"N\"),VLOOKUP($Z215,Ref!$AE:$AG,3,0)&$L215)","v":""},"","",{"$f":"IF($Z215=\"\",IF($G215=\"\",\"\",$D215*$W215*$K$1),VLOOKUP($Z215,Ref!$AE:$AG,2,0)*$Q215*$K$1*(1-$H$4/100))","v":""},{"$nulls":3},{"$f":"SUMIF(pricelist!$W:$W,'подбор радиатора TESI'!$AA215,pricelist!$J:$J)","v":0},null,0,null,{"$f":"IF($L215=\"\",\"\",VLOOKUP($L215,Ref!$D:$J,7,0))","v":""},{"$f":"SUMIF(Ref!$D:$D,'подбор радиатора TESI'!$L:$L,Ref!$E:$E)","v":{"v":0,"d":"0.00"}},null,{"$f":"SUMIF(Ref!$F:$F,'подбор радиатора TESI'!$O:$O,Ref!$G:$G)","v":{"v":0,"d":"0.00"}},null,{"$f":"SUMIF(pricelist!$W:$W,'подбор радиатора TESI'!$AA:$AA,pricelist!$K:$K)*$J215","v":{"v":0,"d":"0.00"}},{"$f":"SUMIF(pricelist!$W:$W,$AA:$AA,INDIRECT($S$12&$S$14))*$J215","v":{"v":0,"d":"0.00"}},0,null,{"$f":"SUMIF(Ref!$H:$H,'подбор радиатора TESI'!$U:$U,Ref!$I:$I)","v":{"v":0,"d":"0.00"}},{"$f":"(($N215*SUMIF(pricelist!$W:$W,'подбор радиатора TESI'!$AA:$AA,pricelist!$S:$S)*$J215)+$P215+IF($U215=\"радиусный\",$V215*$J215,$V215)+IF($J215>$AC215,31*1.13,0))*(1-$H$4/100)","v":{"v":0,"d":"0.00"}},{"$nulls":3},"/","/",{"$f":"SUMIF(Ref!$R:$R,'подбор радиатора TESI'!$AB:$AB,Ref!$Q:$Q)","v":0},1]
["",{"$f":"IF($Z216=\"\",IF($G216=\"\",\"\",\"RR\"&LEFT($G216,1)&$H216&IF($J216<=9,\"0\"&$J216,$J216)&$L216&\"A4\"&LEFT($O216,2)&\"N\"),VLOOKUP($Z216,Ref!$AE:$AG,3,0)&$L216)","v":""},"","",{"$f":"IF($Z216=\"\",IF($G216=\"\",\"\",$D216*$W216*$K$1),VLOOKUP($Z216,Ref!$AE:$AG,2,0)*$Q216*$K$1*(1-$H$4/100))","v":""},{"$nulls":3},{"$f":"SUMIF(pricelist!$W:$W,'подбор радиатора TESI'!$AA216,pricelist!$J:$J)","v":0},null,0,null,{"$f":"IF($L216=\"\",\"\",VLOOKUP($L216,Ref!$D:$J,7,0))","v":""},{"$f":"SUMIF(Ref!$D:$D,'подбор радиатора TESI'!$L:$L,Ref!$E:$E)","v":{"v":0,"d":"0.00"}},null,{"$f":"SUMIF(Ref!$F:$F,'подбор радиатора TESI'!$O:$O,Ref!$G:$G)","v":{"v":0,"d":"0.00"}},null,{"$f":"SUMIF(pricelist!$W:$W,'подбор радиатора TESI'!$AA:$AA,pricelist!$K:$K)*$J216","v":{"v":0,"d":"0.00"}},{"$f":"SUMIF(pricelist!$W:$W,$AA:$AA,INDIRECT($S$12&$S$14))*$J216","v":{"v":0,"d":"0.00"}},0,null,{"$f":"SUMIF(Ref!$H:$H,'подбор радиатора TESI'!$U:$U,Ref!$I:$I)","v":{"v":0,"d":"0.00"}},{"$f":"(($N216*SUMIF(pricelist!$W:$W,'подбор радиатора TESI'!$AA:$AA,pricelist!$S:$S)*$J216)+$P216+IF($U216=\"радиусный\",$V216*$J216,$V216)+IF($J216>$AC216,31*1.13,0))*(1-$H$4/100)","v":{"v":0,"d":"0.00"}},{"$nulls":3},"/","/",{"$f":"SUMIF(Ref!$R:$R,'подбор радиатора TESI'!$AB:$AB,Ref!$Q:$Q)","v":0},1]
["",{"$f":"IF($Z217=\"\",IF($G217=\"\",\"\",\"RR\"&LEFT($G217,1)&$H217&IF($J217<=9,\"0\"&$J217,$J217)&$L217&\"A4\"&LEFT($O217,2)&\"N\"),VLOOKUP($Z217,Ref!$AE:$AG,3,0)&$L217)","v":""},"","",{"$f":"IF($Z217=\"\",IF($G217=\"\",\"\",$D217*$W217*$K$1),VLOOKUP($Z217,Ref!$AE:$AG,2,0)*$Q217*$K$1*(1-$H$4/100))","v":""},{"$nulls":3},{"$f":"SUMIF(pricelist!$W:$W,'подбор радиатора TESI'!$AA217,pricelist!$J:$J)","v":0},null,0,null,{"$f":"IF($L217=\"\",\"\",VLOOKUP($L217,Ref!$D:$J,7,0))","v":""},{"$f":"SUMIF(Ref!$D:$D,'подбор радиатора TESI'!$L:$L,Ref!$E:$E)","v":{"v":0,"d":"0.00"}},null,{"$f":"SUMIF(Ref!$F:$F,'подбор радиатора TESI'!$O:$O,Ref!$G:$G)","v":{"v":0,"d":"0.00"}},null,{"$f":"SUMIF(pricelist!$W:$W,'подбор радиатора TESI'!$AA:$AA,pricelist!$K:$K)*$J217","v":{"v":0,"d":"0.00"}},{"$f":"SUMIF(pricelist!$W:$W,$AA:$AA,INDIRECT($S$12&$S$14))*$J217","v":{"v":0,"d":"0.00"}},0,null,{"$f":"SUMIF(Ref!$H:$H,'подбор радиатора TESI'!$U:$U,Ref!$I:$I)","v":{"v":0,"d":"0.00"}},{"$f":"(($N217*SUMIF(pricelist!$W:$W,'подбор радиатора TESI'!$AA:$AA,pricelist!$S:$S)*$J217)+$P217+IF($U217=\"радиусный\",$V217*$J217,$V217)+IF($J217>$AC217,31*1.13,0))*(1-$H$4/100)","v":{"v":0,"d":"0.00"}},{"$nulls":3},"/","/",{"$f":"SUMIF(Ref!$R:$R,'подбор радиатора TESI'!$AB:$AB,Ref!$Q:$Q)","v":0},1]
["",{"$f":"IF($Z218=\"\",IF($G218=\"\",\"\",\"RR\"&LEFT($G218,1)&$H218&IF($J218<=9,\"0\"&$J218,$J218)&$L218&\"A4\"&LEFT($O218,2)&\"N\"),VLOOKUP($Z218,Ref!$AE:$AG,3,0)&$L218)","v":""},"","",{"$f":"IF($Z218=\"\",IF($G218=\"\",\"\",$D218*$W218*$K$1),VLOOKUP($Z218,Ref!$AE:$AG,2,0)*$Q218*$K$1*(1-$H$4/100))","v":""},{"$nulls":3},{"$f":"SUMIF(pricelist!$W:$W,'подбор радиатора TESI'!$AA218,pricelist!$J:$J)","v":0},null,0,null,{"$f":"IF($L218=\"\",\"\",VLOOKUP($L218,Ref!$D:$J,7,0))","v":""},{"$f":"SUMIF(Ref!$D:$D,'подбор радиатора TESI'!$L:$L,Ref!$E:$E)","v":{"v":0,"d":"0.00"}},null,{"$f":"SUMIF(Ref!$F:$F,'подбор радиатора TESI'!$O:$O,Ref!$G:$G)","v":{"v":0,"d":"0.00"}},null,{"$f":"SUMIF(pricelist!$W:$W,'подбор радиатора TESI'!$AA:$AA,pricelist!$K:$K)*$J218","v":{"v":0,"d":"0.00"}},{"$f":"SUMIF(pricelist!$W:$W,$AA:$AA,INDIRECT($S$12&$S$14))*$J218","v":{"v":0,"d":"0.00"}},0,null,{"$f":"SUMIF(Ref!$H:$H,'подбор радиатора TESI'!$U:$U,Ref!$I:$I)","v":{"v":0,"d":"0.00"}},{"$f":"(($N218*SUMIF(pricelist!$W:$W,'подбор радиатора TESI'!$AA:$AA,pricelist!$S:$S)*$J218)+$P218+IF($U218=\"радиусный\",$V218*$J218,$V218)+IF($J218>$AC218,31*1.13,0))*(1-$H$4/100)","v":{"v":0,"d":"0.00"}},{"$nulls":3},"/","/",{"$f":"SUMIF(Ref!$R:$R,'подбор радиатора TESI'!$AB:$AB,Ref!$Q:$Q)","v":0},1]
["",{"$f":"IF($Z219=\"\",IF($G219=\"\",\"\",\"RR\"&LEFT($G219,1)&$H219&IF($J219<=9,\"0\"&$J219,$J219)&$L219&\"A4\"&LEFT($O219,2)&\"N\"),VLOOKUP($Z219,Ref!$AE:$AG,3,0)&$L219)","v":""},"","",{"$f":"IF($Z219=\"\",IF($G219=\"\",\"\",$D219*$W219*$K$1),VLOOKUP($Z219,Ref!$AE:$AG,2,0)*$Q219*$K$1*(1-$H$4/100))","v":""},{"$nulls":3},{"$f":"SUMIF(pricelist!$W:$W,'подбор радиатора TESI'!$AA219,pricelist!$J:$J)","v":0},null,0,null,{"$f":"IF($L219=\"\",\"\",VLOOKUP($L219,Ref!$D:$J,7,0))","v":""},{"$f":"SUMIF(Ref!$D:$D,'подбор радиатора TESI'!$L:$L,Ref!$E:$E)","v":{"v":0,"d":"0.00"}},null,{"$f":"SUMIF(Ref!$F:$F,'подбор радиатора TESI'!$O:$O,Ref!$G:$G)","v":{"v":0,"d":"0.00"}},null,{"$f":"SUMIF(pricelist!$W:$W,'подбор радиатора TESI'!$AA:$AA,pricelist!$K:$K)*$J219","v":{"v":0,"d":"0.00"}},{"$f":"SUMIF(pricelist!$W:$W,$AA:$AA,INDIRECT($S$12&$S$14))*$J219","v":{"v":0,"d":"0.00"}},0,null,{"$f":"SUMIF(Ref!$H:$H,'подбор радиатора TESI'!$U:$U,Ref!$I:$I)","v":{"v":0,"d":"0.00"}},{"$f":"(($N219*SUMIF(pricelist!$W:$W,'подбор радиатора TESI'!$AA:$AA,pricelist!$S:$S)*$J219)+$P219+IF($U219=\"радиусный\",$V219*$J219,$V219)+IF($J219>$AC219,31*1.13,0))*(1-$H$4/100)","v":{"v":0,"d":"0.00"}},{"$nulls":3},"/","/",{"$f":"SUMIF(Ref!$R:$R,'подбор радиатора TESI'!$AB:$AB,Ref!$Q:$Q)","v":0},1]
["",{"$f":"IF($Z220=\"\",IF($G220=\"\",\"\",\"RR\"&LEFT($G220,1)&$H220&IF($J220<=9,\"0\"&$J220,$J220)&$L220&\"A4\"&LEFT($O220,2)&\"N\"),VLOOKUP($Z220,Ref!$AE:$AG,3,0)&$L220)","v":""},"","",{"$f":"IF($Z220=\"\",IF($G220=\"\",\"\",$D220*$W220*$K$1),VLOOKUP($Z220,Ref!$AE:$AG,2,0)*$Q220*$K$1*(1-$H$4/100))","v":""},{"$nulls":3},{"$f":"SUMIF(pricelist!$W:$W,'подбор радиатора TESI'!$AA220,pricelist!$J:$J)","v":0},null,0,null,{"$f":"IF($L220=\"\",\"\",VLOOKUP($L220,Ref!$D:$J,7,0))","v":""},{"$f":"SUMIF(Ref!$D:$D,'подбор радиатора TESI'!$L:$L,Ref!$E:$E)","v":{"v":0,"d":"0.00"}},null,{"$f":"SUMIF(Ref!$F:$F,'подбор радиатора TESI'!$O:$O,Ref!$G:$G)","v":{"v":0,"d":"0.00"}},null,{"$f":"SUMIF(pricelist!$W:$W,'подбор радиатора TESI'!$AA:$AA,pricelist!$K:$K)*$J220","v":{"v":0,"d":"0.00"}},{"$f":"SUMIF(pricelist!$W:$W,$AA:$AA,INDIRECT($S$12&$S$14))*$J220","v":{"v":0,"d":"0.00"}},0,null,{"$f":"SUMIF(Ref!$H:$H,'подбор радиатора TESI'!$U:$U,Ref!$I:$I)","v":{"v":0,"d":"0.00"}},{"$f":"(($N220*SUMIF(pricelist!$W:$W,'подбор радиатора TESI'!$AA:$AA,pricelist!$S:$S)*$J220)+$P220+IF($U220=\"радиусный\",$V220*$J220,$V220)+IF($J220>$AC220,31*1.13,0))*(1-$H$4/100)","v":{"v":0,"d":"0.00"}},{"$nulls":3},"/","/",{"$f":"SUMIF(Ref!$R:$R,'подбор радиатора TESI'!$AB:$AB,Ref!$Q:$Q)","v":0},1]
["",{"$f":"IF($Z221=\"\",IF($G221=\"\",\"\",\"RR\"&LEFT($G221,1)&$H221&IF($J221<=9,\"0\"&$J221,$J221)&$L221&\"A4\"&LEFT($O221,2)&\"N\"),VLOOKUP($Z221,Ref!$AE:$AG,3,0)&$L221)","v":""},"","",{"$f":"IF($Z221=\"\",IF($G221=\"\",\"\",$D221*$W221*$K$1),VLOOKUP($Z221,Ref!$AE:$AG,2,0)*$Q221*$K$1*(1-$H$4/100))","v":""},{"$nulls":3},{"$f":"SUMIF(pricelist!$W:$W,'подбор радиатора TESI'!$AA221,pricelist!$J:$J)","v":0},null,0,null,{"$f":"IF($L221=\"\",\"\",VLOOKUP($L221,Ref!$D:$J,7,0))","v":""},{"$f":"SUMIF(Ref!$D:$D,'подбор радиатора TESI'!$L:$L,Ref!$E:$E)","v":{"v":0,"d":"0.00"}},null,{"$f":"SUMIF(Ref!$F:$F,'подбор радиатора TESI'!$O:$O,Ref!$G:$G)","v":{"v":0,"d":"0.00"}},null,{"$f":"SUMIF(pricelist!$W:$W,'подбор радиатора TESI'!$AA:$AA,pricelist!$K:$K)*$J221","v":{"v":0,"d":"0.00"}},{"$f":"SUMIF(pricelist!$W:$W,$AA:$AA,INDIRECT($S$12&$S$14))*$J221","v":{"v":0,"d":"0.00"}},0,null,{"$f":"SUMIF(Ref!$H:$H,'подбор радиатора TESI'!$U:$U,Ref!$I:$I)","v":{"v":0,"d":"0.00"}},{"$f":"(($N221*SUMIF(pricelist!$W:$W,'подбор радиатора TESI'!$AA:$AA,pricelist!$S:$S)*$J221)+$P221+IF($U221=\"радиусный\",$V221*$J221,$V221)+IF($J221>$AC221,31*1.13,0))*(1-$H$4/100)","v":{"v":0,"d":"0.00"}},{"$nulls":3},"/","/",{"$f":"SUMIF(Ref!$R:$R,'подбор радиатора TESI'!$AB:$AB,Ref!$Q:$Q)","v":0},1]
["",{"$f":"IF($Z222=\"\",IF($G222=\"\",\"\",\"RR\"&LEFT($G222,1)&$H222&IF($J222<=9,\"0\"&$J222,$J222)&$L222&\"A4\"&LEFT($O222,2)&\"N\"),VLOOKUP($Z222,Ref!$AE:$AG,3,0)&$L222)","v":""},"","",{"$f":"IF($Z222=\"\",IF($G222=\"\",\"\",$D222*$W222*$K$1),VLOOKUP($Z222,Ref!$AE:$AG,2,0)*$Q222*$K$1*(1-$H$4/100))","v":""},{"$nulls":3},{"$f":"SUMIF(pricelist!$W:$W,'подбор радиатора TESI'!$AA222,pricelist!$J:$J)","v":0},null,0,null,{"$f":"IF($L222=\"\",\"\",VLOOKUP($L222,Ref!$D:$J,7,0))","v":""},{"$f":"SUMIF(Ref!$D:$D,'подбор радиатора TESI'!$L:$L,Ref!$E:$E)","v":{"v":0,"d":"0.00"}},null,{"$f":"SUMIF(Ref!$F:$F,'подбор радиатора TESI'!$O:$O,Ref!$G:$G)","v":{"v":0,"d":"0.00"}},null,{"$f":"SUMIF(pricelist!$W:$W,'подбор радиатора TESI'!$AA:$AA,pricelist!$K:$K)*$J222","v":{"v":0,"d":"0.00"}},{"$f":"SUMIF(pricelist!$W:$W,$AA:$AA,INDIRECT($S$12&$S$14))*$J222","v":{"v":0,"d":"0.00"}},0,null,{"$f":"SUMIF(Ref!$H:$H,'подбор радиатора TESI'!$U:$U,Ref!$I:$I)","v":{"v":0,"d":"0.00"}},{"$f":"(($N222*SUMIF(pricelist!$W:$W,'подбор радиатора TESI'!$AA:$AA,pricelist!$S:$S)*$J222)+$P222+IF($U222=\"радиусный\",$V222*$J222,$V222)+IF($J222>$AC222,31*1.13,0))*(1-$H$4/100)","v":{"v":0,"d":"0.00"}},{"$nulls":3},"/","/",{"$f":"SUMIF(Ref!$R:$R,'подбор радиатора TESI'!$AB:$AB,Ref!$Q:$Q)","v":0},1]
["",{"$f":"IF($Z223=\"\",IF($G223=\"\",\"\",\"RR\"&LEFT($G223,1)&$H223&IF($J223<=9,\"0\"&$J223,$J223)&$L223&\"A4\"&LEFT($O223,2)&\"N\"),VLOOKUP($Z223,Ref!$AE:$AG,3,0)&$L223)","v":""},"","",{"$f":"IF($Z223=\"\",IF($G223=\"\",\"\",$D223*$W223*$K$1),VLOOKUP($Z223,Ref!$AE:$AG,2,0)*$Q223*$K$1*(1-$H$4/100))","v":""},{"$nulls":3},{"$f":"SUMIF(pricelist!$W:$W,'подбор радиатора TESI'!$AA223,pricelist!$J:$J)","v":0},null,0,null,{"$f":"IF($L223=\"\",\"\",VLOOKUP($L223,Ref!$D:$J,7,0))","v":""},{"$f":"SUMIF(Ref!$D:$D,'подбор радиатора TESI'!$L:$L,Ref!$E:$E)","v":{"v":0,"d":"0.00"}},null,{"$f":"SUMIF(Ref!$F:$F,'подбор радиатора TESI'!$O:$O,Ref!$G:$G)","v":{"v":0,"d":"0.00"}},null,{"$f":"SUMIF(pricelist!$W:$W,'подбор радиатора TESI'!$AA:$AA,pricelist!$K:$K)*$J223","v":{"v":0,"d":"0.00"}},{"$f":"SUMIF(pricelist!$W:$W,$AA:$AA,INDIRECT($S$12&$S$14))*$J223","v":{"v":0,"d":"0.00"}},0,null,{"$f":"SUMIF(Ref!$H:$H,'подбор радиатора TESI'!$U:$U,Ref!$I:$I)","v":{"v":0,"d":"0.00"}},{"$f":"(($N223*SUMIF(pricelist!$W:$W,'подбор радиатора TESI'!$AA:$AA,pricelist!$S:$S)*$J223)+$P223+IF($U223=\"радиусный\",$V223*$J223,$V223)+IF($J223>$AC223,31*1.13,0))*(1-$H$4/100)","v":{"v":0,"d":"0.00"}},{"$nulls":3},"/","/",{"$f":"SUMIF(Ref!$R:$R,'подбор радиатора TESI'!$AB:$AB,Ref!$Q:$Q)","v":0},1]
["",{"$f":"IF($Z224=\"\",IF($G224=\"\",\"\",\"RR\"&LEFT($G224,1)&$H224&IF($J224<=9,\"0\"&$J224,$J224)&$L224&\"A4\"&LEFT($O224,2)&\"N\"),VLOOKUP($Z224,Ref!$AE:$AG,3,0)&$L224)","v":""},"","",{"$f":"IF($Z224=\"\",IF($G224=\"\",\"\",$D224*$W224*$K$1),VLOOKUP($Z224,Ref!$AE:$AG,2,0)*$Q224*$K$1*(1-$H$4/100))","v":""},{"$nulls":3},{"$f":"SUMIF(pricelist!$W:$W,'подбор радиатора TESI'!$AA224,pricelist!$J:$J)","v":0},null,0,null,{"$f":"IF($L224=\"\",\"\",VLOOKUP($L224,Ref!$D:$J,7,0))","v":""},{"$f":"SUMIF(Ref!$D:$D,'подбор радиатора TESI'!$L:$L,Ref!$E:$E)","v":{"v":0,"d":"0.00"}},null,{"$f":"SUMIF(Ref!$F:$F,'подбор радиатора TESI'!$O:$O,Ref!$G:$G)","v":{"v":0,"d":"0.00"}},null,{"$f":"SUMIF(pricelist!$W:$W,'подбор радиатора TESI'!$AA:$AA,pricelist!$K:$K)*$J224","v":{"v":0,"d":"0.00"}},{"$f":"SUMIF(pricelist!$W:$W,$AA:$AA,INDIRECT($S$12&$S$14))*$J224","v":{"v":0,"d":"0.00"}},0,null,{"$f":"SUMIF(Ref!$H:$H,'подбор радиатора TESI'!$U:$U,Ref!$I:$I)","v":{"v":0,"d":"0.00"}},{"$f":"(($N224*SUMIF(pricelist!$W:$W,'подбор радиатора TESI'!$AA:$AA,pricelist!$S:$S)*$J224)+$P224+IF($U224=\"радиусный\",$V224*$J224,$V224)+IF($J224>$AC224,31*1.13,0))*(1-$H$4/100)","v":{"v":0,"d":"0.00"}},{"$nulls":3},"/","/",{"$f":"SUMIF(Ref!$R:$R,'подбор радиатора TESI'!$AB:$AB,Ref!$Q:$Q)","v":0},1]
["",{"$f":"IF($Z225=\"\",IF($G225=\"\",\"\",\"RR\"&LEFT($G225,1)&$H225&IF($J225<=9,\"0\"&$J225,$J225)&$L225&\"A4\"&LEFT($O225,2)&\"N\"),VLOOKUP($Z225,Ref!$AE:$AG,3,0)&$L225)","v":""},"","",{"$f":"IF($Z225=\"\",IF($G225=\"\",\"\",$D225*$W225*$K$1),VLOOKUP($Z225,Ref!$AE:$AG,2,0)*$Q225*$K$1*(1-$H$4/100))","v":""},{"$nulls":3},{"$f":"SUMIF(pricelist!$W:$W,'подбор радиатора TESI'!$AA225,pricelist!$J:$J)","v":0},null,0,null,{"$f":"IF($L225=\"\",\"\",VLOOKUP($L225,Ref!$D:$J,7,0))","v":""},{"$f":"SUMIF(Ref!$D:$D,'подбор радиатора TESI'!$L:$L,Ref!$E:$E)","v":{"v":0,"d":"0.00"}},null,{"$f":"SUMIF(Ref!$F:$F,'подбор радиатора TESI'!$O:$O,Ref!$G:$G)","v":{"v":0,"d":"0.00"}},null,{"$f":"SUMIF(pricelist!$W:$W,'подбор радиатора TESI'!$AA:$AA,pricelist!$K:$K)*$J225","v":{"v":0,"d":"0.00"}},{"$f":"SUMIF(pricelist!$W:$W,$AA:$AA,INDIRECT($S$12&$S$14))*$J225","v":{"v":0,"d":"0.00"}},0,null,{"$f":"SUMIF(Ref!$H:$H,'подбор радиатора TESI'!$U:$U,Ref!$I:$I)","v":{"v":0,"d":"0.00"}},{"$f":"(($N225*SUMIF(pricelist!$W:$W,'подбор радиатора TESI'!$AA:$AA,pricelist!$S:$S)*$J225)+$P225+IF($U225=\"радиусный\",$V225*$J225,$V225)+IF($J225>$AC225,31*1.13,0))*(1-$H$4/100)","v":{"v":0,"d":"0.00"}},{"$nulls":3},"/","/",{"$f":"SUMIF(Ref!$R:$R,'подбор радиатора TESI'!$AB:$AB,Ref!$Q:$Q)","v":0},1]
["",{"$f":"IF($Z226=\"\",IF($G226=\"\",\"\",\"RR\"&LEFT($G226,1)&$H226&IF($J226<=9,\"0\"&$J226,$J226)&$L226&\"A4\"&LEFT($O226,2)&\"N\"),VLOOKUP($Z226,Ref!$AE:$AG,3,0)&$L226)","v":""},"","",{"$f":"IF($Z226=\"\",IF($G226=\"\",\"\",$D226*$W226*$K$1),VLOOKUP($Z226,Ref!$AE:$AG,2,0)*$Q226*$K$1*(1-$H$4/100))","v":""},{"$nulls":3},{"$f":"SUMIF(pricelist!$W:$W,'подбор радиатора TESI'!$AA226,pricelist!$J:$J)","v":0},null,0,null,{"$f":"IF($L226=\"\",\"\",VLOOKUP($L226,Ref!$D:$J,7,0))","v":""},{"$f":"SUMIF(Ref!$D:$D,'подбор радиатора TESI'!$L:$L,Ref!$E:$E)","v":{"v":0,"d":"0.00"}},null,{"$f":"SUMIF(Ref!$F:$F,'подбор радиатора TESI'!$O:$O,Ref!$G:$G)","v":{"v":0,"d":"0.00"}},null,{"$f":"SUMIF(pricelist!$W:$W,'подбор радиатора TESI'!$AA:$AA,pricelist!$K:$K)*$J226","v":{"v":0,"d":"0.00"}},{"$f":"SUMIF(pricelist!$W:$W,$AA:$AA,INDIRECT($S$12&$S$14))*$J226","v":{"v":0,"d":"0.00"}},0,null,{"$f":"SUMIF(Ref!$H:$H,'подбор радиатора TESI'!$U:$U,Ref!$I:$I)","v":{"v":0,"d":"0.00"}},{"$f":"(($N226*SUMIF(pricelist!$W:$W,'подбор радиатора TESI'!$AA:$AA,pricelist!$S:$S)*$J226)+$P226+IF($U226=\"радиусный\",$V226*$J226,$V226)+IF($J226>$AC226,31*1.13,0))*(1-$H$4/100)","v":{"v":0,"d":"0.00"}},{"$nulls":3},"/","/",{"$f":"SUMIF(Ref!$R:$R,'подбор радиатора TESI'!$AB:$AB,Ref!$Q:$Q)","v":0},1]
["",{"$f":"IF($Z227=\"\",IF($G227=\"\",\"\",\"RR\"&LEFT($G227,1)&$H227&IF($J227<=9,\"0\"&$J227,$J227)&$L227&\"A4\"&LEFT($O227,2)&\"N\"),VLOOKUP($Z227,Ref!$AE:$AG,3,0)&$L227)","v":""},"","",{"$f":"IF($Z227=\"\",IF($G227=\"\",\"\",$D227*$W227*$K$1),VLOOKUP($Z227,Ref!$AE:$AG,2,0)*$Q227*$K$1*(1-$H$4/100))","v":""},{"$nulls":3},{"$f":"SUMIF(pricelist!$W:$W,'подбор радиатора TESI'!$AA227,pricelist!$J:$J)","v":0},null,0,null,{"$f":"IF($L227=\"\",\"\",VLOOKUP($L227,Ref!$D:$J,7,0))","v":""},{"$f":"SUMIF(Ref!$D:$D,'подбор радиатора TESI'!$L:$L,Ref!$E:$E)","v":{"v":0,"d":"0.00"}},null,{"$f":"SUMIF(Ref!$F:$F,'подбор радиатора TESI'!$O:$O,Ref!$G:$G)","v":{"v":0,"d":"0.00"}},null,{"$f":"SUMIF(pricelist!$W:$W,'подбор радиатора TESI'!$AA:$AA,pricelist!$K:$K)*$J227","v":{"v":0,"d":"0.00"}},{"$f":"SUMIF(pricelist!$W:$W,$AA:$AA,INDIRECT($S$12&$S$14))*$J227","v":{"v":0,"d":"0.00"}},0,null,{"$f":"SUMIF(Ref!$H:$H,'подбор радиатора TESI'!$U:$U,Ref!$I:$I)","v":{"v":0,"d":"0.00"}},{"$f":"(($N227*SUMIF(pricelist!$W:$W,'подбор радиатора TESI'!$AA:$AA,pricelist!$S:$S)*$J227)+$P227+IF($U227=\"радиусный\",$V227*$J227,$V227)+IF($J227>$AC227,31*1.13,0))*(1-$H$4/100)","v":{"v":0,"d":"0.00"}},{"$nulls":3},"/","/",{"$f":"SUMIF(Ref!$R:$R,'подбор радиатора TESI'!$AB:$AB,Ref!$Q:$Q)","v":0},1]
["",{"$f":"IF($Z228=\"\",IF($G228=\"\",\"\",\"RR\"&LEFT($G228,1)&$H228&IF($J228<=9,\"0\"&$J228,$J228)&$L228&\"A4\"&LEFT($O228,2)&\"N\"),VLOOKUP($Z228,Ref!$AE:$AG,3,0)&$L228)","v":""},"","",{"$f":"IF($Z228=\"\",IF($G228=\"\",\"\",$D228*$W228*$K$1),VLOOKUP($Z228,Ref!$AE:$AG,2,0)*$Q228*$K$1*(1-$H$4/100))","v":""},{"$nulls":3},{"$f":"SUMIF(pricelist!$W:$W,'подбор радиатора TESI'!$AA228,pricelist!$J:$J)","v":0},null,0,null,{"$f":"IF($L228=\"\",\"\",VLOOKUP($L228,Ref!$D:$J,7,0))","v":""},{"$f":"SUMIF(Ref!$D:$D,'подбор радиатора TESI'!$L:$L,Ref!$E:$E)","v":{"v":0,"d":"0.00"}},null,{"$f":"SUMIF(Ref!$F:$F,'подбор радиатора TESI'!$O:$O,Ref!$G:$G)","v":{"v":0,"d":"0.00"}},null,{"$f":"SUMIF(pricelist!$W:$W,'подбор радиатора TESI'!$AA:$AA,pricelist!$K:$K)*$J228","v":{"v":0,"d":"0.00"}},{"$f":"SUMIF(pricelist!$W:$W,$AA:$AA,INDIRECT($S$12&$S$14))*$J228","v":{"v":0,"d":"0.00"}},0,null,{"$f":"SUMIF(Ref!$H:$H,'подбор радиатора TESI'!$U:$U,Ref!$I:$I)","v":{"v":0,"d":"0.00"}},{"$f":"(($N228*SUMIF(pricelist!$W:$W,'подбор радиатора TESI'!$AA:$AA,pricelist!$S:$S)*$J228)+$P228+IF($U228=\"радиусный\",$V228*$J228,$V228)+IF($J228>$AC228,31*1.13,0))*(1-$H$4/100)","v":{"v":0,"d":"0.00"}},{"$nulls":3},"/","/",{"$f":"SUMIF(Ref!$R:$R,'подбор радиатора TESI'!$AB:$AB,Ref!$Q:$Q)","v":0},1]
["",{"$f":"IF($Z229=\"\",IF($G229=\"\",\"\",\"RR\"&LEFT($G229,1)&$H229&IF($J229<=9,\"0\"&$J229,$J229)&$L229&\"A4\"&LEFT($O229,2)&\"N\"),VLOOKUP($Z229,Ref!$AE:$AG,3,0)&$L229)","v":""},"","",{"$f":"IF($Z229=\"\",IF($G229=\"\",\"\",$D229*$W229*$K$1),VLOOKUP($Z229,Ref!$AE:$AG,2,0)*$Q229*$K$1*(1-$H$4/100))","v":""},{"$nulls":3},{"$f":"SUMIF(pricelist!$W:$W,'подбор радиатора TESI'!$AA229,pricelist!$J:$J)","v":0},null,0,null,{"$f":"IF($L229=\"\",\"\",VLOOKUP($L229,Ref!$D:$J,7,0))","v":""},{"$f":"SUMIF(Ref!$D:$D,'подбор радиатора TESI'!$L:$L,Ref!$E:$E)","v":{"v":0,"d":"0.00"}},null,{"$f":"SUMIF(Ref!$F:$F,'подбор радиатора TESI'!$O:$O,Ref!$G:$G)","v":{"v":0,"d":"0.00"}},null,{"$f":"SUMIF(pricelist!$W:$W,'подбор радиатора TESI'!$AA:$AA,pricelist!$K:$K)*$J229","v":{"v":0,"d":"0.00"}},{"$f":"SUMIF(pricelist!$W:$W,$AA:$AA,INDIRECT($S$12&$S$14))*$J229","v":{"v":0,"d":"0.00"}},0,null,{"$f":"SUMIF(Ref!$H:$H,'подбор радиатора TESI'!$U:$U,Ref!$I:$I)","v":{"v":0,"d":"0.00"}},{"$f":"(($N229*SUMIF(pricelist!$W:$W,'подбор радиатора TESI'!$AA:$AA,pricelist!$S:$S)*$J229)+$P229+IF($U229=\"радиусный\",$V229*$J229,$V229)+IF($J229>$AC229,31*1.13,0))*(1-$H$4/100)","v":{"v":0,"d":"0.00"}},{"$nulls":3},"/","/",{"$f":"SUMIF(Ref!$R:$R,'подбор радиатора TESI'!$AB:$AB,Ref!$Q:$Q)","v":0},1]
["",{"$f":"IF($Z230=\"\",IF($G230=\"\",\"\",\"RR\"&LEFT($G230,1)&$H230&IF($J230<=9,\"0\"&$J230,$J230)&$L230&\"A4\"&LEFT($O230,2)&\"N\"),VLOOKUP($Z230,Ref!$AE:$AG,3,0)&$L230)","v":""},"","",{"$f":"IF($Z230=\"\",IF($G230=\"\",\"\",$D230*$W230*$K$1),VLOOKUP($Z230,Ref!$AE:$AG,2,0)*$Q230*$K$1*(1-$H$4/100))","v":""},{"$nulls":3},{"$f":"SUMIF(pricelist!$W:$W,'подбор радиатора TESI'!$AA230,pricelist!$J:$J)","v":0},null,0,null,{"$f":"IF($L230=\"\",\"\",VLOOKUP($L230,Ref!$D:$J,7,0))","v":""},{"$f":"SUMIF(Ref!$D:$D,'подбор радиатора TESI'!$L:$L,Ref!$E:$E)","v":{"v":0,"d":"0.00"}},null,{"$f":"SUMIF(Ref!$F:$F,'подбор радиатора TESI'!$O:$O,Ref!$G:$G)","v":{"v":0,"d":"0.00"}},null,{"$f":"SUMIF(pricelist!$W:$W,'подбор радиатора TESI'!$AA:$AA,pricelist!$K:$K)*$J230","v":{"v":0,"d":"0.00"}},{"$f":"SUMIF(pricelist!$W:$W,$AA:$AA,INDIRECT($S$12&$S$14))*$J230","v":{"v":0,"d":"0.00"}},0,null,{"$f":"SUMIF(Ref!$H:$H,'подбор радиатора TESI'!$U:$U,Ref!$I:$I)","v":{"v":0,"d":"0.00"}},{"$f":"(($N230*SUMIF(pricelist!$W:$W,'подбор радиатора TESI'!$AA:$AA,pricelist!$S:$S)*$J230)+$P230+IF($U230=\"радиусный\",$V230*$J230,$V230)+IF($J230>$AC230,31*1.13,0))*(1-$H$4/100)","v":{"v":0,"d":"0.00"}},{"$nulls":3},"/","/",{"$f":"SUMIF(Ref!$R:$R,'подбор радиатора TESI'!$AB:$AB,Ref!$Q:$Q)","v":0},1]
["",{"$f":"IF($Z231=\"\",IF($G231=\"\",\"\",\"RR\"&LEFT($G231,1)&$H231&IF($J231<=9,\"0\"&$J231,$J231)&$L231&\"A4\"&LEFT($O231,2)&\"N\"),VLOOKUP($Z231,Ref!$AE:$AG,3,0)&$L231)","v":""},"","",{"$f":"IF($Z231=\"\",IF($G231=\"\",\"\",$D231*$W231*$K$1),VLOOKUP($Z231,Ref!$AE:$AG,2,0)*$Q231*$K$1*(1-$H$4/100))","v":""},{"$nulls":3},{"$f":"SUMIF(pricelist!$W:$W,'подбор радиатора TESI'!$AA231,pricelist!$J:$J)","v":0},null,0,null,{"$f":"IF($L231=\"\",\"\",VLOOKUP($L231,Ref!$D:$J,7,0))","v":""},{"$f":"SUMIF(Ref!$D:$D,'подбор радиатора TESI'!$L:$L,Ref!$E:$E)","v":{"v":0,"d":"0.00"}},null,{"$f":"SUMIF(Ref!$F:$F,'подбор радиатора TESI'!$O:$O,Ref!$G:$G)","v":{"v":0,"d":"0.00"}},null,{"$f":"SUMIF(pricelist!$W:$W,'подбор радиатора TESI'!$AA:$AA,pricelist!$K:$K)*$J231","v":{"v":0,"d":"0.00"}},{"$f":"SUMIF(pricelist!$W:$W,$AA:$AA,INDIRECT($S$12&$S$14))*$J231","v":{"v":0,"d":"0.00"}},0,null,{"$f":"SUMIF(Ref!$H:$H,'подбор радиатора TESI'!$U:$U,Ref!$I:$I)","v":{"v":0,"d":"0.00"}},{"$f":"(($N231*SUMIF(pricelist!$W:$W,'подбор радиатора TESI'!$AA:$AA,pricelist!$S:$S)*$J231)+$P231+IF($U231=\"радиусный\",$V231*$J231,$V231)+IF($J231>$AC231,31*1.13,0))*(1-$H$4/100)","v":{"v":0,"d":"0.00"}},{"$nulls":3},"/","/",{"$f":"SUMIF(Ref!$R:$R,'подбор радиатора TESI'!$AB:$AB,Ref!$Q:$Q)","v":0},1]
["",{"$f":"IF($Z232=\"\",IF($G232=\"\",\"\",\"RR\"&LEFT($G232,1)&$H232&IF($J232<=9,\"0\"&$J232,$J232)&$L232&\"A4\"&LEFT($O232,2)&\"N\"),VLOOKUP($Z232,Ref!$AE:$AG,3,0)&$L232)","v":""},"","",{"$f":"IF($Z232=\"\",IF($G232=\"\",\"\",$D232*$W232*$K$1),VLOOKUP($Z232,Ref!$AE:$AG,2,0)*$Q232*$K$1*(1-$H$4/100))","v":""},{"$nulls":3},{"$f":"SUMIF(pricelist!$W:$W,'подбор радиатора TESI'!$AA232,pricelist!$J:$J)","v":0},null,0,null,{"$f":"IF($L232=\"\",\"\",VLOOKUP($L232,Ref!$D:$J,7,0))","v":""},{"$f":"SUMIF(Ref!$D:$D,'подбор радиатора TESI'!$L:$L,Ref!$E:$E)","v":{"v":0,"d":"0.00"}},null,{"$f":"SUMIF(Ref!$F:$F,'подбор радиатора TESI'!$O:$O,Ref!$G:$G)","v":{"v":0,"d":"0.00"}},null,{"$f":"SUMIF(pricelist!$W:$W,'подбор радиатора TESI'!$AA:$AA,pricelist!$K:$K)*$J232","v":{"v":0,"d":"0.00"}},{"$f":"SUMIF(pricelist!$W:$W,$AA:$AA,INDIRECT($S$12&$S$14))*$J232","v":{"v":0,"d":"0.00"}},0,null,{"$f":"SUMIF(Ref!$H:$H,'подбор радиатора TESI'!$U:$U,Ref!$I:$I)","v":{"v":0,"d":"0.00"}},{"$f":"(($N232*SUMIF(pricelist!$W:$W,'подбор радиатора TESI'!$AA:$AA,pricelist!$S:$S)*$J232)+$P232+IF($U232=\"радиусный\",$V232*$J232,$V232)+IF($J232>$AC232,31*1.13,0))*(1-$H$4/100)","v":{"v":0,"d":"0.00"}},{"$nulls":3},"/","/",{"$f":"SUMIF(Ref!$R:$R,'подбор радиатора TESI'!$AB:$AB,Ref!$Q:$Q)","v":0},1]
["",{"$f":"IF($Z233=\"\",IF($G233=\"\",\"\",\"RR\"&LEFT($G233,1)&$H233&IF($J233<=9,\"0\"&$J233,$J233)&$L233&\"A4\"&LEFT($O233,2)&\"N\"),VLOOKUP($Z233,Ref!$AE:$AG,3,0)&$L233)","v":""},"","",{"$f":"IF($Z233=\"\",IF($G233=\"\",\"\",$D233*$W233*$K$1),VLOOKUP($Z233,Ref!$AE:$AG,2,0)*$Q233*$K$1*(1-$H$4/100))","v":""},{"$nulls":3},{"$f":"SUMIF(pricelist!$W:$W,'подбор радиатора TESI'!$AA233,pricelist!$J:$J)","v":0},null,0,null,{"$f":"IF($L233=\"\",\"\",VLOOKUP($L233,Ref!$D:$J,7,0))","v":""},{"$f":"SUMIF(Ref!$D:$D,'подбор радиатора TESI'!$L:$L,Ref!$E:$E)","v":{"v":0,"d":"0.00"}},null,{"$f":"SUMIF(Ref!$F:$F,'подбор радиатора TESI'!$O:$O,Ref!$G:$G)","v":{"v":0,"d":"0.00"}},null,{"$f":"SUMIF(pricelist!$W:$W,'подбор радиатора TESI'!$AA:$AA,pricelist!$K:$K)*$J233","v":{"v":0,"d":"0.00"}},{"$f":"SUMIF(pricelist!$W:$W,$AA:$AA,INDIRECT($S$12&$S$14))*$J233","v":{"v":0,"d":"0.00"}},0,null,{"$f":"SUMIF(Ref!$H:$H,'подбор радиатора TESI'!$U:$U,Ref!$I:$I)","v":{"v":0,"d":"0.00"}},{"$f":"(($N233*SUMIF(pricelist!$W:$W,'подбор радиатора TESI'!$AA:$AA,pricelist!$S:$S)*$J233)+$P233+IF($U233=\"радиусный\",$V233*$J233,$V233)+IF($J233>$AC233,31*1.13,0))*(1-$H$4/100)","v":{"v":0,"d":"0.00"}},{"$nulls":3},"/","/",{"$f":"SUMIF(Ref!$R:$R,'подбор радиатора TESI'!$AB:$AB,Ref!$Q:$Q)","v":0},1]
["",{"$f":"IF($Z234=\"\",IF($G234=\"\",\"\",\"RR\"&LEFT($G234,1)&$H234&IF($J234<=9,\"0\"&$J234,$J234)&$L234&\"A4\"&LEFT($O234,2)&\"N\"),VLOOKUP($Z234,Ref!$AE:$AG,3,0)&$L234)","v":""},"","",{"$f":"IF($Z234=\"\",IF($G234=\"\",\"\",$D234*$W234*$K$1),VLOOKUP($Z234,Ref!$AE:$AG,2,0)*$Q234*$K$1*(1-$H$4/100))","v":""},{"$nulls":3},{"$f":"SUMIF(pricelist!$W:$W,'подбор радиатора TESI'!$AA234,pricelist!$J:$J)","v":0},null,0,null,{"$f":"IF($L234=\"\",\"\",VLOOKUP($L234,Ref!$D:$J,7,0))","v":""},{"$f":"SUMIF(Ref!$D:$D,'подбор радиатора TESI'!$L:$L,Ref!$E:$E)","v":{"v":0,"d":"0.00"}},null,{"$f":"SUMIF(Ref!$F:$F,'подбор радиатора TESI'!$O:$O,Ref!$G:$G)","v":{"v":0,"d":"0.00"}},null,{"$f":"SUMIF(pricelist!$W:$W,'подбор радиатора TESI'!$AA:$AA,pricelist!$K:$K)*$J234","v":{"v":0,"d":"0.00"}},{"$f":"SUMIF(pricelist!$W:$W,$AA:$AA,INDIRECT($S$12&$S$14))*$J234","v":{"v":0,"d":"0.00"}},0,null,{"$f":"SUMIF(Ref!$H:$H,'подбор радиатора TESI'!$U:$U,Ref!$I:$I)","v":{"v":0,"d":"0.00"}},{"$f":"(($N234*SUMIF(pricelist!$W:$W,'подбор радиатора TESI'!$AA:$AA,pricelist!$S:$S)*$J234)+$P234+IF($U234=\"радиусный\",$V234*$J234,$V234)+IF($J234>$AC234,31*1.13,0))*(1-$H$4/100)","v":{"v":0,"d":"0.00"}},{"$nulls":3},"/","/",{"$f":"SUMIF(Ref!$R:$R,'подбор радиатора TESI'!$AB:$AB,Ref!$Q:$Q)","v":0},1]
["",{"$f":"IF($Z235=\"\",IF($G235=\"\",\"\",\"RR\"&LEFT($G235,1)&$H235&IF($J235<=9,\"0\"&$J235,$J235)&$L235&\"A4\"&LEFT($O235,2)&\"N\"),VLOOKUP($Z235,Ref!$AE:$AG,3,0)&$L235)","v":""},"","",{"$f":"IF($Z235=\"\",IF($G235=\"\",\"\",$D235*$W235*$K$1),VLOOKUP($Z235,Ref!$AE:$AG,2,0)*$Q235*$K$1*(1-$H$4/100))","v":""},{"$nulls":3},{"$f":"SUMIF(pricelist!$W:$W,'подбор радиатора TESI'!$AA235,pricelist!$J:$J)","v":0},null,0,null,{"$f":"IF($L235=\"\",\"\",VLOOKUP($L235,Ref!$D:$J,7,0))","v":""},{"$f":"SUMIF(Ref!$D:$D,'подбор радиатора TESI'!$L:$L,Ref!$E:$E)","v":{"v":0,"d":"0.00"}},null,{"$f":"SUMIF(Ref!$F:$F,'подбор радиатора TESI'!$O:$O,Ref!$G:$G)","v":{"v":0,"d":"0.00"}},null,{"$f":"SUMIF(pricelist!$W:$W,'подбор радиатора TESI'!$AA:$AA,pricelist!$K:$K)*$J235","v":{"v":0,"d":"0.00"}},{"$f":"SUMIF(pricelist!$W:$W,$AA:$AA,INDIRECT($S$12&$S$14))*$J235","v":{"v":0,"d":"0.00"}},0,null,{"$f":"SUMIF(Ref!$H:$H,'подбор радиатора TESI'!$U:$U,Ref!$I:$I)","v":{"v":0,"d":"0.00"}},{"$f":"(($N235*SUMIF(pricelist!$W:$W,'подбор радиатора TESI'!$AA:$AA,pricelist!$S:$S)*$J235)+$P235+IF($U235=\"радиусный\",$V235*$J235,$V235)+IF($J235>$AC235,31*1.13,0))*(1-$H$4/100)","v":{"v":0,"d":"0.00"}},{"$nulls":3},"/","/",{"$f":"SUMIF(Ref!$R:$R,'подбор радиатора TESI'!$AB:$AB,Ref!$Q:$Q)","v":0},1]
["",{"$f":"IF($Z236=\"\",IF($G236=\"\",\"\",\"RR\"&LEFT($G236,1)&$H236&IF($J236<=9,\"0\"&$J236,$J236)&$L236&\"A4\"&LEFT($O236,2)&\"N\"),VLOOKUP($Z236,Ref!$AE:$AG,3,0)&$L236)","v":""},"","",{"$f":"IF($Z236=\"\",IF($G236=\"\",\"\",$D236*$W236*$K$1),VLOOKUP($Z236,Ref!$AE:$AG,2,0)*$Q236*$K$1*(1-$H$4/100))","v":""},{"$nulls":3},{"$f":"SUMIF(pricelist!$W:$W,'подбор радиатора TESI'!$AA236,pricelist!$J:$J)","v":0},null,0,null,{"$f":"IF($L236=\"\",\"\",VLOOKUP($L236,Ref!$D:$J,7,0))","v":""},{"$f":"SUMIF(Ref!$D:$D,'подбор радиатора TESI'!$L:$L,Ref!$E:$E)","v":{"v":0,"d":"0.00"}},null,{"$f":"SUMIF(Ref!$F:$F,'подбор радиатора TESI'!$O:$O,Ref!$G:$G)","v":{"v":0,"d":"0.00"}},null,{"$f":"SUMIF(pricelist!$W:$W,'подбор радиатора TESI'!$AA:$AA,pricelist!$K:$K)*$J236","v":{"v":0,"d":"0.00"}},{"$f":"SUMIF(pricelist!$W:$W,$AA:$AA,INDIRECT($S$12&$S$14))*$J236","v":{"v":0,"d":"0.00"}},0,null,{"$f":"SUMIF(Ref!$H:$H,'подбор радиатора TESI'!$U:$U,Ref!$I:$I)","v":{"v":0,"d":"0.00"}},{"$f":"(($N236*SUMIF(pricelist!$W:$W,'подбор радиатора TESI'!$AA:$AA,pricelist!$S:$S)*$J236)+$P236+IF($U236=\"радиусный\",$V236*$J236,$V236)+IF($J236>$AC236,31*1.13,0))*(1-$H$4/100)","v":{"v":0,"d":"0.00"}},{"$nulls":3},"/","/",{"$f":"SUMIF(Ref!$R:$R,'подбор радиатора TESI'!$AB:$AB,Ref!$Q:$Q)","v":0},1]
["",{"$f":"IF($Z237=\"\",IF($G237=\"\",\"\",\"RR\"&LEFT($G237,1)&$H237&IF($J237<=9,\"0\"&$J237,$J237)&$L237&\"A4\"&LEFT($O237,2)&\"N\"),VLOOKUP($Z237,Ref!$AE:$AG,3,0)&$L237)","v":""},"","",{"$f":"IF($Z237=\"\",IF($G237=\"\",\"\",$D237*$W237*$K$1),VLOOKUP($Z237,Ref!$AE:$AG,2,0)*$Q237*$K$1*(1-$H$4/100))","v":""},{"$nulls":3},{"$f":"SUMIF(pricelist!$W:$W,'подбор радиатора TESI'!$AA237,pricelist!$J:$J)","v":0},null,0,null,{"$f":"IF($L237=\"\",\"\",VLOOKUP($L237,Ref!$D:$J,7,0))","v":""},{"$f":"SUMIF(Ref!$D:$D,'подбор радиатора TESI'!$L:$L,Ref!$E:$E)","v":{"v":0,"d":"0.00"}},null,{"$f":"SUMIF(Ref!$F:$F,'подбор радиатора TESI'!$O:$O,Ref!$G:$G)","v":{"v":0,"d":"0.00"}},null,{"$f":"SUMIF(pricelist!$W:$W,'подбор радиатора TESI'!$AA:$AA,pricelist!$K:$K)*$J237","v":{"v":0,"d":"0.00"}},{"$f":"SUMIF(pricelist!$W:$W,$AA:$AA,INDIRECT($S$12&$S$14))*$J237","v":{"v":0,"d":"0.00"}},0,null,{"$f":"SUMIF(Ref!$H:$H,'подбор радиатора TESI'!$U:$U,Ref!$I:$I)","v":{"v":0,"d":"0.00"}},{"$f":"(($N237*SUMIF(pricelist!$W:$W,'подбор радиатора TESI'!$AA:$AA,pricelist!$S:$S)*$J237)+$P237+IF($U237=\"радиусный\",$V237*$J237,$V237)+IF($J237>$AC237,31*1.13,0))*(1-$H$4/100)","v":{"v":0,"d":"0.00"}},{"$nulls":3},"/","/",{"$f":"SUMIF(Ref!$R:$R,'подбор радиатора TESI'!$AB:$AB,Ref!$Q:$Q)","v":0},1]
["",{"$f":"IF($Z238=\"\",IF($G238=\"\",\"\",\"RR\"&LEFT($G238,1)&$H238&IF($J238<=9,\"0\"&$J238,$J238)&$L238&\"A4\"&LEFT($O238,2)&\"N\"),VLOOKUP($Z238,Ref!$AE:$AG,3,0)&$L238)","v":""},"","",{"$f":"IF($Z238=\"\",IF($G238=\"\",\"\",$D238*$W238*$K$1),VLOOKUP($Z238,Ref!$AE:$AG,2,0)*$Q238*$K$1*(1-$H$4/100))","v":""},{"$nulls":3},{"$f":"SUMIF(pricelist!$W:$W,'подбор радиатора TESI'!$AA238,pricelist!$J:$J)","v":0},null,0,null,{"$f":"IF($L238=\"\",\"\",VLOOKUP($L238,Ref!$D:$J,7,0))","v":""},{"$f":"SUMIF(Ref!$D:$D,'подбор радиатора TESI'!$L:$L,Ref!$E:$E)","v":{"v":0,"d":"0.00"}},null,{"$f":"SUMIF(Ref!$F:$F,'подбор радиатора TESI'!$O:$O,Ref!$G:$G)","v":{"v":0,"d":"0.00"}},null,{"$f":"SUMIF(pricelist!$W:$W,'подбор радиатора TESI'!$AA:$AA,pricelist!$K:$K)*$J238","v":{"v":0,"d":"0.00"}},{"$f":"SUMIF(pricelist!$W:$W,$AA:$AA,INDIRECT($S$12&$S$14))*$J238","v":{"v":0,"d":"0.00"}},0,null,{"$f":"SUMIF(Ref!$H:$H,'подбор радиатора TESI'!$U:$U,Ref!$I:$I)","v":{"v":0,"d":"0.00"}},{"$f":"(($N238*SUMIF(pricelist!$W:$W,'подбор радиатора TESI'!$AA:$AA,pricelist!$S:$S)*$J238)+$P238+IF($U238=\"радиусный\",$V238*$J238,$V238)+IF($J238>$AC238,31*1.13,0))*(1-$H$4/100)","v":{"v":0,"d":"0.00"}},{"$nulls":3},"/","/",{"$f":"SUMIF(Ref!$R:$R,'подбор радиатора TESI'!$AB:$AB,Ref!$Q:$Q)","v":0},1]
["",{"$f":"IF($Z239=\"\",IF($G239=\"\",\"\",\"RR\"&LEFT($G239,1)&$H239&IF($J239<=9,\"0\"&$J239,$J239)&$L239&\"A4\"&LEFT($O239,2)&\"N\"),VLOOKUP($Z239,Ref!$AE:$AG,3,0)&$L239)","v":""},"","",{"$f":"IF($Z239=\"\",IF($G239=\"\",\"\",$D239*$W239*$K$1),VLOOKUP($Z239,Ref!$AE:$AG,2,0)*$Q239*$K$1*(1-$H$4/100))","v":""},{"$nulls":3},{"$f":"SUMIF(pricelist!$W:$W,'подбор радиатора TESI'!$AA239,pricelist!$J:$J)","v":0},null,0,null,{"$f":"IF($L239=\"\",\"\",VLOOKUP($L239,Ref!$D:$J,7,0))","v":""},{"$f":"SUMIF(Ref!$D:$D,'подбор радиатора TESI'!$L:$L,Ref!$E:$E)","v":{"v":0,"d":"0.00"}},null,{"$f":"SUMIF(Ref!$F:$F,'подбор радиатора TESI'!$O:$O,Ref!$G:$G)","v":{"v":0,"d":"0.00"}},null,{"$f":"SUMIF(pricelist!$W:$W,'подбор радиатора TESI'!$AA:$AA,pricelist!$K:$K)*$J239","v":{"v":0,"d":"0.00"}},{"$f":"SUMIF(pricelist!$W:$W,$AA:$AA,INDIRECT($S$12&$S$14))*$J239","v":{"v":0,"d":"0.00"}},0,null,{"$f":"SUMIF(Ref!$H:$H,'подбор радиатора TESI'!$U:$U,Ref!$I:$I)","v":{"v":0,"d":"0.00"}},{"$f":"(($N239*SUMIF(pricelist!$W:$W,'подбор радиатора TESI'!$AA:$AA,pricelist!$S:$S)*$J239)+$P239+IF($U239=\"радиусный\",$V239*$J239,$V239)+IF($J239>$AC239,31*1.13,0))*(1-$H$4/100)","v":{"v":0,"d":"0.00"}},{"$nulls":3},"/","/",{"$f":"SUMIF(Ref!$R:$R,'подбор радиатора TESI'!$AB:$AB,Ref!$Q:$Q)","v":0},1]
["",{"$f":"IF($Z240=\"\",IF($G240=\"\",\"\",\"RR\"&LEFT($G240,1)&$H240&IF($J240<=9,\"0\"&$J240,$J240)&$L240&\"A4\"&LEFT($O240,2)&\"N\"),VLOOKUP($Z240,Ref!$AE:$AG,3,0)&$L240)","v":""},"","",{"$f":"IF($Z240=\"\",IF($G240=\"\",\"\",$D240*$W240*$K$1),VLOOKUP($Z240,Ref!$AE:$AG,2,0)*$Q240*$K$1*(1-$H$4/100))","v":""},{"$nulls":3},{"$f":"SUMIF(pricelist!$W:$W,'подбор радиатора TESI'!$AA240,pricelist!$J:$J)","v":0},null,0,null,{"$f":"IF($L240=\"\",\"\",VLOOKUP($L240,Ref!$D:$J,7,0))","v":""},{"$f":"SUMIF(Ref!$D:$D,'подбор радиатора TESI'!$L:$L,Ref!$E:$E)","v":{"v":0,"d":"0.00"}},null,{"$f":"SUMIF(Ref!$F:$F,'подбор радиатора TESI'!$O:$O,Ref!$G:$G)","v":{"v":0,"d":"0.00"}},null,{"$f":"SUMIF(pricelist!$W:$W,'подбор радиатора TESI'!$AA:$AA,pricelist!$K:$K)*$J240","v":{"v":0,"d":"0.00"}},{"$f":"SUMIF(pricelist!$W:$W,$AA:$AA,INDIRECT($S$12&$S$14))*$J240","v":{"v":0,"d":"0.00"}},0,null,{"$f":"SUMIF(Ref!$H:$H,'подбор радиатора TESI'!$U:$U,Ref!$I:$I)","v":{"v":0,"d":"0.00"}},{"$f":"(($N240*SUMIF(pricelist!$W:$W,'подбор радиатора TESI'!$AA:$AA,pricelist!$S:$S)*$J240)+$P240+IF($U240=\"радиусный\",$V240*$J240,$V240)+IF($J240>$AC240,31*1.13,0))*(1-$H$4/100)","v":{"v":0,"d":"0.00"}},{"$nulls":3},"/","/",{"$f":"SUMIF(Ref!$R:$R,'подбор радиатора TESI'!$AB:$AB,Ref!$Q:$Q)","v":0},1]
["",{"$f":"IF($Z241=\"\",IF($G241=\"\",\"\",\"RR\"&LEFT($G241,1)&$H241&IF($J241<=9,\"0\"&$J241,$J241)&$L241&\"A4\"&LEFT($O241,2)&\"N\"),VLOOKUP($Z241,Ref!$AE:$AG,3,0)&$L241)","v":""},"","",{"$f":"IF($Z241=\"\",IF($G241=\"\",\"\",$D241*$W241*$K$1),VLOOKUP($Z241,Ref!$AE:$AG,2,0)*$Q241*$K$1*(1-$H$4/100))","v":""},{"$nulls":3},{"$f":"SUMIF(pricelist!$W:$W,'подбор радиатора TESI'!$AA241,pricelist!$J:$J)","v":0},null,0,null,{"$f":"IF($L241=\"\",\"\",VLOOKUP($L241,Ref!$D:$J,7,0))","v":""},{"$f":"SUMIF(Ref!$D:$D,'подбор радиатора TESI'!$L:$L,Ref!$E:$E)","v":{"v":0,"d":"0.00"}},null,{"$f":"SUMIF(Ref!$F:$F,'подбор радиатора TESI'!$O:$O,Ref!$G:$G)","v":{"v":0,"d":"0.00"}},null,{"$f":"SUMIF(pricelist!$W:$W,'подбор радиатора TESI'!$AA:$AA,pricelist!$K:$K)*$J241","v":{"v":0,"d":"0.00"}},{"$f":"SUMIF(pricelist!$W:$W,$AA:$AA,INDIRECT($S$12&$S$14))*$J241","v":{"v":0,"d":"0.00"}},0,null,{"$f":"SUMIF(Ref!$H:$H,'подбор радиатора TESI'!$U:$U,Ref!$I:$I)","v":{"v":0,"d":"0.00"}},{"$f":"(($N241*SUMIF(pricelist!$W:$W,'подбор радиатора TESI'!$AA:$AA,pricelist!$S:$S)*$J241)+$P241+IF($U241=\"радиусный\",$V241*$J241,$V241)+IF($J241>$AC241,31*1.13,0))*(1-$H$4/100)","v":{"v":0,"d":"0.00"}},{"$nulls":3},"/","/",{"$f":"SUMIF(Ref!$R:$R,'подбор радиатора TESI'!$AB:$AB,Ref!$Q:$Q)","v":0},1]
["",{"$f":"IF($Z242=\"\",IF($G242=\"\",\"\",\"RR\"&LEFT($G242,1)&$H242&IF($J242<=9,\"0\"&$J242,$J242)&$L242&\"A4\"&LEFT($O242,2)&\"N\"),VLOOKUP($Z242,Ref!$AE:$AG,3,0)&$L242)","v":""},"","",{"$f":"IF($Z242=\"\",IF($G242=\"\",\"\",$D242*$W242*$K$1),VLOOKUP($Z242,Ref!$AE:$AG,2,0)*$Q242*$K$1*(1-$H$4/100))","v":""},{"$nulls":3},{"$f":"SUMIF(pricelist!$W:$W,'подбор радиатора TESI'!$AA242,pricelist!$J:$J)","v":0},null,0,null,{"$f":"IF($L242=\"\",\"\",VLOOKUP($L242,Ref!$D:$J,7,0))","v":""},{"$f":"SUMIF(Ref!$D:$D,'подбор радиатора TESI'!$L:$L,Ref!$E:$E)","v":{"v":0,"d":"0.00"}},null,{"$f":"SUMIF(Ref!$F:$F,'подбор радиатора TESI'!$O:$O,Ref!$G:$G)","v":{"v":0,"d":"0.00"}},null,{"$f":"SUMIF(pricelist!$W:$W,'подбор радиатора TESI'!$AA:$AA,pricelist!$K:$K)*$J242","v":{"v":0,"d":"0.00"}},{"$f":"SUMIF(pricelist!$W:$W,$AA:$AA,INDIRECT($S$12&$S$14))*$J242","v":{"v":0,"d":"0.00"}},0,null,{"$f":"SUMIF(Ref!$H:$H,'подбор радиатора TESI'!$U:$U,Ref!$I:$I)","v":{"v":0,"d":"0.00"}},{"$f":"(($N242*SUMIF(pricelist!$W:$W,'подбор радиатора TESI'!$AA:$AA,pricelist!$S:$S)*$J242)+$P242+IF($U242=\"радиусный\",$V242*$J242,$V242)+IF($J242>$AC242,31*1.13,0))*(1-$H$4/100)","v":{"v":0,"d":"0.00"}},{"$nulls":3},"/","/",{"$f":"SUMIF(Ref!$R:$R,'подбор радиатора TESI'!$AB:$AB,Ref!$Q:$Q)","v":0},1]
["",{"$f":"IF($Z243=\"\",IF($G243=\"\",\"\",\"RR\"&LEFT($G243,1)&$H243&IF($J243<=9,\"0\"&$J243,$J243)&$L243&\"A4\"&LEFT($O243,2)&\"N\"),VLOOKUP($Z243,Ref!$AE:$AG,3,0)&$L243)","v":""},"","",{"$f":"IF($Z243=\"\",IF($G243=\"\",\"\",$D243*$W243*$K$1),VLOOKUP($Z243,Ref!$AE:$AG,2,0)*$Q243*$K$1*(1-$H$4/100))","v":""},{"$nulls":3},{"$f":"SUMIF(pricelist!$W:$W,'подбор радиатора TESI'!$AA243,pricelist!$J:$J)","v":0},null,0,null,{"$f":"IF($L243=\"\",\"\",VLOOKUP($L243,Ref!$D:$J,7,0))","v":""},{"$f":"SUMIF(Ref!$D:$D,'подбор радиатора TESI'!$L:$L,Ref!$E:$E)","v":{"v":0,"d":"0.00"}},null,{"$f":"SUMIF(Ref!$F:$F,'подбор радиатора TESI'!$O:$O,Ref!$G:$G)","v":{"v":0,"d":"0.00"}},null,{"$f":"SUMIF(pricelist!$W:$W,'подбор радиатора TESI'!$AA:$AA,pricelist!$K:$K)*$J243","v":{"v":0,"d":"0.00"}},{"$f":"SUMIF(pricelist!$W:$W,$AA:$AA,INDIRECT($S$12&$S$14))*$J243","v":{"v":0,"d":"0.00"}},0,null,{"$f":"SUMIF(Ref!$H:$H,'подбор радиатора TESI'!$U:$U,Ref!$I:$I)","v":{"v":0,"d":"0.00"}},{"$f":"(($N243*SUMIF(pricelist!$W:$W,'подбор радиатора TESI'!$AA:$AA,pricelist!$S:$S)*$J243)+$P243+IF($U243=\"радиусный\",$V243*$J243,$V243)+IF($J243>$AC243,31*1.13,0))*(1-$H$4/100)","v":{"v":0,"d":"0.00"}},{"$nulls":3},"/","/",{"$f":"SUMIF(Ref!$R:$R,'подбор радиатора TESI'!$AB:$AB,Ref!$Q:$Q)","v":0},1]
["",{"$f":"IF($Z244=\"\",IF($G244=\"\",\"\",\"RR\"&LEFT($G244,1)&$H244&IF($J244<=9,\"0\"&$J244,$J244)&$L244&\"A4\"&LEFT($O244,2)&\"N\"),VLOOKUP($Z244,Ref!$AE:$AG,3,0)&$L244)","v":""},"","",{"$f":"IF($Z244=\"\",IF($G244=\"\",\"\",$D244*$W244*$K$1),VLOOKUP($Z244,Ref!$AE:$AG,2,0)*$Q244*$K$1*(1-$H$4/100))","v":""},{"$nulls":3},{"$f":"SUMIF(pricelist!$W:$W,'подбор радиатора TESI'!$AA244,pricelist!$J:$J)","v":0},null,0,null,{"$f":"IF($L244=\"\",\"\",VLOOKUP($L244,Ref!$D:$J,7,0))","v":""},{"$f":"SUMIF(Ref!$D:$D,'подбор радиатора TESI'!$L:$L,Ref!$E:$E)","v":{"v":0,"d":"0.00"}},null,{"$f":"SUMIF(Ref!$F:$F,'подбор радиатора TESI'!$O:$O,Ref!$G:$G)","v":{"v":0,"d":"0.00"}},null,{"$f":"SUMIF(pricelist!$W:$W,'подбор радиатора TESI'!$AA:$AA,pricelist!$K:$K)*$J244","v":{"v":0,"d":"0.00"}},{"$f":"SUMIF(pricelist!$W:$W,$AA:$AA,INDIRECT($S$12&$S$14))*$J244","v":{"v":0,"d":"0.00"}},0,null,{"$f":"SUMIF(Ref!$H:$H,'подбор радиатора TESI'!$U:$U,Ref!$I:$I)","v":{"v":0,"d":"0.00"}},{"$f":"(($N244*SUMIF(pricelist!$W:$W,'подбор радиатора TESI'!$AA:$AA,pricelist!$S:$S)*$J244)+$P244+IF($U244=\"радиусный\",$V244*$J244,$V244)+IF($J244>$AC244,31*1.13,0))*(1-$H$4/100)","v":{"v":0,"d":"0.00"}},{"$nulls":3},"/","/",{"$f":"SUMIF(Ref!$R:$R,'подбор радиатора TESI'!$AB:$AB,Ref!$Q:$Q)","v":0},1]
["",{"$f":"IF($Z245=\"\",IF($G245=\"\",\"\",\"RR\"&LEFT($G245,1)&$H245&IF($J245<=9,\"0\"&$J245,$J245)&$L245&\"A4\"&LEFT($O245,2)&\"N\"),VLOOKUP($Z245,Ref!$AE:$AG,3,0)&$L245)","v":""},"","",{"$f":"IF($Z245=\"\",IF($G245=\"\",\"\",$D245*$W245*$K$1),VLOOKUP($Z245,Ref!$AE:$AG,2,0)*$Q245*$K$1*(1-$H$4/100))","v":""},{"$nulls":3},{"$f":"SUMIF(pricelist!$W:$W,'подбор радиатора TESI'!$AA245,pricelist!$J:$J)","v":0},null,0,null,{"$f":"IF($L245=\"\",\"\",VLOOKUP($L245,Ref!$D:$J,7,0))","v":""},{"$f":"SUMIF(Ref!$D:$D,'подбор радиатора TESI'!$L:$L,Ref!$E:$E)","v":{"v":0,"d":"0.00"}},null,{"$f":"SUMIF(Ref!$F:$F,'подбор радиатора TESI'!$O:$O,Ref!$G:$G)","v":{"v":0,"d":"0.00"}},null,{"$f":"SUMIF(pricelist!$W:$W,'подбор радиатора TESI'!$AA:$AA,pricelist!$K:$K)*$J245","v":{"v":0,"d":"0.00"}},{"$f":"SUMIF(pricelist!$W:$W,$AA:$AA,INDIRECT($S$12&$S$14))*$J245","v":{"v":0,"d":"0.00"}},0,null,{"$f":"SUMIF(Ref!$H:$H,'подбор радиатора TESI'!$U:$U,Ref!$I:$I)","v":{"v":0,"d":"0.00"}},{"$f":"(($N245*SUMIF(pricelist!$W:$W,'подбор радиатора TESI'!$AA:$AA,pricelist!$S:$S)*$J245)+$P245+IF($U245=\"радиусный\",$V245*$J245,$V245)+IF($J245>$AC245,31*1.13,0))*(1-$H$4/100)","v":{"v":0,"d":"0.00"}},{"$nulls":3},"/","/",{"$f":"SUMIF(Ref!$R:$R,'подбор радиатора TESI'!$AB:$AB,Ref!$Q:$Q)","v":0},1]
["",{"$f":"IF($Z246=\"\",IF($G246=\"\",\"\",\"RR\"&LEFT($G246,1)&$H246&IF($J246<=9,\"0\"&$J246,$J246)&$L246&\"A4\"&LEFT($O246,2)&\"N\"),VLOOKUP($Z246,Ref!$AE:$AG,3,0)&$L246)","v":""},"","",{"$f":"IF($Z246=\"\",IF($G246=\"\",\"\",$D246*$W246*$K$1),VLOOKUP($Z246,Ref!$AE:$AG,2,0)*$Q246*$K$1*(1-$H$4/100))","v":""},{"$nulls":3},{"$f":"SUMIF(pricelist!$W:$W,'подбор радиатора TESI'!$AA246,pricelist!$J:$J)","v":0},null,0,null,{"$f":"IF($L246=\"\",\"\",VLOOKUP($L246,Ref!$D:$J,7,0))","v":""},{"$f":"SUMIF(Ref!$D:$D,'подбор радиатора TESI'!$L:$L,Ref!$E:$E)","v":{"v":0,"d":"0.00"}},null,{"$f":"SUMIF(Ref!$F:$F,'подбор радиатора TESI'!$O:$O,Ref!$G:$G)","v":{"v":0,"d":"0.00"}},null,{"$f":"SUMIF(pricelist!$W:$W,'подбор радиатора TESI'!$AA:$AA,pricelist!$K:$K)*$J246","v":{"v":0,"d":"0.00"}},{"$f":"SUMIF(pricelist!$W:$W,$AA:$AA,INDIRECT($S$12&$S$14))*$J246","v":{"v":0,"d":"0.00"}},0,null,{"$f":"SUMIF(Ref!$H:$H,'подбор радиатора TESI'!$U:$U,Ref!$I:$I)","v":{"v":0,"d":"0.00"}},{"$f":"(($N246*SUMIF(pricelist!$W:$W,'подбор радиатора TESI'!$AA:$AA,pricelist!$S:$S)*$J246)+$P246+IF($U246=\"радиусный\",$V246*$J246,$V246)+IF($J246>$AC246,31*1.13,0))*(1-$H$4/100)","v":{"v":0,"d":"0.00"}},{"$nulls":3},"/","/",{"$f":"SUMIF(Ref!$R:$R,'подбор радиатора TESI'!$AB:$AB,Ref!$Q:$Q)","v":0},1]
["",{"$f":"IF($Z247=\"\",IF($G247=\"\",\"\",\"RR\"&LEFT($G247,1)&$H247&IF($J247<=9,\"0\"&$J247,$J247)&$L247&\"A4\"&LEFT($O247,2)&\"N\"),VLOOKUP($Z247,Ref!$AE:$AG,3,0)&$L247)","v":""},"","",{"$f":"IF($Z247=\"\",IF($G247=\"\",\"\",$D247*$W247*$K$1),VLOOKUP($Z247,Ref!$AE:$AG,2,0)*$Q247*$K$1*(1-$H$4/100))","v":""},{"$nulls":3},{"$f":"SUMIF(pricelist!$W:$W,'подбор радиатора TESI'!$AA247,pricelist!$J:$J)","v":0},null,0,null,{"$f":"IF($L247=\"\",\"\",VLOOKUP($L247,Ref!$D:$J,7,0))","v":""},{"$f":"SUMIF(Ref!$D:$D,'подбор радиатора TESI'!$L:$L,Ref!$E:$E)","v":{"v":0,"d":"0.00"}},null,{"$f":"SUMIF(Ref!$F:$F,'подбор радиатора TESI'!$O:$O,Ref!$G:$G)","v":{"v":0,"d":"0.00"}},null,{"$f":"SUMIF(pricelist!$W:$W,'подбор радиатора TESI'!$AA:$AA,pricelist!$K:$K)*$J247","v":{"v":0,"d":"0.00"}},{"$f":"SUMIF(pricelist!$W:$W,$AA:$AA,INDIRECT($S$12&$S$14))*$J247","v":{"v":0,"d":"0.00"}},0,null,{"$f":"SUMIF(Ref!$H:$H,'подбор радиатора TESI'!$U:$U,Ref!$I:$I)","v":{"v":0,"d":"0.00"}},{"$f":"(($N247*SUMIF(pricelist!$W:$W,'подбор радиатора TESI'!$AA:$AA,pricelist!$S:$S)*$J247)+$P247+IF($U247=\"радиусный\",$V247*$J247,$V247)+IF($J247>$AC247,31*1.13,0))*(1-$H$4/100)","v":{"v":0,"d":"0.00"}},{"$nulls":3},"/","/",{"$f":"SUMIF(Ref!$R:$R,'подбор радиатора TESI'!$AB:$AB,Ref!$Q:$Q)","v":0},1]
["",{"$f":"IF($Z248=\"\",IF($G248=\"\",\"\",\"RR\"&LEFT($G248,1)&$H248&IF($J248<=9,\"0\"&$J248,$J248)&$L248&\"A4\"&LEFT($O248,2)&\"N\"),VLOOKUP($Z248,Ref!$AE:$AG,3,0)&$L248)","v":""},"","",{"$f":"IF($Z248=\"\",IF($G248=\"\",\"\",$D248*$W248*$K$1),VLOOKUP($Z248,Ref!$AE:$AG,2,0)*$Q248*$K$1*(1-$H$4/100))","v":""},{"$nulls":3},{"$f":"SUMIF(pricelist!$W:$W,'подбор радиатора TESI'!$AA248,pricelist!$J:$J)","v":0},null,0,null,{"$f":"IF($L248=\"\",\"\",VLOOKUP($L248,Ref!$D:$J,7,0))","v":""},{"$f":"SUMIF(Ref!$D:$D,'подбор радиатора TESI'!$L:$L,Ref!$E:$E)","v":{"v":0,"d":"0.00"}},null,{"$f":"SUMIF(Ref!$F:$F,'подбор радиатора TESI'!$O:$O,Ref!$G:$G)","v":{"v":0,"d":"0.00"}},null,{"$f":"SUMIF(pricelist!$W:$W,'подбор радиатора TESI'!$AA:$AA,pricelist!$K:$K)*$J248","v":{"v":0,"d":"0.00"}},{"$f":"SUMIF(pricelist!$W:$W,$AA:$AA,INDIRECT($S$12&$S$14))*$J248","v":{"v":0,"d":"0.00"}},0,null,{"$f":"SUMIF(Ref!$H:$H,'подбор радиатора TESI'!$U:$U,Ref!$I:$I)","v":{"v":0,"d":"0.00"}},{"$f":"(($N248*SUMIF(pricelist!$W:$W,'подбор радиатора TESI'!$AA:$AA,pricelist!$S:$S)*$J248)+$P248+IF($U248=\"радиусный\",$V248*$J248,$V248)+IF($J248>$AC248,31*1.13,0))*(1-$H$4/100)","v":{"v":0,"d":"0.00"}},{"$nulls":3},"/","/",{"$f":"SUMIF(Ref!$R:$R,'подбор радиатора TESI'!$AB:$AB,Ref!$Q:$Q)","v":0},1]
["",{"$f":"IF($Z249=\"\",IF($G249=\"\",\"\",\"RR\"&LEFT($G249,1)&$H249&IF($J249<=9,\"0\"&$J249,$J249)&$L249&\"A4\"&LEFT($O249,2)&\"N\"),VLOOKUP($Z249,Ref!$AE:$AG,3,0)&$L249)","v":""},"","",{"$f":"IF($Z249=\"\",IF($G249=\"\",\"\",$D249*$W249*$K$1),VLOOKUP($Z249,Ref!$AE:$AG,2,0)*$Q249*$K$1*(1-$H$4/100))","v":""},{"$nulls":3},{"$f":"SUMIF(pricelist!$W:$W,'подбор радиатора TESI'!$AA249,pricelist!$J:$J)","v":0},null,0,null,{"$f":"IF($L249=\"\",\"\",VLOOKUP($L249,Ref!$D:$J,7,0))","v":""},{"$f":"SUMIF(Ref!$D:$D,'подбор радиатора TESI'!$L:$L,Ref!$E:$E)","v":{"v":0,"d":"0.00"}},null,{"$f":"SUMIF(Ref!$F:$F,'подбор радиатора TESI'!$O:$O,Ref!$G:$G)","v":{"v":0,"d":"0.00"}},null,{"$f":"SUMIF(pricelist!$W:$W,'подбор радиатора TESI'!$AA:$AA,pricelist!$K:$K)*$J249","v":{"v":0,"d":"0.00"}},{"$f":"SUMIF(pricelist!$W:$W,$AA:$AA,INDIRECT($S$12&$S$14))*$J249","v":{"v":0,"d":"0.00"}},0,null,{"$f":"SUMIF(Ref!$H:$H,'подбор радиатора TESI'!$U:$U,Ref!$I:$I)","v":{"v":0,"d":"0.00"}},{"$f":"(($N249*SUMIF(pricelist!$W:$W,'подбор радиатора TESI'!$AA:$AA,pricelist!$S:$S)*$J249)+$P249+IF($U249=\"радиусный\",$V249*$J249,$V249)+IF($J249>$AC249,31*1.13,0))*(1-$H$4/100)","v":{"v":0,"d":"0.00"}},{"$nulls":3},"/","/",{"$f":"SUMIF(Ref!$R:$R,'подбор радиатора TESI'!$AB:$AB,Ref!$Q:$Q)","v":0},1]
["",{"$f":"IF($Z250=\"\",IF($G250=\"\",\"\",\"RR\"&LEFT($G250,1)&$H250&IF($J250<=9,\"0\"&$J250,$J250)&$L250&\"A4\"&LEFT($O250,2)&\"N\"),VLOOKUP($Z250,Ref!$AE:$AG,3,0)&$L250)","v":""},"","",{"$f":"IF($Z250=\"\",IF($G250=\"\",\"\",$D250*$W250*$K$1),VLOOKUP($Z250,Ref!$AE:$AG,2,0)*$Q250*$K$1*(1-$H$4/100))","v":""},{"$nulls":3},{"$f":"SUMIF(pricelist!$W:$W,'подбор радиатора TESI'!$AA250,pricelist!$J:$J)","v":0},null,0,null,{"$f":"IF($L250=\"\",\"\",VLOOKUP($L250,Ref!$D:$J,7,0))","v":""},{"$f":"SUMIF(Ref!$D:$D,'подбор радиатора TESI'!$L:$L,Ref!$E:$E)","v":{"v":0,"d":"0.00"}},null,{"$f":"SUMIF(Ref!$F:$F,'подбор радиатора TESI'!$O:$O,Ref!$G:$G)","v":{"v":0,"d":"0.00"}},null,{"$f":"SUMIF(pricelist!$W:$W,'подбор радиатора TESI'!$AA:$AA,pricelist!$K:$K)*$J250","v":{"v":0,"d":"0.00"}},{"$f":"SUMIF(pricelist!$W:$W,$AA:$AA,INDIRECT($S$12&$S$14))*$J250","v":{"v":0,"d":"0.00"}},0,null,{"$f":"SUMIF(Ref!$H:$H,'подбор радиатора TESI'!$U:$U,Ref!$I:$I)","v":{"v":0,"d":"0.00"}},{"$f":"(($N250*SUMIF(pricelist!$W:$W,'подбор радиатора TESI'!$AA:$AA,pricelist!$S:$S)*$J250)+$P250+IF($U250=\"радиусный\",$V250*$J250,$V250)+IF($J250>$AC250,31*1.13,0))*(1-$H$4/100)","v":{"v":0,"d":"0.00"}},{"$nulls":3},"/","/",{"$f":"SUMIF(Ref!$R:$R,'подбор радиатора TESI'!$AB:$AB,Ref!$Q:$Q)","v":0},1]
["",{"$f":"IF($Z251=\"\",IF($G251=\"\",\"\",\"RR\"&LEFT($G251,1)&$H251&IF($J251<=9,\"0\"&$J251,$J251)&$L251&\"A4\"&LEFT($O251,2)&\"N\"),VLOOKUP($Z251,Ref!$AE:$AG,3,0)&$L251)","v":""},"","",{"$f":"IF($Z251=\"\",IF($G251=\"\",\"\",$D251*$W251*$K$1),VLOOKUP($Z251,Ref!$AE:$AG,2,0)*$Q251*$K$1*(1-$H$4/100))","v":""},{"$nulls":3},{"$f":"SUMIF(pricelist!$W:$W,'подбор радиатора TESI'!$AA251,pricelist!$J:$J)","v":0},null,0,null,{"$f":"IF($L251=\"\",\"\",VLOOKUP($L251,Ref!$D:$J,7,0))","v":""},{"$f":"SUMIF(Ref!$D:$D,'подбор радиатора TESI'!$L:$L,Ref!$E:$E)","v":{"v":0,"d":"0.00"}},null,{"$f":"SUMIF(Ref!$F:$F,'подбор радиатора TESI'!$O:$O,Ref!$G:$G)","v":{"v":0,"d":"0.00"}},null,{"$f":"SUMIF(pricelist!$W:$W,'подбор радиатора TESI'!$AA:$AA,pricelist!$K:$K)*$J251","v":{"v":0,"d":"0.00"}},{"$f":"SUMIF(pricelist!$W:$W,$AA:$AA,INDIRECT($S$12&$S$14))*$J251","v":{"v":0,"d":"0.00"}},0,null,{"$f":"SUMIF(Ref!$H:$H,'подбор радиатора TESI'!$U:$U,Ref!$I:$I)","v":{"v":0,"d":"0.00"}},{"$f":"(($N251*SUMIF(pricelist!$W:$W,'подбор радиатора TESI'!$AA:$AA,pricelist!$S:$S)*$J251)+$P251+IF($U251=\"радиусный\",$V251*$J251,$V251)+IF($J251>$AC251,31*1.13,0))*(1-$H$4/100)","v":{"v":0,"d":"0.00"}},{"$nulls":3},"/","/",{"$f":"SUMIF(Ref!$R:$R,'подбор радиатора TESI'!$AB:$AB,Ref!$Q:$Q)","v":0},1]
["",{"$f":"IF($Z252=\"\",IF($G252=\"\",\"\",\"RR\"&LEFT($G252,1)&$H252&IF($J252<=9,\"0\"&$J252,$J252)&$L252&\"A4\"&LEFT($O252,2)&\"N\"),VLOOKUP($Z252,Ref!$AE:$AG,3,0)&$L252)","v":""},"","",{"$f":"IF($Z252=\"\",IF($G252=\"\",\"\",$D252*$W252*$K$1),VLOOKUP($Z252,Ref!$AE:$AG,2,0)*$Q252*$K$1*(1-$H$4/100))","v":""},{"$nulls":3},{"$f":"SUMIF(pricelist!$W:$W,'подбор радиатора TESI'!$AA252,pricelist!$J:$J)","v":0},null,0,null,{"$f":"IF($L252=\"\",\"\",VLOOKUP($L252,Ref!$D:$J,7,0))","v":""},{"$f":"SUMIF(Ref!$D:$D,'подбор радиатора TESI'!$L:$L,Ref!$E:$E)","v":{"v":0,"d":"0.00"}},null,{"$f":"SUMIF(Ref!$F:$F,'подбор радиатора TESI'!$O:$O,Ref!$G:$G)","v":{"v":0,"d":"0.00"}},null,{"$f":"SUMIF(pricelist!$W:$W,'подбор радиатора TESI'!$AA:$AA,pricelist!$K:$K)*$J252","v":{"v":0,"d":"0.00"}},{"$f":"SUMIF(pricelist!$W:$W,$AA:$AA,INDIRECT($S$12&$S$14))*$J252","v":{"v":0,"d":"0.00"}},0,null,{"$f":"SUMIF(Ref!$H:$H,'подбор радиатора TESI'!$U:$U,Ref!$I:$I)","v":{"v":0,"d":"0.00"}},{"$f":"(($N252*SUMIF(pricelist!$W:$W,'подбор радиатора TESI'!$AA:$AA,pricelist!$S:$S)*$J252)+$P252+IF($U252=\"радиусный\",$V252*$J252,$V252)+IF($J252>$AC252,31*1.13,0))*(1-$H$4/100)","v":{"v":0,"d":"0.00"}},{"$nulls":3},"/","/",{"$f":"SUMIF(Ref!$R:$R,'подбор радиатора TESI'!$AB:$AB,Ref!$Q:$Q)","v":0},1]
["",{"$f":"IF($Z253=\"\",IF($G253=\"\",\"\",\"RR\"&LEFT($G253,1)&$H253&IF($J253<=9,\"0\"&$J253,$J253)&$L253&\"A4\"&LEFT($O253,2)&\"N\"),VLOOKUP($Z253,Ref!$AE:$AG,3,0)&$L253)","v":""},"","",{"$f":"IF($Z253=\"\",IF($G253=\"\",\"\",$D253*$W253*$K$1),VLOOKUP($Z253,Ref!$AE:$AG,2,0)*$Q253*$K$1*(1-$H$4/100))","v":""},{"$nulls":3},{"$f":"SUMIF(pricelist!$W:$W,'подбор радиатора TESI'!$AA253,pricelist!$J:$J)","v":0},null,0,null,{"$f":"IF($L253=\"\",\"\",VLOOKUP($L253,Ref!$D:$J,7,0))","v":""},{"$f":"SUMIF(Ref!$D:$D,'подбор радиатора TESI'!$L:$L,Ref!$E:$E)","v":{"v":0,"d":"0.00"}},null,{"$f":"SUMIF(Ref!$F:$F,'подбор радиатора TESI'!$O:$O,Ref!$G:$G)","v":{"v":0,"d":"0.00"}},null,{"$f":"SUMIF(pricelist!$W:$W,'подбор радиатора TESI'!$AA:$AA,pricelist!$K:$K)*$J253","v":{"v":0,"d":"0.00"}},{"$f":"SUMIF(pricelist!$W:$W,$AA:$AA,INDIRECT($S$12&$S$14))*$J253","v":{"v":0,"d":"0.00"}},0,null,{"$f":"SUMIF(Ref!$H:$H,'подбор радиатора TESI'!$U:$U,Ref!$I:$I)","v":{"v":0,"d":"0.00"}},{"$f":"(($N253*SUMIF(pricelist!$W:$W,'подбор радиатора TESI'!$AA:$AA,pricelist!$S:$S)*$J253)+$P253+IF($U253=\"радиусный\",$V253*$J253,$V253)+IF($J253>$AC253,31*1.13,0))*(1-$H$4/100)","v":{"v":0,"d":"0.00"}},{"$nulls":3},"/","/",{"$f":"SUMIF(Ref!$R:$R,'подбор радиатора TESI'!$AB:$AB,Ref!$Q:$Q)","v":0},1]
["",{"$f":"IF($Z254=\"\",IF($G254=\"\",\"\",\"RR\"&LEFT($G254,1)&$H254&IF($J254<=9,\"0\"&$J254,$J254)&$L254&\"A4\"&LEFT($O254,2)&\"N\"),VLOOKUP($Z254,Ref!$AE:$AG,3,0)&$L254)","v":""},"","",{"$f":"IF($Z254=\"\",IF($G254=\"\",\"\",$D254*$W254*$K$1),VLOOKUP($Z254,Ref!$AE:$AG,2,0)*$Q254*$K$1*(1-$H$4/100))","v":""},{"$nulls":3},{"$f":"SUMIF(pricelist!$W:$W,'подбор радиатора TESI'!$AA254,pricelist!$J:$J)","v":0},null,0,null,{"$f":"IF($L254=\"\",\"\",VLOOKUP($L254,Ref!$D:$J,7,0))","v":""},{"$f":"SUMIF(Ref!$D:$D,'подбор радиатора TESI'!$L:$L,Ref!$E:$E)","v":{"v":0,"d":"0.00"}},null,{"$f":"SUMIF(Ref!$F:$F,'подбор радиатора TESI'!$O:$O,Ref!$G:$G)","v":{"v":0,"d":"0.00"}},null,{"$f":"SUMIF(pricelist!$W:$W,'подбор радиатора TESI'!$AA:$AA,pricelist!$K:$K)*$J254","v":{"v":0,"d":"0.00"}},{"$f":"SUMIF(pricelist!$W:$W,$AA:$AA,INDIRECT($S$12&$S$14))*$J254","v":{"v":0,"d":"0.00"}},0,null,{"$f":"SUMIF(Ref!$H:$H,'подбор радиатора TESI'!$U:$U,Ref!$I:$I)","v":{"v":0,"d":"0.00"}},{"$f":"(($N254*SUMIF(pricelist!$W:$W,'подбор радиатора TESI'!$AA:$AA,pricelist!$S:$S)*$J254)+$P254+IF($U254=\"радиусный\",$V254*$J254,$V254)+IF($J254>$AC254,31*1.13,0))*(1-$H$4/100)","v":{"v":0,"d":"0.00"}},{"$nulls":3},"/","/",{"$f":"SUMIF(Ref!$R:$R,'подбор радиатора TESI'!$AB:$AB,Ref!$Q:$Q)","v":0},1]
["",{"$f":"IF($Z255=\"\",IF($G255=\"\",\"\",\"RR\"&LEFT($G255,1)&$H255&IF($J255<=9,\"0\"&$J255,$J255)&$L255&\"A4\"&LEFT($O255,2)&\"N\"),VLOOKUP($Z255,Ref!$AE:$AG,3,0)&$L255)","v":""},"","",{"$f":"IF($Z255=\"\",IF($G255=\"\",\"\",$D255*$W255*$K$1),VLOOKUP($Z255,Ref!$AE:$AG,2,0)*$Q255*$K$1*(1-$H$4/100))","v":""},{"$nulls":3},{"$f":"SUMIF(pricelist!$W:$W,'подбор радиатора TESI'!$AA255,pricelist!$J:$J)","v":0},null,0,null,{"$f":"IF($L255=\"\",\"\",VLOOKUP($L255,Ref!$D:$J,7,0))","v":""},{"$f":"SUMIF(Ref!$D:$D,'подбор радиатора TESI'!$L:$L,Ref!$E:$E)","v":{"v":0,"d":"0.00"}},null,{"$f":"SUMIF(Ref!$F:$F,'подбор радиатора TESI'!$O:$O,Ref!$G:$G)","v":{"v":0,"d":"0.00"}},null,{"$f":"SUMIF(pricelist!$W:$W,'подбор радиатора TESI'!$AA:$AA,pricelist!$K:$K)*$J255","v":{"v":0,"d":"0.00"}},{"$f":"SUMIF(pricelist!$W:$W,$AA:$AA,INDIRECT($S$12&$S$14))*$J255","v":{"v":0,"d":"0.00"}},0,null,{"$f":"SUMIF(Ref!$H:$H,'подбор радиатора TESI'!$U:$U,Ref!$I:$I)","v":{"v":0,"d":"0.00"}},{"$f":"(($N255*SUMIF(pricelist!$W:$W,'подбор радиатора TESI'!$AA:$AA,pricelist!$S:$S)*$J255)+$P255+IF($U255=\"радиусный\",$V255*$J255,$V255)+IF($J255>$AC255,31*1.13,0))*(1-$H$4/100)","v":{"v":0,"d":"0.00"}},{"$nulls":3},"/","/",{"$f":"SUMIF(Ref!$R:$R,'подбор радиатора TESI'!$AB:$AB,Ref!$Q:$Q)","v":0},1]
["",{"$f":"IF($Z256=\"\",IF($G256=\"\",\"\",\"RR\"&LEFT($G256,1)&$H256&IF($J256<=9,\"0\"&$J256,$J256)&$L256&\"A4\"&LEFT($O256,2)&\"N\"),VLOOKUP($Z256,Ref!$AE:$AG,3,0)&$L256)","v":""},"","",{"$f":"IF($Z256=\"\",IF($G256=\"\",\"\",$D256*$W256*$K$1),VLOOKUP($Z256,Ref!$AE:$AG,2,0)*$Q256*$K$1*(1-$H$4/100))","v":""},{"$nulls":3},{"$f":"SUMIF(pricelist!$W:$W,'подбор радиатора TESI'!$AA256,pricelist!$J:$J)","v":0},null,0,null,{"$f":"IF($L256=\"\",\"\",VLOOKUP($L256,Ref!$D:$J,7,0))","v":""},{"$f":"SUMIF(Ref!$D:$D,'подбор радиатора TESI'!$L:$L,Ref!$E:$E)","v":{"v":0,"d":"0.00"}},null,{"$f":"SUMIF(Ref!$F:$F,'подбор радиатора TESI'!$O:$O,Ref!$G:$G)","v":{"v":0,"d":"0.00"}},null,{"$f":"SUMIF(pricelist!$W:$W,'подбор радиатора TESI'!$AA:$AA,pricelist!$K:$K)*$J256","v":{"v":0,"d":"0.00"}},{"$f":"SUMIF(pricelist!$W:$W,$AA:$AA,INDIRECT($S$12&$S$14))*$J256","v":{"v":0,"d":"0.00"}},0,null,{"$f":"SUMIF(Ref!$H:$H,'подбор радиатора TESI'!$U:$U,Ref!$I:$I)","v":{"v":0,"d":"0.00"}},{"$f":"(($N256*SUMIF(pricelist!$W:$W,'подбор радиатора TESI'!$AA:$AA,pricelist!$S:$S)*$J256)+$P256+IF($U256=\"радиусный\",$V256*$J256,$V256)+IF($J256>$AC256,31*1.13,0))*(1-$H$4/100)","v":{"v":0,"d":"0.00"}},{"$nulls":3},"/","/",{"$f":"SUMIF(Ref!$R:$R,'подбор радиатора TESI'!$AB:$AB,Ref!$Q:$Q)","v":0},1]
["",{"$f":"IF($Z257=\"\",IF($G257=\"\",\"\",\"RR\"&LEFT($G257,1)&$H257&IF($J257<=9,\"0\"&$J257,$J257)&$L257&\"A4\"&LEFT($O257,2)&\"N\"),VLOOKUP($Z257,Ref!$AE:$AG,3,0)&$L257)","v":""},"","",{"$f":"IF($Z257=\"\",IF($G257=\"\",\"\",$D257*$W257*$K$1),VLOOKUP($Z257,Ref!$AE:$AG,2,0)*$Q257*$K$1*(1-$H$4/100))","v":""},{"$nulls":3},{"$f":"SUMIF(pricelist!$W:$W,'подбор радиатора TESI'!$AA257,pricelist!$J:$J)","v":0},null,0,null,{"$f":"IF($L257=\"\",\"\",VLOOKUP($L257,Ref!$D:$J,7,0))","v":""},{"$f":"SUMIF(Ref!$D:$D,'подбор радиатора TESI'!$L:$L,Ref!$E:$E)","v":{"v":0,"d":"0.00"}},null,{"$f":"SUMIF(Ref!$F:$F,'подбор радиатора TESI'!$O:$O,Ref!$G:$G)","v":{"v":0,"d":"0.00"}},null,{"$f":"SUMIF(pricelist!$W:$W,'подбор радиатора TESI'!$AA:$AA,pricelist!$K:$K)*$J257","v":{"v":0,"d":"0.00"}},{"$f":"SUMIF(pricelist!$W:$W,$AA:$AA,INDIRECT($S$12&$S$14))*$J257","v":{"v":0,"d":"0.00"}},0,null,{"$f":"SUMIF(Ref!$H:$H,'подбор радиатора TESI'!$U:$U,Ref!$I:$I)","v":{"v":0,"d":"0.00"}},{"$f":"(($N257*SUMIF(pricelist!$W:$W,'подбор радиатора TESI'!$AA:$AA,pricelist!$S:$S)*$J257)+$P257+IF($U257=\"радиусный\",$V257*$J257,$V257)+IF($J257>$AC257,31*1.13,0))*(1-$H$4/100)","v":{"v":0,"d":"0.00"}},{"$nulls":3},"/","/",{"$f":"SUMIF(Ref!$R:$R,'подбор радиатора TESI'!$AB:$AB,Ref!$Q:$Q)","v":0},1]
["",{"$f":"IF($Z258=\"\",IF($G258=\"\",\"\",\"RR\"&LEFT($G258,1)&$H258&IF($J258<=9,\"0\"&$J258,$J258)&$L258&\"A4\"&LEFT($O258,2)&\"N\"),VLOOKUP($Z258,Ref!$AE:$AG,3,0)&$L258)","v":""},"","",{"$f":"IF($Z258=\"\",IF($G258=\"\",\"\",$D258*$W258*$K$1),VLOOKUP($Z258,Ref!$AE:$AG,2,0)*$Q258*$K$1*(1-$H$4/100))","v":""},{"$nulls":3},{"$f":"SUMIF(pricelist!$W:$W,'подбор радиатора TESI'!$AA258,pricelist!$J:$J)","v":0},null,0,null,{"$f":"IF($L258=\"\",\"\",VLOOKUP($L258,Ref!$D:$J,7,0))","v":""},{"$f":"SUMIF(Ref!$D:$D,'подбор радиатора TESI'!$L:$L,Ref!$E:$E)","v":{"v":0,"d":"0.00"}},null,{"$f":"SUMIF(Ref!$F:$F,'подбор радиатора TESI'!$O:$O,Ref!$G:$G)","v":{"v":0,"d":"0.00"}},null,{"$f":"SUMIF(pricelist!$W:$W,'подбор радиатора TESI'!$AA:$AA,pricelist!$K:$K)*$J258","v":{"v":0,"d":"0.00"}},{"$f":"SUMIF(pricelist!$W:$W,$AA:$AA,INDIRECT($S$12&$S$14))*$J258","v":{"v":0,"d":"0.00"}},0,null,{"$f":"SUMIF(Ref!$H:$H,'подбор радиатора TESI'!$U:$U,Ref!$I:$I)","v":{"v":0,"d":"0.00"}},{"$f":"(($N258*SUMIF(pricelist!$W:$W,'подбор радиатора TESI'!$AA:$AA,pricelist!$S:$S)*$J258)+$P258+IF($U258=\"радиусный\",$V258*$J258,$V258)+IF($J258>$AC258,31*1.13,0))*(1-$H$4/100)","v":{"v":0,"d":"0.00"}},{"$nulls":3},"/","/",{"$f":"SUMIF(Ref!$R:$R,'подбор радиатора TESI'!$AB:$AB,Ref!$Q:$Q)","v":0},1]
["",{"$f":"IF($Z259=\"\",IF($G259=\"\",\"\",\"RR\"&LEFT($G259,1)&$H259&IF($J259<=9,\"0\"&$J259,$J259)&$L259&\"A4\"&LEFT($O259,2)&\"N\"),VLOOKUP($Z259,Ref!$AE:$AG,3,0)&$L259)","v":""},"","",{"$f":"IF($Z259=\"\",IF($G259=\"\",\"\",$D259*$W259*$K$1),VLOOKUP($Z259,Ref!$AE:$AG,2,0)*$Q259*$K$1*(1-$H$4/100))","v":""},{"$nulls":3},{"$f":"SUMIF(pricelist!$W:$W,'подбор радиатора TESI'!$AA259,pricelist!$J:$J)","v":0},null,0,null,{"$f":"IF($L259=\"\",\"\",VLOOKUP($L259,Ref!$D:$J,7,0))","v":""},{"$f":"SUMIF(Ref!$D:$D,'подбор радиатора TESI'!$L:$L,Ref!$E:$E)","v":{"v":0,"d":"0.00"}},null,{"$f":"SUMIF(Ref!$F:$F,'подбор радиатора TESI'!$O:$O,Ref!$G:$G)","v":{"v":0,"d":"0.00"}},null,{"$f":"SUMIF(pricelist!$W:$W,'подбор радиатора TESI'!$AA:$AA,pricelist!$K:$K)*$J259","v":{"v":0,"d":"0.00"}},{"$f":"SUMIF(pricelist!$W:$W,$AA:$AA,INDIRECT($S$12&$S$14))*$J259","v":{"v":0,"d":"0.00"}},0,null,{"$f":"SUMIF(Ref!$H:$H,'подбор радиатора TESI'!$U:$U,Ref!$I:$I)","v":{"v":0,"d":"0.00"}},{"$f":"(($N259*SUMIF(pricelist!$W:$W,'подбор радиатора TESI'!$AA:$AA,pricelist!$S:$S)*$J259)+$P259+IF($U259=\"радиусный\",$V259*$J259,$V259)+IF($J259>$AC259,31*1.13,0))*(1-$H$4/100)","v":{"v":0,"d":"0.00"}},{"$nulls":3},"/","/",{"$f":"SUMIF(Ref!$R:$R,'подбор радиатора TESI'!$AB:$AB,Ref!$Q:$Q)","v":0},1]
["",{"$f":"IF($Z260=\"\",IF($G260=\"\",\"\",\"RR\"&LEFT($G260,1)&$H260&IF($J260<=9,\"0\"&$J260,$J260)&$L260&\"A4\"&LEFT($O260,2)&\"N\"),VLOOKUP($Z260,Ref!$AE:$AG,3,0)&$L260)","v":""},"","",{"$f":"IF($Z260=\"\",IF($G260=\"\",\"\",$D260*$W260*$K$1),VLOOKUP($Z260,Ref!$AE:$AG,2,0)*$Q260*$K$1*(1-$H$4/100))","v":""},{"$nulls":3},{"$f":"SUMIF(pricelist!$W:$W,'подбор радиатора TESI'!$AA260,pricelist!$J:$J)","v":0},null,0,null,{"$f":"IF($L260=\"\",\"\",VLOOKUP($L260,Ref!$D:$J,7,0))","v":""},{"$f":"SUMIF(Ref!$D:$D,'подбор радиатора TESI'!$L:$L,Ref!$E:$E)","v":{"v":0,"d":"0.00"}},null,{"$f":"SUMIF(Ref!$F:$F,'подбор радиатора TESI'!$O:$O,Ref!$G:$G)","v":{"v":0,"d":"0.00"}},null,{"$f":"SUMIF(pricelist!$W:$W,'подбор радиатора TESI'!$AA:$AA,pricelist!$K:$K)*$J260","v":{"v":0,"d":"0.00"}},{"$f":"SUMIF(pricelist!$W:$W,$AA:$AA,INDIRECT($S$12&$S$14))*$J260","v":{"v":0,"d":"0.00"}},0,null,{"$f":"SUMIF(Ref!$H:$H,'подбор радиатора TESI'!$U:$U,Ref!$I:$I)","v":{"v":0,"d":"0.00"}},{"$f":"(($N260*SUMIF(pricelist!$W:$W,'подбор радиатора TESI'!$AA:$AA,pricelist!$S:$S)*$J260)+$P260+IF($U260=\"радиусный\",$V260*$J260,$V260)+IF($J260>$AC260,31*1.13,0))*(1-$H$4/100)","v":{"v":0,"d":"0.00"}},{"$nulls":3},"/","/",{"$f":"SUMIF(Ref!$R:$R,'подбор радиатора TESI'!$AB:$AB,Ref!$Q:$Q)","v":0},1]
["",{"$f":"IF($Z261=\"\",IF($G261=\"\",\"\",\"RR\"&LEFT($G261,1)&$H261&IF($J261<=9,\"0\"&$J261,$J261)&$L261&\"A4\"&LEFT($O261,2)&\"N\"),VLOOKUP($Z261,Ref!$AE:$AG,3,0)&$L261)","v":""},"","",{"$f":"IF($Z261=\"\",IF($G261=\"\",\"\",$D261*$W261*$K$1),VLOOKUP($Z261,Ref!$AE:$AG,2,0)*$Q261*$K$1*(1-$H$4/100))","v":""},{"$nulls":3},{"$f":"SUMIF(pricelist!$W:$W,'подбор радиатора TESI'!$AA261,pricelist!$J:$J)","v":0},null,0,null,{"$f":"IF($L261=\"\",\"\",VLOOKUP($L261,Ref!$D:$J,7,0))","v":""},{"$f":"SUMIF(Ref!$D:$D,'подбор радиатора TESI'!$L:$L,Ref!$E:$E)","v":{"v":0,"d":"0.00"}},null,{"$f":"SUMIF(Ref!$F:$F,'подбор радиатора TESI'!$O:$O,Ref!$G:$G)","v":{"v":0,"d":"0.00"}},null,{"$f":"SUMIF(pricelist!$W:$W,'подбор радиатора TESI'!$AA:$AA,pricelist!$K:$K)*$J261","v":{"v":0,"d":"0.00"}},{"$f":"SUMIF(pricelist!$W:$W,$AA:$AA,INDIRECT($S$12&$S$14))*$J261","v":{"v":0,"d":"0.00"}},0,null,{"$f":"SUMIF(Ref!$H:$H,'подбор радиатора TESI'!$U:$U,Ref!$I:$I)","v":{"v":0,"d":"0.00"}},{"$f":"(($N261*SUMIF(pricelist!$W:$W,'подбор радиатора TESI'!$AA:$AA,pricelist!$S:$S)*$J261)+$P261+IF($U261=\"радиусный\",$V261*$J261,$V261)+IF($J261>$AC261,31*1.13,0))*(1-$H$4/100)","v":{"v":0,"d":"0.00"}},{"$nulls":3},"/","/",{"$f":"SUMIF(Ref!$R:$R,'подбор радиатора TESI'!$AB:$AB,Ref!$Q:$Q)","v":0},1]
["",{"$f":"IF($Z262=\"\",IF($G262=\"\",\"\",\"RR\"&LEFT($G262,1)&$H262&IF($J262<=9,\"0\"&$J262,$J262)&$L262&\"A4\"&LEFT($O262,2)&\"N\"),VLOOKUP($Z262,Ref!$AE:$AG,3,0)&$L262)","v":""},"","",{"$f":"IF($Z262=\"\",IF($G262=\"\",\"\",$D262*$W262*$K$1),VLOOKUP($Z262,Ref!$AE:$AG,2,0)*$Q262*$K$1*(1-$H$4/100))","v":""},{"$nulls":3},{"$f":"SUMIF(pricelist!$W:$W,'подбор радиатора TESI'!$AA262,pricelist!$J:$J)","v":0},null,0,null,{"$f":"IF($L262=\"\",\"\",VLOOKUP($L262,Ref!$D:$J,7,0))","v":""},{"$f":"SUMIF(Ref!$D:$D,'подбор радиатора TESI'!$L:$L,Ref!$E:$E)","v":{"v":0,"d":"0.00"}},null,{"$f":"SUMIF(Ref!$F:$F,'подбор радиатора TESI'!$O:$O,Ref!$G:$G)","v":{"v":0,"d":"0.00"}},null,{"$f":"SUMIF(pricelist!$W:$W,'подбор радиатора TESI'!$AA:$AA,pricelist!$K:$K)*$J262","v":{"v":0,"d":"0.00"}},{"$f":"SUMIF(pricelist!$W:$W,$AA:$AA,INDIRECT($S$12&$S$14))*$J262","v":{"v":0,"d":"0.00"}},0,null,{"$f":"SUMIF(Ref!$H:$H,'подбор радиатора TESI'!$U:$U,Ref!$I:$I)","v":{"v":0,"d":"0.00"}},{"$f":"(($N262*SUMIF(pricelist!$W:$W,'подбор радиатора TESI'!$AA:$AA,pricelist!$S:$S)*$J262)+$P262+IF($U262=\"радиусный\",$V262*$J262,$V262)+IF($J262>$AC262,31*1.13,0))*(1-$H$4/100)","v":{"v":0,"d":"0.00"}},{"$nulls":3},"/","/",{"$f":"SUMIF(Ref!$R:$R,'подбор радиатора TESI'!$AB:$AB,Ref!$Q:$Q)","v":0},1]
["",{"$f":"IF($Z263=\"\",IF($G263=\"\",\"\",\"RR\"&LEFT($G263,1)&$H263&IF($J263<=9,\"0\"&$J263,$J263)&$L263&\"A4\"&LEFT($O263,2)&\"N\"),VLOOKUP($Z263,Ref!$AE:$AG,3,0)&$L263)","v":""},"","",{"$f":"IF($Z263=\"\",IF($G263=\"\",\"\",$D263*$W263*$K$1),VLOOKUP($Z263,Ref!$AE:$AG,2,0)*$Q263*$K$1*(1-$H$4/100))","v":""},{"$nulls":3},{"$f":"SUMIF(pricelist!$W:$W,'подбор радиатора TESI'!$AA263,pricelist!$J:$J)","v":0},null,0,null,{"$f":"IF($L263=\"\",\"\",VLOOKUP($L263,Ref!$D:$J,7,0))","v":""},{"$f":"SUMIF(Ref!$D:$D,'подбор радиатора TESI'!$L:$L,Ref!$E:$E)","v":{"v":0,"d":"0.00"}},null,{"$f":"SUMIF(Ref!$F:$F,'подбор радиатора TESI'!$O:$O,Ref!$G:$G)","v":{"v":0,"d":"0.00"}},null,{"$f":"SUMIF(pricelist!$W:$W,'подбор радиатора TESI'!$AA:$AA,pricelist!$K:$K)*$J263","v":{"v":0,"d":"0.00"}},{"$f":"SUMIF(pricelist!$W:$W,$AA:$AA,INDIRECT($S$12&$S$14))*$J263","v":{"v":0,"d":"0.00"}},0,null,{"$f":"SUMIF(Ref!$H:$H,'подбор радиатора TESI'!$U:$U,Ref!$I:$I)","v":{"v":0,"d":"0.00"}},{"$f":"(($N263*SUMIF(pricelist!$W:$W,'подбор радиатора TESI'!$AA:$AA,pricelist!$S:$S)*$J263)+$P263+IF($U263=\"радиусный\",$V263*$J263,$V263)+IF($J263>$AC263,31*1.13,0))*(1-$H$4/100)","v":{"v":0,"d":"0.00"}},{"$nulls":3},{"$f":"LEFT($G263,1)&\"/\"&$H263","v":"/"},"/",{"$f":"SUMIF(Ref!$R:$R,'подбор радиатора TESI'!$AB:$AB,Ref!$Q:$Q)","v":0},1]
["",{"$f":"IF($Z264=\"\",IF($G264=\"\",\"\",\"RR\"&LEFT($G264,1)&$H264&IF($J264<=9,\"0\"&$J264,$J264)&$L264&\"A4\"&LEFT($O264,2)&\"N\"),VLOOKUP($Z264,Ref!$AE:$AG,3,0)&$L264)","v":""},"","",{"$f":"IF($Z264=\"\",IF($G264=\"\",\"\",$D264*$W264*$K$1),VLOOKUP($Z264,Ref!$AE:$AG,2,0)*$Q264*$K$1*(1-$H$4/100))","v":""},{"$nulls":3},{"$f":"SUMIF(pricelist!$W:$W,'подбор радиатора TESI'!$AA264,pricelist!$J:$J)","v":0},null,0,null,{"$f":"IF($L264=\"\",\"\",VLOOKUP($L264,Ref!$D:$J,7,0))","v":""},{"$f":"SUMIF(Ref!$D:$D,'подбор радиатора TESI'!$L:$L,Ref!$E:$E)","v":{"v":0,"d":"0.00"}},null,{"$f":"SUMIF(Ref!$F:$F,'подбор радиатора TESI'!$O:$O,Ref!$G:$G)","v":{"v":0,"d":"0.00"}},null,{"$f":"SUMIF(pricelist!$W:$W,'подбор радиатора TESI'!$AA:$AA,pricelist!$K:$K)*$J264","v":{"v":0,"d":"0.00"}},{"$f":"SUMIF(pricelist!$W:$W,$AA:$AA,INDIRECT($S$12&$S$14))*$J264","v":{"v":0,"d":"0.00"}},0,null,{"$f":"SUMIF(Ref!$H:$H,'подбор радиатора TESI'!$U:$U,Ref!$I:$I)","v":{"v":0,"d":"0.00"}},{"$f":"(($N264*SUMIF(pricelist!$W:$W,'подбор радиатора TESI'!$AA:$AA,pricelist!$S:$S)*$J264)+$P264+IF($U264=\"радиусный\",$V264*$J264,$V264)+IF($J264>$AC264,31*1.13,0))*(1-$H$4/100)","v":{"v":0,"d":"0.00"}},{"$nulls":3},"/","/",{"$f":"SUMIF(Ref!$R:$R,'подбор радиатора TESI'!$AB:$AB,Ref!$Q:$Q)","v":0},1]
["",{"$f":"IF($Z265=\"\",IF($G265=\"\",\"\",\"RR\"&LEFT($G265,1)&$H265&IF($J265<=9,\"0\"&$J265,$J265)&$L265&\"A4\"&LEFT($O265,2)&\"N\"),VLOOKUP($Z265,Ref!$AE:$AG,3,0)&$L265)","v":""},"","",{"$f":"IF($Z265=\"\",IF($G265=\"\",\"\",$D265*$W265*$K$1),VLOOKUP($Z265,Ref!$AE:$AG,2,0)*$Q265*$K$1*(1-$H$4/100))","v":""},{"$nulls":3},{"$f":"SUMIF(pricelist!$W:$W,'подбор радиатора TESI'!$AA265,pricelist!$J:$J)","v":0},null,0,null,{"$f":"IF($L265=\"\",\"\",VLOOKUP($L265,Ref!$D:$J,7,0))","v":""},{"$f":"SUMIF(Ref!$D:$D,'подбор радиатора TESI'!$L:$L,Ref!$E:$E)","v":{"v":0,"d":"0.00"}},null,{"$f":"SUMIF(Ref!$F:$F,'подбор радиатора TESI'!$O:$O,Ref!$G:$G)","v":{"v":0,"d":"0.00"}},null,{"$f":"SUMIF(pricelist!$W:$W,'подбор радиатора TESI'!$AA:$AA,pricelist!$K:$K)*$J265","v":{"v":0,"d":"0.00"}},{"$f":"SUMIF(pricelist!$W:$W,$AA:$AA,INDIRECT($S$12&$S$14))*$J265","v":{"v":0,"d":"0.00"}},0,null,{"$f":"SUMIF(Ref!$H:$H,'подбор радиатора TESI'!$U:$U,Ref!$I:$I)","v":{"v":0,"d":"0.00"}},{"$f":"(($N265*SUMIF(pricelist!$W:$W,'подбор радиатора TESI'!$AA:$AA,pricelist!$S:$S)*$J265)+$P265+IF($U265=\"радиусный\",$V265*$J265,$V265)+IF($J265>$AC265,31*1.13,0))*(1-$H$4/100)","v":{"v":0,"d":"0.00"}},{"$nulls":3},"/","/",{"$f":"SUMIF(Ref!$R:$R,'подбор радиатора TESI'!$AB:$AB,Ref!$Q:$Q)","v":0},1]
["",{"$f":"IF($Z266=\"\",IF($G266=\"\",\"\",\"RR\"&LEFT($G266,1)&$H266&IF($J266<=9,\"0\"&$J266,$J266)&$L266&\"A4\"&LEFT($O266,2)&\"N\"),VLOOKUP($Z266,Ref!$AE:$AG,3,0)&$L266)","v":""},"","",{"$f":"IF($Z266=\"\",IF($G266=\"\",\"\",$D266*$W266*$K$1),VLOOKUP($Z266,Ref!$AE:$AG,2,0)*$Q266*$K$1*(1-$H$4/100))","v":""},{"$nulls":3},{"$f":"SUMIF(pricelist!$W:$W,'подбор радиатора TESI'!$AA266,pricelist!$J:$J)","v":0},null,0,null,{"$f":"IF($L266=\"\",\"\",VLOOKUP($L266,Ref!$D:$J,7,0))","v":""},{"$f":"SUMIF(Ref!$D:$D,'подбор радиатора TESI'!$L:$L,Ref!$E:$E)","v":{"v":0,"d":"0.00"}},null,{"$f":"SUMIF(Ref!$F:$F,'подбор радиатора TESI'!$O:$O,Ref!$G:$G)","v":{"v":0,"d":"0.00"}},null,{"$f":"SUMIF(pricelist!$W:$W,'подбор радиатора TESI'!$AA:$AA,pricelist!$K:$K)*$J266","v":{"v":0,"d":"0.00"}},{"$f":"SUMIF(pricelist!$W:$W,$AA:$AA,INDIRECT($S$12&$S$14))*$J266","v":{"v":0,"d":"0.00"}},0,null,{"$f":"SUMIF(Ref!$H:$H,'подбор радиатора TESI'!$U:$U,Ref!$I:$I)","v":{"v":0,"d":"0.00"}},{"$f":"(($N266*SUMIF(pricelist!$W:$W,'подбор радиатора TESI'!$AA:$AA,pricelist!$S:$S)*$J266)+$P266+IF($U266=\"радиусный\",$V266*$J266,$V266)+IF($J266>$AC266,31*1.13,0))*(1-$H$4/100)","v":{"v":0,"d":"0.00"}},{"$nulls":3},"/","/",{"$f":"SUMIF(Ref!$R:$R,'подбор радиатора TESI'!$AB:$AB,Ref!$Q:$Q)","v":0},1]
["",{"$f":"IF($Z267=\"\",IF($G267=\"\",\"\",\"RR\"&LEFT($G267,1)&$H267&IF($J267<=9,\"0\"&$J267,$J267)&$L267&\"A4\"&LEFT($O267,2)&\"N\"),VLOOKUP($Z267,Ref!$AE:$AG,3,0)&$L267)","v":""},"","",{"$f":"IF($Z267=\"\",IF($G267=\"\",\"\",$D267*$W267*$K$1),VLOOKUP($Z267,Ref!$AE:$AG,2,0)*$Q267*$K$1*(1-$H$4/100))","v":""},{"$nulls":3},{"$f":"SUMIF(pricelist!$W:$W,'подбор радиатора TESI'!$AA267,pricelist!$J:$J)","v":0},null,0,null,{"$f":"IF($L267=\"\",\"\",VLOOKUP($L267,Ref!$D:$J,7,0))","v":""},{"$f":"SUMIF(Ref!$D:$D,'подбор радиатора TESI'!$L:$L,Ref!$E:$E)","v":{"v":0,"d":"0.00"}},null,{"$f":"SUMIF(Ref!$F:$F,'подбор радиатора TESI'!$O:$O,Ref!$G:$G)","v":{"v":0,"d":"0.00"}},null,{"$f":"SUMIF(pricelist!$W:$W,'подбор радиатора TESI'!$AA:$AA,pricelist!$K:$K)*$J267","v":{"v":0,"d":"0.00"}},{"$f":"SUMIF(pricelist!$W:$W,$AA:$AA,INDIRECT($S$12&$S$14))*$J267","v":{"v":0,"d":"0.00"}},0,null,{"$f":"SUMIF(Ref!$H:$H,'подбор радиатора TESI'!$U:$U,Ref!$I:$I)","v":{"v":0,"d":"0.00"}},{"$f":"(($N267*SUMIF(pricelist!$W:$W,'подбор радиатора TESI'!$AA:$AA,pricelist!$S:$S)*$J267)+$P267+IF($U267=\"радиусный\",$V267*$J267,$V267)+IF($J267>$AC267,31*1.13,0))*(1-$H$4/100)","v":{"v":0,"d":"0.00"}},{"$nulls":3},"/","/",{"$f":"SUMIF(Ref!$R:$R,'подбор радиатора TESI'!$AB:$AB,Ref!$Q:$Q)","v":0},1]
["",{"$f":"IF($Z268=\"\",IF($G268=\"\",\"\",\"RR\"&LEFT($G268,1)&$H268&IF($J268<=9,\"0\"&$J268,$J268)&$L268&\"A4\"&LEFT($O268,2)&\"N\"),VLOOKUP($Z268,Ref!$AE:$AG,3,0)&$L268)","v":""},"","",{"$f":"IF($Z268=\"\",IF($G268=\"\",\"\",$D268*$W268*$K$1),VLOOKUP($Z268,Ref!$AE:$AG,2,0)*$Q268*$K$1*(1-$H$4/100))","v":""},{"$nulls":3},{"$f":"SUMIF(pricelist!$W:$W,'подбор радиатора TESI'!$AA268,pricelist!$J:$J)","v":0},null,0,null,{"$f":"IF($L268=\"\",\"\",VLOOKUP($L268,Ref!$D:$J,7,0))","v":""},{"$f":"SUMIF(Ref!$D:$D,'подбор радиатора TESI'!$L:$L,Ref!$E:$E)","v":{"v":0,"d":"0.00"}},null,{"$f":"SUMIF(Ref!$F:$F,'подбор радиатора TESI'!$O:$O,Ref!$G:$G)","v":{"v":0,"d":"0.00"}},null,{"$f":"SUMIF(pricelist!$W:$W,'подбор радиатора TESI'!$AA:$AA,pricelist!$K:$K)*$J268","v":{"v":0,"d":"0.00"}},{"$f":"SUMIF(pricelist!$W:$W,$AA:$AA,INDIRECT($S$12&$S$14))*$J268","v":{"v":0,"d":"0.00"}},0,null,{"$f":"SUMIF(Ref!$H:$H,'подбор радиатора TESI'!$U:$U,Ref!$I:$I)","v":{"v":0,"d":"0.00"}},{"$f":"(($N268*SUMIF(pricelist!$W:$W,'подбор радиатора TESI'!$AA:$AA,pricelist!$S:$S)*$J268)+$P268+IF($U268=\"радиусный\",$V268*$J268,$V268)+IF($J268>$AC268,31*1.13,0))*(1-$H$4/100)","v":{"v":0,"d":"0.00"}},{"$nulls":3},"/","/",{"$f":"SUMIF(Ref!$R:$R,'подбор радиатора TESI'!$AB:$AB,Ref!$Q:$Q)","v":0},1]
["",{"$f":"IF($Z269=\"\",IF($G269=\"\",\"\",\"RR\"&LEFT($G269,1)&$H269&IF($J269<=9,\"0\"&$J269,$J269)&$L269&\"A4\"&LEFT($O269,2)&\"N\"),VLOOKUP($Z269,Ref!$AE:$AG,3,0)&$L269)","v":""},"","",{"$f":"IF($Z269=\"\",IF($G269=\"\",\"\",$D269*$W269*$K$1),VLOOKUP($Z269,Ref!$AE:$AG,2,0)*$Q269*$K$1*(1-$H$4/100))","v":""},{"$nulls":3},{"$f":"SUMIF(pricelist!$W:$W,'подбор радиатора TESI'!$AA269,pricelist!$J:$J)","v":0},null,0,null,{"$f":"IF($L269=\"\",\"\",VLOOKUP($L269,Ref!$D:$J,7,0))","v":""},{"$f":"SUMIF(Ref!$D:$D,'подбор радиатора TESI'!$L:$L,Ref!$E:$E)","v":{"v":0,"d":"0.00"}},null,{"$f":"SUMIF(Ref!$F:$F,'подбор радиатора TESI'!$O:$O,Ref!$G:$G)","v":{"v":0,"d":"0.00"}},null,{"$f":"SUMIF(pricelist!$W:$W,'подбор радиатора TESI'!$AA:$AA,pricelist!$K:$K)*$J269","v":{"v":0,"d":"0.00"}},{"$f":"SUMIF(pricelist!$W:$W,$AA:$AA,INDIRECT($S$12&$S$14))*$J269","v":{"v":0,"d":"0.00"}},0,null,{"$f":"SUMIF(Ref!$H:$H,'подбор радиатора TESI'!$U:$U,Ref!$I:$I)","v":{"v":0,"d":"0.00"}},{"$f":"(($N269*SUMIF(pricelist!$W:$W,'подбор радиатора TESI'!$AA:$AA,pricelist!$S:$S)*$J269)+$P269+IF($U269=\"радиусный\",$V269*$J269,$V269)+IF($J269>$AC269,31*1.13,0))*(1-$H$4/100)","v":{"v":0,"d":"0.00"}},{"$nulls":3},"/","/",{"$f":"SUMIF(Ref!$R:$R,'подбор радиатора TESI'!$AB:$AB,Ref!$Q:$Q)","v":0},1]
["",{"$f":"IF($Z270=\"\",IF($G270=\"\",\"\",\"RR\"&LEFT($G270,1)&$H270&IF($J270<=9,\"0\"&$J270,$J270)&$L270&\"A4\"&LEFT($O270,2)&\"N\"),VLOOKUP($Z270,Ref!$AE:$AG,3,0)&$L270)","v":""},"","",{"$f":"IF($Z270=\"\",IF($G270=\"\",\"\",$D270*$W270*$K$1),VLOOKUP($Z270,Ref!$AE:$AG,2,0)*$Q270*$K$1*(1-$H$4/100))","v":""},{"$nulls":3},{"$f":"SUMIF(pricelist!$W:$W,'подбор радиатора TESI'!$AA270,pricelist!$J:$J)","v":0},null,0,null,{"$f":"IF($L270=\"\",\"\",VLOOKUP($L270,Ref!$D:$J,7,0))","v":""},{"$f":"SUMIF(Ref!$D:$D,'подбор радиатора TESI'!$L:$L,Ref!$E:$E)","v":{"v":0,"d":"0.00"}},null,{"$f":"SUMIF(Ref!$F:$F,'подбор радиатора TESI'!$O:$O,Ref!$G:$G)","v":{"v":0,"d":"0.00"}},null,{"$f":"SUMIF(pricelist!$W:$W,'подбор радиатора TESI'!$AA:$AA,pricelist!$K:$K)*$J270","v":{"v":0,"d":"0.00"}},{"$f":"SUMIF(pricelist!$W:$W,$AA:$AA,INDIRECT($S$12&$S$14))*$J270","v":{"v":0,"d":"0.00"}},0,null,{"$f":"SUMIF(Ref!$H:$H,'подбор радиатора TESI'!$U:$U,Ref!$I:$I)","v":{"v":0,"d":"0.00"}},{"$f":"(($N270*SUMIF(pricelist!$W:$W,'подбор радиатора TESI'!$AA:$AA,pricelist!$S:$S)*$J270)+$P270+IF($U270=\"радиусный\",$V270*$J270,$V270)+IF($J270>$AC270,31*1.13,0))*(1-$H$4/100)","v":{"v":0,"d":"0.00"}},{"$nulls":3},"/","/",{"$f":"SUMIF(Ref!$R:$R,'подбор радиатора TESI'!$AB:$AB,Ref!$Q:$Q)","v":0},1]
["",{"$f":"IF($Z271=\"\",IF($G271=\"\",\"\",\"RR\"&LEFT($G271,1)&$H271&IF($J271<=9,\"0\"&$J271,$J271)&$L271&\"A4\"&LEFT($O271,2)&\"N\"),VLOOKUP($Z271,Ref!$AE:$AG,3,0)&$L271)","v":""},"","",{"$f":"IF($Z271=\"\",IF($G271=\"\",\"\",$D271*$W271*$K$1),VLOOKUP($Z271,Ref!$AE:$AG,2,0)*$Q271*$K$1*(1-$H$4/100))","v":""},{"$nulls":3},{"$f":"SUMIF(pricelist!$W:$W,'подбор радиатора TESI'!$AA271,pricelist!$J:$J)","v":0},null,0,null,{"$f":"IF($L271=\"\",\"\",VLOOKUP($L271,Ref!$D:$J,7,0))","v":""},{"$f":"SUMIF(Ref!$D:$D,'подбор радиатора TESI'!$L:$L,Ref!$E:$E)","v":{"v":0,"d":"0.00"}},null,{"$f":"SUMIF(Ref!$F:$F,'подбор радиатора TESI'!$O:$O,Ref!$G:$G)","v":{"v":0,"d":"0.00"}},null,{"$f":"SUMIF(pricelist!$W:$W,'подбор радиатора TESI'!$AA:$AA,pricelist!$K:$K)*$J271","v":{"v":0,"d":"0.00"}},{"$f":"SUMIF(pricelist!$W:$W,$AA:$AA,INDIRECT($S$12&$S$14))*$J271","v":{"v":0,"d":"0.00"}},0,null,{"$f":"SUMIF(Ref!$H:$H,'подбор радиатора TESI'!$U:$U,Ref!$I:$I)","v":{"v":0,"d":"0.00"}},{"$f":"(($N271*SUMIF(pricelist!$W:$W,'подбор радиатора TESI'!$AA:$AA,pricelist!$S:$S)*$J271)+$P271+IF($U271=\"радиусный\",$V271*$J271,$V271)+IF($J271>$AC271,31*1.13,0))*(1-$H$4/100)","v":{"v":0,"d":"0.00"}},{"$nulls":3},"/","/",{"$f":"SUMIF(Ref!$R:$R,'подбор радиатора TESI'!$AB:$AB,Ref!$Q:$Q)","v":0},1]
["",{"$f":"IF($Z272=\"\",IF($G272=\"\",\"\",\"RR\"&LEFT($G272,1)&$H272&IF($J272<=9,\"0\"&$J272,$J272)&$L272&\"A4\"&LEFT($O272,2)&\"N\"),VLOOKUP($Z272,Ref!$AE:$AG,3,0)&$L272)","v":""},"","",{"$f":"IF($Z272=\"\",IF($G272=\"\",\"\",$D272*$W272*$K$1),VLOOKUP($Z272,Ref!$AE:$AG,2,0)*$Q272*$K$1*(1-$H$4/100))","v":""},{"$nulls":3},{"$f":"SUMIF(pricelist!$W:$W,'подбор радиатора TESI'!$AA272,pricelist!$J:$J)","v":0},null,0,null,{"$f":"IF($L272=\"\",\"\",VLOOKUP($L272,Ref!$D:$J,7,0))","v":""},{"$f":"SUMIF(Ref!$D:$D,'подбор радиатора TESI'!$L:$L,Ref!$E:$E)","v":{"v":0,"d":"0.00"}},null,{"$f":"SUMIF(Ref!$F:$F,'подбор радиатора TESI'!$O:$O,Ref!$G:$G)","v":{"v":0,"d":"0.00"}},null,{"$f":"SUMIF(pricelist!$W:$W,'подбор радиатора TESI'!$AA:$AA,pricelist!$K:$K)*$J272","v":{"v":0,"d":"0.00"}},{"$f":"SUMIF(pricelist!$W:$W,$AA:$AA,INDIRECT($S$12&$S$14))*$J272","v":{"v":0,"d":"0.00"}},0,null,{"$f":"SUMIF(Ref!$H:$H,'подбор радиатора TESI'!$U:$U,Ref!$I:$I)","v":{"v":0,"d":"0.00"}},{"$f":"(($N272*SUMIF(pricelist!$W:$W,'подбор радиатора TESI'!$AA:$AA,pricelist!$S:$S)*$J272)+$P272+IF($U272=\"радиусный\",$V272*$J272,$V272)+IF($J272>$AC272,31*1.13,0))*(1-$H$4/100)","v":{"v":0,"d":"0.00"}},{"$nulls":3},"/","/",{"$f":"SUMIF(Ref!$R:$R,'подбор радиатора TESI'!$AB:$AB,Ref!$Q:$Q)","v":0},1]
["",{"$f":"IF($Z273=\"\",IF($G273=\"\",\"\",\"RR\"&LEFT($G273,1)&$H273&IF($J273<=9,\"0\"&$J273,$J273)&$L273&\"A4\"&LEFT($O273,2)&\"N\"),VLOOKUP($Z273,Ref!$AE:$AG,3,0)&$L273)","v":""},"","",{"$f":"IF($Z273=\"\",IF($G273=\"\",\"\",$D273*$W273*$K$1),VLOOKUP($Z273,Ref!$AE:$AG,2,0)*$Q273*$K$1*(1-$H$4/100))","v":""},{"$nulls":3},{"$f":"SUMIF(pricelist!$W:$W,'подбор радиатора TESI'!$AA273,pricelist!$J:$J)","v":0},null,0,null,{"$f":"IF($L273=\"\",\"\",VLOOKUP($L273,Ref!$D:$J,7,0))","v":""},{"$f":"SUMIF(Ref!$D:$D,'подбор радиатора TESI'!$L:$L,Ref!$E:$E)","v":{"v":0,"d":"0.00"}},null,{"$f":"SUMIF(Ref!$F:$F,'подбор радиатора TESI'!$O:$O,Ref!$G:$G)","v":{"v":0,"d":"0.00"}},null,{"$f":"SUMIF(pricelist!$W:$W,'подбор радиатора TESI'!$AA:$AA,pricelist!$K:$K)*$J273","v":{"v":0,"d":"0.00"}},{"$f":"SUMIF(pricelist!$W:$W,$AA:$AA,INDIRECT($S$12&$S$14))*$J273","v":{"v":0,"d":"0.00"}},0,null,{"$f":"SUMIF(Ref!$H:$H,'подбор радиатора TESI'!$U:$U,Ref!$I:$I)","v":{"v":0,"d":"0.00"}},{"$f":"(($N273*SUMIF(pricelist!$W:$W,'подбор радиатора TESI'!$AA:$AA,pricelist!$S:$S)*$J273)+$P273+IF($U273=\"радиусный\",$V273*$J273,$V273)+IF($J273>$AC273,31*1.13,0))*(1-$H$4/100)","v":{"v":0,"d":"0.00"}},{"$nulls":3},"/","/",{"$f":"SUMIF(Ref!$R:$R,'подбор радиатора TESI'!$AB:$AB,Ref!$Q:$Q)","v":0},1]
["",{"$f":"IF($Z274=\"\",IF($G274=\"\",\"\",\"RR\"&LEFT($G274,1)&$H274&IF($J274<=9,\"0\"&$J274,$J274)&$L274&\"A4\"&LEFT($O274,2)&\"N\"),VLOOKUP($Z274,Ref!$AE:$AG,3,0)&$L274)","v":""},"",{"$f":"IF($Z274=\"\",IF($G274=\"\",\"\",$Q274),$Q274)","v":""},{"$f":"IF($Z274=\"\",IF($G274=\"\",\"\",$D274*$W274*$K$1),VLOOKUP($Z274,Ref!$AE:$AG,2,0)*$Q274*$K$1*(1-$H$4/100))","v":""},{"$nulls":3},{"$f":"SUMIF(pricelist!$W:$W,'подбор радиатора TESI'!$AA274,pricelist!$J:$J)","v":0},null,0,null,{"$f":"IF($L274=\"\",\"\",VLOOKUP($L274,Ref!$D:$J,7,0))","v":""},{"$f":"SUMIF(Ref!$D:$D,'подбор радиатора TESI'!$L:$L,Ref!$E:$E)","v":{"v":0,"d":"0.00"}},null,{"$f":"SUMIF(Ref!$F:$F,'подбор радиатора TESI'!$O:$O,Ref!$G:$G)","v":{"v":0,"d":"0.00"}},null,{"$f":"SUMIF(pricelist!$W:$W,'подбор радиатора TESI'!$AA:$AA,pricelist!$K:$K)*$J274","v":{"v":0,"d":"0.00"}},{"$f":"SUMIF(pricelist!$W:$W,$AA:$AA,INDIRECT($S$12&$S$14))*$J274","v":{"v":0,"d":"0.00"}},{"$f":"$J274*$Q274","v":0},null,{"$f":"SUMIF(Ref!$H:$H,'подбор радиатора TESI'!$U:$U,Ref!$I:$I)","v":{"v":0,"d":"0.00"}},{"$f":"(($N274*SUMIF(pricelist!$W:$W,'подбор радиатора TESI'!$AA:$AA,pricelist!$S:$S)*$J274)+$P274+IF($U274=\"радиусный\",$V274*$J274,$V274)+IF($J274>$AC274,31*1.13,0))*(1-$H$4/100)","v":{"v":0,"d":"0.00"}},{"$nulls":3},"/","/",{"$f":"SUMIF(Ref!$R:$R,'подбор радиатора TESI'!$AB:$AB,Ref!$Q:$Q)","v":0},1]
[{"$f":"IF($C275=\"\",\"\",A274+1)","v":""},{"$f":"IF($Z275=\"\",IF($G275=\"\",\"\",\"RR\"&LEFT($G275,1)&$H275&IF($J275<=9,\"0\"&$J275,$J275)&$L275&\"A4\"&LEFT($O275,2)&\"N\"),VLOOKUP($Z275,Ref!$AE:$AG,3,0)&$L275)","v":""},{"$f":"IF($Z275=\"\",IF($G275=\"\",\"\",\"RR\"&LEFT($G275,1)&\" \"&$H275&\", секций \"&$J275&\", цвет \"&$L275&\", подкл. \"&LEFT($O275,3)&\", \"&$U275),$Z275&\" \"&$L275)","v":""},"",{"$f":"IF($Z275=\"\",IF($G275=\"\",\"\",$D275*$W275*$K$1),VLOOKUP($Z275,Ref!$AE:$AG,2,0)*$Q275*$K$1*(1-$H$4/100))","v":""},{"$nulls":3},{"$f":"SUMIF(pricelist!$W:$W,'подбор радиатора TESI'!$AA275,pricelist!$J:$J)","v":0},null,{"$f":"$J275*45","v":0},null,{"$f":"IF($L275=\"\",\"\",VLOOKUP($L275,Ref!$D:$J,7,0))","v":""},{"$f":"SUMIF(Ref!$D:$D,'подбор радиатора TESI'!$L:$L,Ref!$E:$E)","v":{"v":0,"d":"0.00"}},null,{"$f":"SUMIF(Ref!$F:$F,'подбор радиатора TESI'!$O:$O,Ref!$G:$G)","v":{"v":0,"d":"0.00"}},null,{"$f":"SUMIF(pricelist!$W:$W,'подбор радиатора TESI'!$AA:$AA,pricelist!$K:$K)*$J275","v":{"v":0,"d":"0.00"}},{"$f":"SUMIF(pricelist!$W:$W,$AA:$AA,INDIRECT($S$12&$S$14))*$J275","v":{"v":0,"d":"0.00"}},0,null,{"$f":"SUMIF(Ref!$H:$H,'подбор радиатора TESI'!$U:$U,Ref!$I:$I)","v":{"v":0,"d":"0.00"}},{"$f":"(($N275*SUMIF(pricelist!$W:$W,'подбор радиатора TESI'!$AA:$AA,pricelist!$S:$S)*$J275)+$P275+IF($U275=\"радиусный\",$V275*$J275,$V275)+IF($J275>$AC275,31*1.13,0))*(1-$H$4/100)","v":{"v":0,"d":"0.00"}},{"$nulls":3},"/","/",{"$f":"SUMIF(Ref!$R:$R,'подбор радиатора TESI'!$AB:$AB,Ref!$Q:$Q)","v":0},{"$f":"IF($Z275=\"\",1,0)","v":1}]
["",{"$f":"IF($Z276=\"\",IF($G276=\"\",\"\",\"RR\"&LEFT($G276,1)&$H276&IF($J276<=9,\"0\"&$J276,$J276)&$L276&\"A4\"&LEFT($O276,2)&\"N\"),VLOOKUP($Z276,Ref!$AE:$AG,3,0)&$L276)","v":""},"","",{"$f":"IF($Z276=\"\",IF($G276=\"\",\"\",$D276*$W276*$K$1),VLOOKUP($Z276,Ref!$AE:$AG,2,0)*$Q276*$K$1*(1-$H$4/100))","v":""},{"$nulls":3},{"$f":"SUMIF(pricelist!$W:$W,'подбор радиатора TESI'!$AA276,pricelist!$J:$J)","v":0},null,0,null,{"$f":"IF($L276=\"\",\"\",VLOOKUP($L276,Ref!$D:$J,7,0))","v":""},{"$f":"SUMIF(Ref!$D:$D,'подбор радиатора TESI'!$L:$L,Ref!$E:$E)","v":{"v":0,"d":"0.00"}},null,{"$f":"SUMIF(Ref!$F:$F,'подбор радиатора TESI'!$O:$O,Ref!$G:$G)","v":{"v":0,"d":"0.00"}},null,{"$f":"SUMIF(pricelist!$W:$W,'подбор радиатора TESI'!$AA:$AA,pricelist!$K:$K)*$J276","v":{"v":0,"d":"0.00"}},{"$f":"SUMIF(pricelist!$W:$W,$AA:$AA,INDIRECT($S$12&$S$14))*$J276","v":{"v":0,"d":"0.00"}},0,null,{"$f":"SUMIF(Ref!$H:$H,'подбор радиатора TESI'!$U:$U,Ref!$I:$I)","v":{"v":0,"d":"0.00"}},{"$f":"(($N276*SUMIF(pricelist!$W:$W,'подбор радиатора TESI'!$AA:$AA,pricelist!$S:$S)*$J276)+$P276+IF($U276=\"радиусный\",$V276*$J276,$V276)+IF($J276>$AC276,31*1.13,0))*(1-$H$4/100)","v":{"v":0,"d":"0.00"}},{"$nulls":3},"/","/",{"$f":"SUMIF(Ref!$R:$R,'подбор радиатора TESI'!$AB:$AB,Ref!$Q:$Q)","v":0},1]
["",{"$f":"IF($Z277=\"\",IF($G277=\"\",\"\",\"RR\"&LEFT($G277,1)&$H277&IF($J277<=9,\"0\"&$J277,$J277)&$L277&\"A4\"&LEFT($O277,2)&\"N\"),VLOOKUP($Z277,Ref!$AE:$AG,3,0)&$L277)","v":""},"","",{"$f":"IF($Z277=\"\",IF($G277=\"\",\"\",$D277*$W277*$K$1),VLOOKUP($Z277,Ref!$AE:$AG,2,0)*$Q277*$K$1*(1-$H$4/100))","v":""},{"$nulls":3},{"$f":"SUMIF(pricelist!$W:$W,'подбор радиатора TESI'!$AA277,pricelist!$J:$J)","v":0},null,0,null,{"$f":"IF($L277=\"\",\"\",VLOOKUP($L277,Ref!$D:$J,7,0))","v":""},{"$f":"SUMIF(Ref!$D:$D,'подбор радиатора TESI'!$L:$L,Ref!$E:$E)","v":{"v":0,"d":"0.00"}},null,{"$f":"SUMIF(Ref!$F:$F,'подбор радиатора TESI'!$O:$O,Ref!$G:$G)","v":{"v":0,"d":"0.00"}},null,{"$f":"SUMIF(pricelist!$W:$W,'подбор радиатора TESI'!$AA:$AA,pricelist!$K:$K)*$J277","v":{"v":0,"d":"0.00"}},{"$f":"SUMIF(pricelist!$W:$W,$AA:$AA,INDIRECT($S$12&$S$14))*$J277","v":{"v":0,"d":"0.00"}},0,null,{"$f":"SUMIF(Ref!$H:$H,'подбор радиатора TESI'!$U:$U,Ref!$I:$I)","v":{"v":0,"d":"0.00"}},{"$f":"(($N277*SUMIF(pricelist!$W:$W,'подбор радиатора TESI'!$AA:$AA,pricelist!$S:$S)*$J277)+$P277+IF($U277=\"радиусный\",$V277*$J277,$V277)+IF($J277>$AC277,31*1.13,0))*(1-$H$4/100)","v":{"v":0,"d":"0.00"}},{"$nulls":3},"/","/",{"$f":"SUMIF(Ref!$R:$R,'подбор радиатора TESI'!$AB:$AB,Ref!$Q:$Q)","v":0},1]
["",{"$f":"IF($Z278=\"\",IF($G278=\"\",\"\",\"RR\"&LEFT($G278,1)&$H278&IF($J278<=9,\"0\"&$J278,$J278)&$L278&\"A4\"&LEFT($O278,2)&\"N\"),VLOOKUP($Z278,Ref!$AE:$AG,3,0)&$L278)","v":""},"","",{"$f":"IF($Z278=\"\",IF($G278=\"\",\"\",$D278*$W278*$K$1),VLOOKUP($Z278,Ref!$AE:$AG,2,0)*$Q278*$K$1*(1-$H$4/100))","v":""},{"$nulls":3},{"$f":"SUMIF(pricelist!$W:$W,'подбор радиатора TESI'!$AA278,pricelist!$J:$J)","v":0},null,0,null,{"$f":"IF($L278=\"\",\"\",VLOOKUP($L278,Ref!$D:$J,7,0))","v":""},{"$f":"SUMIF(Ref!$D:$D,'подбор радиатора TESI'!$L:$L,Ref!$E:$E)","v":{"v":0,"d":"0.00"}},null,{"$f":"SUMIF(Ref!$F:$F,'подбор радиатора TESI'!$O:$O,Ref!$G:$G)","v":{"v":0,"d":"0.00"}},null,{"$f":"SUMIF(pricelist!$W:$W,'подбор радиатора TESI'!$AA:$AA,pricelist!$K:$K)*$J278","v":{"v":0,"d":"0.00"}},{"$f":"SUMIF(pricelist!$W:$W,$AA:$AA,INDIRECT($S$12&$S$14))*$J278","v":{"v":0,"d":"0.00"}},0,null,{"$f":"SUMIF(Ref!$H:$H,'подбор радиатора TESI'!$U:$U,Ref!$I:$I)","v":{"v":0,"d":"0.00"}},{"$f":"(($N278*SUMIF(pricelist!$W:$W,'подбор радиатора TESI'!$AA:$AA,pricelist!$S:$S)*$J278)+$P278+IF($U278=\"радиусный\",$V278*$J278,$V278)+IF($J278>$AC278,31*1.13,0))*(1-$H$4/100)","v":{"v":0,"d":"0.00"}},{"$nulls":3},"/","/",{"$f":"SUMIF(Ref!$R:$R,'подбор радиатора TESI'!$AB:$AB,Ref!$Q:$Q)","v":0},1]
["",{"$f":"IF($Z279=\"\",IF($G279=\"\",\"\",\"RR\"&LEFT($G279,1)&$H279&IF($J279<=9,\"0\"&$J279,$J279)&$L279&\"A4\"&LEFT($O279,2)&\"N\"),VLOOKUP($Z279,Ref!$AE:$AG,3,0)&$L279)","v":""},"","",{"$f":"IF($Z279=\"\",IF($G279=\"\",\"\",$D279*$W279*$K$1),VLOOKUP($Z279,Ref!$AE:$AG,2,0)*$Q279*$K$1*(1-$H$4/100))","v":""},{"$nulls":3},{"$f":"SUMIF(pricelist!$W:$W,'подбор радиатора TESI'!$AA279,pricelist!$J:$J)","v":0},null,0,null,{"$f":"IF($L279=\"\",\"\",VLOOKUP($L279,Ref!$D:$J,7,0))","v":""},{"$f":"SUMIF(Ref!$D:$D,'подбор радиатора TESI'!$L:$L,Ref!$E:$E)","v":{"v":0,"d":"0.00"}},null,{"$f":"SUMIF(Ref!$F:$F,'подбор радиатора TESI'!$O:$O,Ref!$G:$G)","v":{"v":0,"d":"0.00"}},null,{"$f":"SUMIF(pricelist!$W:$W,'подбор радиатора TESI'!$AA:$AA,pricelist!$K:$K)*$J279","v":{"v":0,"d":"0.00"}},{"$f":"SUMIF(pricelist!$W:$W,$AA:$AA,INDIRECT($S$12&$S$14))*$J279","v":{"v":0,"d":"0.00"}},0,null,{"$f":"SUMIF(Ref!$H:$H,'подбор радиатора TESI'!$U:$U,Ref!$I:$I)","v":{"v":0,"d":"0.00"}},{"$f":"(($N279*SUMIF(pricelist!$W:$W,'подбор радиатора TESI'!$AA:$AA,pricelist!$S:$S)*$J279)+$P279+IF($U279=\"радиусный\",$V279*$J279,$V279)+IF($J279>$AC279,31*1.13,0))*(1-$H$4/100)","v":{"v":0,"d":"0.00"}},{"$nulls":3},"/","/",{"$f":"SUMIF(Ref!$R:$R,'подбор радиатора TESI'!$AB:$AB,Ref!$Q:$Q)","v":0},1]
["",{"$f":"IF($Z280=\"\",IF($G280=\"\",\"\",\"RR\"&LEFT($G280,1)&$H280&IF($J280<=9,\"0\"&$J280,$J280)&$L280&\"A4\"&LEFT($O280,2)&\"N\"),VLOOKUP($Z280,Ref!$AE:$AG,3,0)&$L280)","v":""},"","",{"$f":"IF($Z280=\"\",IF($G280=\"\",\"\",$D280*$W280*$K$1),VLOOKUP($Z280,Ref!$AE:$AG,2,0)*$Q280*$K$1*(1-$H$4/100))","v":""},{"$nulls":3},{"$f":"SUMIF(pricelist!$W:$W,'подбор радиатора TESI'!$AA280,pricelist!$J:$J)","v":0},null,0,null,{"$f":"IF($L280=\"\",\"\",VLOOKUP($L280,Ref!$D:$J,7,0))","v":""},{"$f":"SUMIF(Ref!$D:$D,'подбор радиатора TESI'!$L:$L,Ref!$E:$E)","v":{"v":0,"d":"0.00"}},null,{"$f":"SUMIF(Ref!$F:$F,'подбор радиатора TESI'!$O:$O,Ref!$G:$G)","v":{"v":0,"d":"0.00"}},null,{"$f":"SUMIF(pricelist!$W:$W,'подбор радиатора TESI'!$AA:$AA,pricelist!$K:$K)*$J280","v":{"v":0,"d":"0.00"}},{"$f":"SUMIF(pricelist!$W:$W,$AA:$AA,INDIRECT($S$12&$S$14))*$J280","v":{"v":0,"d":"0.00"}},0,null,{"$f":"SUMIF(Ref!$H:$H,'подбор радиатора TESI'!$U:$U,Ref!$I:$I)","v":{"v":0,"d":"0.00"}},{"$f":"(($N280*SUMIF(pricelist!$W:$W,'подбор радиатора TESI'!$AA:$AA,pricelist!$S:$S)*$J280)+$P280+IF($U280=\"радиусный\",$V280*$J280,$V280)+IF($J280>$AC280,31*1.13,0))*(1-$H$4/100)","v":{"v":0,"d":"0.00"}},{"$nulls":3},"/","/",{"$f":"SUMIF(Ref!$R:$R,'подбор радиатора TESI'!$AB:$AB,Ref!$Q:$Q)","v":0},1]
["",{"$f":"IF($Z281=\"\",IF($G281=\"\",\"\",\"RR\"&LEFT($G281,1)&$H281&IF($J281<=9,\"0\"&$J281,$J281)&$L281&\"A4\"&LEFT($O281,2)&\"N\"),VLOOKUP($Z281,Ref!$AE:$AG,3,0)&$L281)","v":""},"","",{"$f":"IF($Z281=\"\",IF($G281=\"\",\"\",$D281*$W281*$K$1),VLOOKUP($Z281,Ref!$AE:$AG,2,0)*$Q281*$K$1*(1-$H$4/100))","v":""},{"$nulls":3},{"$f":"SUMIF(pricelist!$W:$W,'подбор радиатора TESI'!$AA281,pricelist!$J:$J)","v":0},null,0,null,{"$f":"IF($L281=\"\",\"\",VLOOKUP($L281,Ref!$D:$J,7,0))","v":""},{"$f":"SUMIF(Ref!$D:$D,'подбор радиатора TESI'!$L:$L,Ref!$E:$E)","v":{"v":0,"d":"0.00"}},null,{"$f":"SUMIF(Ref!$F:$F,'подбор радиатора TESI'!$O:$O,Ref!$G:$G)","v":{"v":0,"d":"0.00"}},null,{"$f":"SUMIF(pricelist!$W:$W,'подбор радиатора TESI'!$AA:$AA,pricelist!$K:$K)*$J281","v":{"v":0,"d":"0.00"}},{"$f":"SUMIF(pricelist!$W:$W,$AA:$AA,INDIRECT($S$12&$S$14))*$J281","v":{"v":0,"d":"0.00"}},0,null,{"$f":"SUMIF(Ref!$H:$H,'подбор радиатора TESI'!$U:$U,Ref!$I:$I)","v":{"v":0,"d":"0.00"}},{"$f":"(($N281*SUMIF(pricelist!$W:$W,'подбор радиатора TESI'!$AA:$AA,pricelist!$S:$S)*$J281)+$P281+IF($U281=\"радиусный\",$V281*$J281,$V281)+IF($J281>$AC281,31*1.13,0))*(1-$H$4/100)","v":{"v":0,"d":"0.00"}},{"$nulls":3},"/","/",{"$f":"SUMIF(Ref!$R:$R,'подбор радиатора TESI'!$AB:$AB,Ref!$Q:$Q)","v":0},1]
["",{"$f":"IF($Z282=\"\",IF($G282=\"\",\"\",\"RR\"&LEFT($G282,1)&$H282&IF($J282<=9,\"0\"&$J282,$J282)&$L282&\"A4\"&LEFT($O282,2)&\"N\"),VLOOKUP($Z282,Ref!$AE:$AG,3,0)&$L282)","v":""},"","",{"$f":"IF($Z282=\"\",IF($G282=\"\",\"\",$D282*$W282*$K$1),VLOOKUP($Z282,Ref!$AE:$AG,2,0)*$Q282*$K$1*(1-$H$4/100))","v":""},{"$nulls":3},{"$f":"SUMIF(pricelist!$W:$W,'подбор радиатора TESI'!$AA282,pricelist!$J:$J)","v":0},null,0,null,{"$f":"IF($L282=\"\",\"\",VLOOKUP($L282,Ref!$D:$J,7,0))","v":""},{"$f":"SUMIF(Ref!$D:$D,'подбор радиатора TESI'!$L:$L,Ref!$E:$E)","v":{"v":0,"d":"0.00"}},null,{"$f":"SUMIF(Ref!$F:$F,'подбор радиатора TESI'!$O:$O,Ref!$G:$G)","v":{"v":0,"d":"0.00"}},null,{"$f":"SUMIF(pricelist!$W:$W,'подбор радиатора TESI'!$AA:$AA,pricelist!$K:$K)*$J282","v":{"v":0,"d":"0.00"}},{"$f":"SUMIF(pricelist!$W:$W,$AA:$AA,INDIRECT($S$12&$S$14))*$J282","v":{"v":0,"d":"0.00"}},0,null,{"$f":"SUMIF(Ref!$H:$H,'подбор радиатора TESI'!$U:$U,Ref!$I:$I)","v":{"v":0,"d":"0.00"}},{"$f":"(($N282*SUMIF(pricelist!$W:$W,'подбор радиатора TESI'!$AA:$AA,pricelist!$S:$S)*$J282)+$P282+IF($U282=\"радиусный\",$V282*$J282,$V282)+IF($J282>$AC282,31*1.13,0))*(1-$H$4/100)","v":{"v":0,"d":"0.00"}},{"$nulls":3},"/","/",{"$f":"SUMIF(Ref!$R:$R,'подбор радиатора TESI'!$AB:$AB,Ref!$Q:$Q)","v":0},1]
["",{"$f":"IF($Z283=\"\",IF($G283=\"\",\"\",\"RR\"&LEFT($G283,1)&$H283&IF($J283<=9,\"0\"&$J283,$J283)&$L283&\"A4\"&LEFT($O283,2)&\"N\"),VLOOKUP($Z283,Ref!$AE:$AG,3,0)&$L283)","v":""},"","",{"$f":"IF($Z283=\"\",IF($G283=\"\",\"\",$D283*$W283*$K$1),VLOOKUP($Z283,Ref!$AE:$AG,2,0)*$Q283*$K$1*(1-$H$4/100))","v":""},{"$nulls":3},{"$f":"SUMIF(pricelist!$W:$W,'подбор радиатора TESI'!$AA283,pricelist!$J:$J)","v":0},null,0,null,{"$f":"IF($L283=\"\",\"\",VLOOKUP($L283,Ref!$D:$J,7,0))","v":""},{"$f":"SUMIF(Ref!$D:$D,'подбор радиатора TESI'!$L:$L,Ref!$E:$E)","v":{"v":0,"d":"0.00"}},null,{"$f":"SUMIF(Ref!$F:$F,'подбор радиатора TESI'!$O:$O,Ref!$G:$G)","v":{"v":0,"d":"0.00"}},null,{"$f":"SUMIF(pricelist!$W:$W,'подбор радиатора TESI'!$AA:$AA,pricelist!$K:$K)*$J283","v":{"v":0,"d":"0.00"}},{"$f":"SUMIF(pricelist!$W:$W,$AA:$AA,INDIRECT($S$12&$S$14))*$J283","v":{"v":0,"d":"0.00"}},0,null,{"$f":"SUMIF(Ref!$H:$H,'подбор радиатора TESI'!$U:$U,Ref!$I:$I)","v":{"v":0,"d":"0.00"}},{"$f":"(($N283*SUMIF(pricelist!$W:$W,'подбор радиатора TESI'!$AA:$AA,pricelist!$S:$S)*$J283)+$P283+IF($U283=\"радиусный\",$V283*$J283,$V283)+IF($J283>$AC283,31*1.13,0))*(1-$H$4/100)","v":{"v":0,"d":"0.00"}},{"$nulls":3},"/","/",{"$f":"SUMIF(Ref!$R:$R,'подбор радиатора TESI'!$AB:$AB,Ref!$Q:$Q)","v":0},1]
["",{"$f":"IF($Z284=\"\",IF($G284=\"\",\"\",\"RR\"&LEFT($G284,1)&$H284&IF($J284<=9,\"0\"&$J284,$J284)&$L284&\"A4\"&LEFT($O284,2)&\"N\"),VLOOKUP($Z284,Ref!$AE:$AG,3,0)&$L284)","v":""},"","",{"$f":"IF($Z284=\"\",IF($G284=\"\",\"\",$D284*$W284*$K$1),VLOOKUP($Z284,Ref!$AE:$AG,2,0)*$Q284*$K$1*(1-$H$4/100))","v":""},{"$nulls":3},{"$f":"SUMIF(pricelist!$W:$W,'подбор радиатора TESI'!$AA284,pricelist!$J:$J)","v":0},null,0,null,{"$f":"IF($L284=\"\",\"\",VLOOKUP($L284,Ref!$D:$J,7,0))","v":""},{"$f":"SUMIF(Ref!$D:$D,'подбор радиатора TESI'!$L:$L,Ref!$E:$E)","v":{"v":0,"d":"0.00"}},null,{"$f":"SUMIF(Ref!$F:$F,'подбор радиатора TESI'!$O:$O,Ref!$G:$G)","v":{"v":0,"d":"0.00"}},null,{"$f":"SUMIF(pricelist!$W:$W,'подбор радиатора TESI'!$AA:$AA,pricelist!$K:$K)*$J284","v":{"v":0,"d":"0.00"}},{"$f":"SUMIF(pricelist!$W:$W,$AA:$AA,INDIRECT($S$12&$S$14))*$J284","v":{"v":0,"d":"0.00"}},0,null,{"$f":"SUMIF(Ref!$H:$H,'подбор радиатора TESI'!$U:$U,Ref!$I:$I)","v":{"v":0,"d":"0.00"}},{"$f":"(($N284*SUMIF(pricelist!$W:$W,'подбор радиатора TESI'!$AA:$AA,pricelist!$S:$S)*$J284)+$P284+IF($U284=\"радиусный\",$V284*$J284,$V284)+IF($J284>$AC284,31*1.13,0))*(1-$H$4/100)","v":{"v":0,"d":"0.00"}},{"$nulls":3},"/","/",{"$f":"SUMIF(Ref!$R:$R,'подбор радиатора TESI'!$AB:$AB,Ref!$Q:$Q)","v":0},1]
["",{"$f":"IF($Z285=\"\",IF($G285=\"\",\"\",\"RR\"&LEFT($G285,1)&$H285&IF($J285<=9,\"0\"&$J285,$J285)&$L285&\"A4\"&LEFT($O285,2)&\"N\"),VLOOKUP($Z285,Ref!$AE:$AG,3,0)&$L285)","v":""},"","",{"$f":"IF($Z285=\"\",IF($G285=\"\",\"\",$D285*$W285*$K$1),VLOOKUP($Z285,Ref!$AE:$AG,2,0)*$Q285*$K$1*(1-$H$4/100))","v":""},{"$nulls":3},{"$f":"SUMIF(pricelist!$W:$W,'подбор радиатора TESI'!$AA285,pricelist!$J:$J)","v":0},null,0,null,{"$f":"IF($L285=\"\",\"\",VLOOKUP($L285,Ref!$D:$J,7,0))","v":""},{"$f":"SUMIF(Ref!$D:$D,'подбор радиатора TESI'!$L:$L,Ref!$E:$E)","v":{"v":0,"d":"0.00"}},null,{"$f":"SUMIF(Ref!$F:$F,'подбор радиатора TESI'!$O:$O,Ref!$G:$G)","v":{"v":0,"d":"0.00"}},null,{"$f":"SUMIF(pricelist!$W:$W,'подбор радиатора TESI'!$AA:$AA,pricelist!$K:$K)*$J285","v":{"v":0,"d":"0.00"}},{"$f":"SUMIF(pricelist!$W:$W,$AA:$AA,INDIRECT($S$12&$S$14))*$J285","v":{"v":0,"d":"0.00"}},0,null,{"$f":"SUMIF(Ref!$H:$H,'подбор радиатора TESI'!$U:$U,Ref!$I:$I)","v":{"v":0,"d":"0.00"}},{"$f":"(($N285*SUMIF(pricelist!$W:$W,'подбор радиатора TESI'!$AA:$AA,pricelist!$S:$S)*$J285)+$P285+IF($U285=\"радиусный\",$V285*$J285,$V285)+IF($J285>$AC285,31*1.13,0))*(1-$H$4/100)","v":{"v":0,"d":"0.00"}},{"$nulls":3},"/","/",{"$f":"SUMIF(Ref!$R:$R,'подбор радиатора TESI'!$AB:$AB,Ref!$Q:$Q)","v":0},1]
["",{"$f":"IF($Z286=\"\",IF($G286=\"\",\"\",\"RR\"&LEFT($G286,1)&$H286&IF($J286<=9,\"0\"&$J286,$J286)&$L286&\"A4\"&LEFT($O286,2)&\"N\"),VLOOKUP($Z286,Ref!$AE:$AG,3,0)&$L286)","v":""},"","",{"$f":"IF($Z286=\"\",IF($G286=\"\",\"\",$D286*$W286*$K$1),VLOOKUP($Z286,Ref!$AE:$AG,2,0)*$Q286*$K$1*(1-$H$4/100))","v":""},{"$nulls":3},{"$f":"SUMIF(pricelist!$W:$W,'подбор радиатора TESI'!$AA286,pricelist!$J:$J)","v":0},null,0,null,{"$f":"IF($L286=\"\",\"\",VLOOKUP($L286,Ref!$D:$J,7,0))","v":""},{"$f":"SUMIF(Ref!$D:$D,'подбор радиатора TESI'!$L:$L,Ref!$E:$E)","v":{"v":0,"d":"0.00"}},null,{"$f":"SUMIF(Ref!$F:$F,'подбор радиатора TESI'!$O:$O,Ref!$G:$G)","v":{"v":0,"d":"0.00"}},null,{"$f":"SUMIF(pricelist!$W:$W,'подбор радиатора TESI'!$AA:$AA,pricelist!$K:$K)*$J286","v":{"v":0,"d":"0.00"}},{"$f":"SUMIF(pricelist!$W:$W,$AA:$AA,INDIRECT($S$12&$S$14))*$J286","v":{"v":0,"d":"0.00"}},0,null,{"$f":"SUMIF(Ref!$H:$H,'подбор радиатора TESI'!$U:$U,Ref!$I:$I)","v":{"v":0,"d":"0.00"}},{"$f":"(($N286*SUMIF(pricelist!$W:$W,'подбор радиатора TESI'!$AA:$AA,pricelist!$S:$S)*$J286)+$P286+IF($U286=\"радиусный\",$V286*$J286,$V286)+IF($J286>$AC286,31*1.13,0))*(1-$H$4/100)","v":{"v":0,"d":"0.00"}},{"$nulls":3},"/","/",{"$f":"SUMIF(Ref!$R:$R,'подбор радиатора TESI'!$AB:$AB,Ref!$Q:$Q)","v":0},1]
["",{"$f":"IF($Z287=\"\",IF($G287=\"\",\"\",\"RR\"&LEFT($G287,1)&$H287&IF($J287<=9,\"0\"&$J287,$J287)&$L287&\"A4\"&LEFT($O287,2)&\"N\"),VLOOKUP($Z287,Ref!$AE:$AG,3,0)&$L287)","v":""},"","",{"$f":"IF($Z287=\"\",IF($G287=\"\",\"\",$D287*$W287*$K$1),VLOOKUP($Z287,Ref!$AE:$AG,2,0)*$Q287*$K$1*(1-$H$4/100))","v":""},{"$nulls":3},{"$f":"SUMIF(pricelist!$W:$W,'подбор радиатора TESI'!$AA287,pricelist!$J:$J)","v":0},null,0,null,{"$f":"IF($L287=\"\",\"\",VLOOKUP($L287,Ref!$D:$J,7,0))","v":""},{"$f":"SUMIF(Ref!$D:$D,'подбор радиатора TESI'!$L:$L,Ref!$E:$E)","v":{"v":0,"d":"0.00"}},null,{"$f":"SUMIF(Ref!$F:$F,'подбор радиатора TESI'!$O:$O,Ref!$G:$G)","v":{"v":0,"d":"0.00"}},null,{"$f":"SUMIF(pricelist!$W:$W,'подбор радиатора TESI'!$AA:$AA,pricelist!$K:$K)*$J287","v":{"v":0,"d":"0.00"}},{"$f":"SUMIF(pricelist!$W:$W,$AA:$AA,INDIRECT($S$12&$S$14))*$J287","v":{"v":0,"d":"0.00"}},0,null,{"$f":"SUMIF(Ref!$H:$H,'подбор радиатора TESI'!$U:$U,Ref!$I:$I)","v":{"v":0,"d":"0.00"}},{"$f":"(($N287*SUMIF(pricelist!$W:$W,'подбор радиатора TESI'!$AA:$AA,pricelist!$S:$S)*$J287)+$P287+IF($U287=\"радиусный\",$V287*$J287,$V287)+IF($J287>$AC287,31*1.13,0))*(1-$H$4/100)","v":{"v":0,"d":"0.00"}},{"$nulls":3},"/","/",{"$f":"SUMIF(Ref!$R:$R,'подбор радиатора TESI'!$AB:$AB,Ref!$Q:$Q)","v":0},1]
["",{"$f":"IF($Z288=\"\",IF($G288=\"\",\"\",\"RR\"&LEFT($G288,1)&$H288&IF($J288<=9,\"0\"&$J288,$J288)&$L288&\"A4\"&LEFT($O288,2)&\"N\"),VLOOKUP($Z288,Ref!$AE:$AG,3,0)&$L288)","v":""},"","",{"$f":"IF($Z288=\"\",IF($G288=\"\",\"\",$D288*$W288*$K$1),VLOOKUP($Z288,Ref!$AE:$AG,2,0)*$Q288*$K$1*(1-$H$4/100))","v":""},{"$nulls":3},{"$f":"SUMIF(pricelist!$W:$W,'подбор радиатора TESI'!$AA288,pricelist!$J:$J)","v":0},null,0,null,{"$f":"IF($L288=\"\",\"\",VLOOKUP($L288,Ref!$D:$J,7,0))","v":""},{"$f":"SUMIF(Ref!$D:$D,'подбор радиатора TESI'!$L:$L,Ref!$E:$E)","v":{"v":0,"d":"0.00"}},null,{"$f":"SUMIF(Ref!$F:$F,'подбор радиатора TESI'!$O:$O,Ref!$G:$G)","v":{"v":0,"d":"0.00"}},null,{"$f":"SUMIF(pricelist!$W:$W,'подбор радиатора TESI'!$AA:$AA,pricelist!$K:$K)*$J288","v":{"v":0,"d":"0.00"}},{"$f":"SUMIF(pricelist!$W:$W,$AA:$AA,INDIRECT($S$12&$S$14))*$J288","v":{"v":0,"d":"0.00"}},0,null,{"$f":"SUMIF(Ref!$H:$H,'подбор радиатора TESI'!$U:$U,Ref!$I:$I)","v":{"v":0,"d":"0.00"}},{"$f":"(($N288*SUMIF(pricelist!$W:$W,'подбор радиатора TESI'!$AA:$AA,pricelist!$S:$S)*$J288)+$P288+IF($U288=\"радиусный\",$V288*$J288,$V288)+IF($J288>$AC288,31*1.13,0))*(1-$H$4/100)","v":{"v":0,"d":"0.00"}},{"$nulls":3},"/","/",{"$f":"SUMIF(Ref!$R:$R,'подбор радиатора TESI'!$AB:$AB,Ref!$Q:$Q)","v":0},1]
["",{"$f":"IF($Z289=\"\",IF($G289=\"\",\"\",\"RR\"&LEFT($G289,1)&$H289&IF($J289<=9,\"0\"&$J289,$J289)&$L289&\"A4\"&LEFT($O289,2)&\"N\"),VLOOKUP($Z289,Ref!$AE:$AG,3,0)&$L289)","v":""},"","",{"$f":"IF($Z289=\"\",IF($G289=\"\",\"\",$D289*$W289*$K$1),VLOOKUP($Z289,Ref!$AE:$AG,2,0)*$Q289*$K$1*(1-$H$4/100))","v":""},{"$nulls":3},{"$f":"SUMIF(pricelist!$W:$W,'подбор радиатора TESI'!$AA289,pricelist!$J:$J)","v":0},null,0,null,{"$f":"IF($L289=\"\",\"\",VLOOKUP($L289,Ref!$D:$J,7,0))","v":""},{"$f":"SUMIF(Ref!$D:$D,'подбор радиатора TESI'!$L:$L,Ref!$E:$E)","v":{"v":0,"d":"0.00"}},null,{"$f":"SUMIF(Ref!$F:$F,'подбор радиатора TESI'!$O:$O,Ref!$G:$G)","v":{"v":0,"d":"0.00"}},null,{"$f":"SUMIF(pricelist!$W:$W,'подбор радиатора TESI'!$AA:$AA,pricelist!$K:$K)*$J289","v":{"v":0,"d":"0.00"}},{"$f":"SUMIF(pricelist!$W:$W,$AA:$AA,INDIRECT($S$12&$S$14))*$J289","v":{"v":0,"d":"0.00"}},0,null,{"$f":"SUMIF(Ref!$H:$H,'подбор радиатора TESI'!$U:$U,Ref!$I:$I)","v":{"v":0,"d":"0.00"}},{"$f":"(($N289*SUMIF(pricelist!$W:$W,'подбор радиатора TESI'!$AA:$AA,pricelist!$S:$S)*$J289)+$P289+IF($U289=\"радиусный\",$V289*$J289,$V289)+IF($J289>$AC289,31*1.13,0))*(1-$H$4/100)","v":{"v":0,"d":"0.00"}},{"$nulls":3},"/","/",{"$f":"SUMIF(Ref!$R:$R,'подбор радиатора TESI'!$AB:$AB,Ref!$Q:$Q)","v":0},1]
["",{"$f":"IF($Z290=\"\",IF($G290=\"\",\"\",\"RR\"&LEFT($G290,1)&$H290&IF($J290<=9,\"0\"&$J290,$J290)&$L290&\"A4\"&LEFT($O290,2)&\"N\"),VLOOKUP($Z290,Ref!$AE:$AG,3,0)&$L290)","v":""},"","",{"$f":"IF($Z290=\"\",IF($G290=\"\",\"\",$D290*$W290*$K$1),VLOOKUP($Z290,Ref!$AE:$AG,2,0)*$Q290*$K$1*(1-$H$4/100))","v":""},{"$nulls":3},{"$f":"SUMIF(pricelist!$W:$W,'подбор радиатора TESI'!$AA290,pricelist!$J:$J)","v":0},null,0,null,{"$f":"IF($L290=\"\",\"\",VLOOKUP($L290,Ref!$D:$J,7,0))","v":""},{"$f":"SUMIF(Ref!$D:$D,'подбор радиатора TESI'!$L:$L,Ref!$E:$E)","v":{"v":0,"d":"0.00"}},null,{"$f":"SUMIF(Ref!$F:$F,'подбор радиатора TESI'!$O:$O,Ref!$G:$G)","v":{"v":0,"d":"0.00"}},null,{"$f":"SUMIF(pricelist!$W:$W,'подбор радиатора TESI'!$AA:$AA,pricelist!$K:$K)*$J290","v":{"v":0,"d":"0.00"}},{"$f":"SUMIF(pricelist!$W:$W,$AA:$AA,INDIRECT($S$12&$S$14))*$J290","v":{"v":0,"d":"0.00"}},0,null,{"$f":"SUMIF(Ref!$H:$H,'подбор радиатора TESI'!$U:$U,Ref!$I:$I)","v":{"v":0,"d":"0.00"}},{"$f":"(($N290*SUMIF(pricelist!$W:$W,'подбор радиатора TESI'!$AA:$AA,pricelist!$S:$S)*$J290)+$P290+IF($U290=\"радиусный\",$V290*$J290,$V290)+IF($J290>$AC290,31*1.13,0))*(1-$H$4/100)","v":{"v":0,"d":"0.00"}},{"$nulls":3},"/","/",{"$f":"SUMIF(Ref!$R:$R,'подбор радиатора TESI'!$AB:$AB,Ref!$Q:$Q)","v":0},1]
["",{"$f":"IF($Z291=\"\",IF($G291=\"\",\"\",\"RR\"&LEFT($G291,1)&$H291&IF($J291<=9,\"0\"&$J291,$J291)&$L291&\"A4\"&LEFT($O291,2)&\"N\"),VLOOKUP($Z291,Ref!$AE:$AG,3,0)&$L291)","v":""},"","",{"$f":"IF($Z291=\"\",IF($G291=\"\",\"\",$D291*$W291*$K$1),VLOOKUP($Z291,Ref!$AE:$AG,2,0)*$Q291*$K$1*(1-$H$4/100))","v":""},{"$nulls":3},{"$f":"SUMIF(pricelist!$W:$W,'подбор радиатора TESI'!$AA291,pricelist!$J:$J)","v":0},null,0,null,{"$f":"IF($L291=\"\",\"\",VLOOKUP($L291,Ref!$D:$J,7,0))","v":""},{"$f":"SUMIF(Ref!$D:$D,'подбор радиатора TESI'!$L:$L,Ref!$E:$E)","v":{"v":0,"d":"0.00"}},null,{"$f":"SUMIF(Ref!$F:$F,'подбор радиатора TESI'!$O:$O,Ref!$G:$G)","v":{"v":0,"d":"0.00"}},null,{"$f":"SUMIF(pricelist!$W:$W,'подбор радиатора TESI'!$AA:$AA,pricelist!$K:$K)*$J291","v":{"v":0,"d":"0.00"}},{"$f":"SUMIF(pricelist!$W:$W,$AA:$AA,INDIRECT($S$12&$S$14))*$J291","v":{"v":0,"d":"0.00"}},0,null,{"$f":"SUMIF(Ref!$H:$H,'подбор радиатора TESI'!$U:$U,Ref!$I:$I)","v":{"v":0,"d":"0.00"}},{"$f":"(($N291*SUMIF(pricelist!$W:$W,'подбор радиатора TESI'!$AA:$AA,pricelist!$S:$S)*$J291)+$P291+IF($U291=\"радиусный\",$V291*$J291,$V291)+IF($J291>$AC291,31*1.13,0))*(1-$H$4/100)","v":{"v":0,"d":"0.00"}},{"$nulls":3},"/","/",{"$f":"SUMIF(Ref!$R:$R,'подбор радиатора TESI'!$AB:$AB,Ref!$Q:$Q)","v":0},1]
["",{"$f":"IF($Z292=\"\",IF($G292=\"\",\"\",\"RR\"&LEFT($G292,1)&$H292&IF($J292<=9,\"0\"&$J292,$J292)&$L292&\"A4\"&LEFT($O292,2)&\"N\"),VLOOKUP($Z292,Ref!$AE:$AG,3,0)&$L292)","v":""},"","",{"$f":"IF($Z292=\"\",IF($G292=\"\",\"\",$D292*$W292*$K$1),VLOOKUP($Z292,Ref!$AE:$AG,2,0)*$Q292*$K$1*(1-$H$4/100))","v":""},{"$nulls":3},{"$f":"SUMIF(pricelist!$W:$W,'подбор радиатора TESI'!$AA292,pricelist!$J:$J)","v":0},null,0,null,{"$f":"IF($L292=\"\",\"\",VLOOKUP($L292,Ref!$D:$J,7,0))","v":""},{"$f":"SUMIF(Ref!$D:$D,'подбор радиатора TESI'!$L:$L,Ref!$E:$E)","v":{"v":0,"d":"0.00"}},null,{"$f":"SUMIF(Ref!$F:$F,'подбор радиатора TESI'!$O:$O,Ref!$G:$G)","v":{"v":0,"d":"0.00"}},null,{"$f":"SUMIF(pricelist!$W:$W,'подбор радиатора TESI'!$AA:$AA,pricelist!$K:$K)*$J292","v":{"v":0,"d":"0.00"}},{"$f":"SUMIF(pricelist!$W:$W,$AA:$AA,INDIRECT($S$12&$S$14))*$J292","v":{"v":0,"d":"0.00"}},0,null,{"$f":"SUMIF(Ref!$H:$H,'подбор радиатора TESI'!$U:$U,Ref!$I:$I)","v":{"v":0,"d":"0.00"}},{"$f":"(($N292*SUMIF(pricelist!$W:$W,'подбор радиатора TESI'!$AA:$AA,pricelist!$S:$S)*$J292)+$P292+IF($U292=\"радиусный\",$V292*$J292,$V292)+IF($J292>$AC292,31*1.13,0))*(1-$H$4/100)","v":{"v":0,"d":"0.00"}},{"$nulls":3},"/","/",{"$f":"SUMIF(Ref!$R:$R,'подбор радиатора TESI'!$AB:$AB,Ref!$Q:$Q)","v":0},1]
["",{"$f":"IF($Z293=\"\",IF($G293=\"\",\"\",\"RR\"&LEFT($G293,1)&$H293&IF($J293<=9,\"0\"&$J293,$J293)&$L293&\"A4\"&LEFT($O293,2)&\"N\"),VLOOKUP($Z293,Ref!$AE:$AG,3,0)&$L293)","v":""},"","",{"$f":"IF($Z293=\"\",IF($G293=\"\",\"\",$D293*$W293*$K$1),VLOOKUP($Z293,Ref!$AE:$AG,2,0)*$Q293*$K$1*(1-$H$4/100))","v":""},{"$nulls":3},{"$f":"SUMIF(pricelist!$W:$W,'подбор радиатора TESI'!$AA293,pricelist!$J:$J)","v":0},null,0,null,{"$f":"IF($L293=\"\",\"\",VLOOKUP($L293,Ref!$D:$J,7,0))","v":""},{"$f":"SUMIF(Ref!$D:$D,'подбор радиатора TESI'!$L:$L,Ref!$E:$E)","v":{"v":0,"d":"0.00"}},null,{"$f":"SUMIF(Ref!$F:$F,'подбор радиатора TESI'!$O:$O,Ref!$G:$G)","v":{"v":0,"d":"0.00"}},null,{"$f":"SUMIF(pricelist!$W:$W,'подбор радиатора TESI'!$AA:$AA,pricelist!$K:$K)*$J293","v":{"v":0,"d":"0.00"}},{"$f":"SUMIF(pricelist!$W:$W,$AA:$AA,INDIRECT($S$12&$S$14))*$J293","v":{"v":0,"d":"0.00"}},0,null,{"$f":"SUMIF(Ref!$H:$H,'подбор радиатора TESI'!$U:$U,Ref!$I:$I)","v":{"v":0,"d":"0.00"}},{"$f":"(($N293*SUMIF(pricelist!$W:$W,'подбор радиатора TESI'!$AA:$AA,pricelist!$S:$S)*$J293)+$P293+IF($U293=\"радиусный\",$V293*$J293,$V293)+IF($J293>$AC293,31*1.13,0))*(1-$H$4/100)","v":{"v":0,"d":"0.00"}},{"$nulls":3},"/","/",{"$f":"SUMIF(Ref!$R:$R,'подбор радиатора TESI'!$AB:$AB,Ref!$Q:$Q)","v":0},1]
["",{"$f":"IF($Z294=\"\",IF($G294=\"\",\"\",\"RR\"&LEFT($G294,1)&$H294&IF($J294<=9,\"0\"&$J294,$J294)&$L294&\"A4\"&LEFT($O294,2)&\"N\"),VLOOKUP($Z294,Ref!$AE:$AG,3,0)&$L294)","v":""},"","",{"$f":"IF($Z294=\"\",IF($G294=\"\",\"\",$D294*$W294*$K$1),VLOOKUP($Z294,Ref!$AE:$AG,2,0)*$Q294*$K$1*(1-$H$4/100))","v":""},{"$nulls":3},{"$f":"SUMIF(pricelist!$W:$W,'подбор радиатора TESI'!$AA294,pricelist!$J:$J)","v":0},null,0,null,{"$f":"IF($L294=\"\",\"\",VLOOKUP($L294,Ref!$D:$J,7,0))","v":""},{"$f":"SUMIF(Ref!$D:$D,'подбор радиатора TESI'!$L:$L,Ref!$E:$E)","v":{"v":0,"d":"0.00"}},null,{"$f":"SUMIF(Ref!$F:$F,'подбор радиатора TESI'!$O:$O,Ref!$G:$G)","v":{"v":0,"d":"0.00"}},null,{"$f":"SUMIF(pricelist!$W:$W,'подбор радиатора TESI'!$AA:$AA,pricelist!$K:$K)*$J294","v":{"v":0,"d":"0.00"}},{"$f":"SUMIF(pricelist!$W:$W,$AA:$AA,INDIRECT($S$12&$S$14))*$J294","v":{"v":0,"d":"0.00"}},0,null,{"$f":"SUMIF(Ref!$H:$H,'подбор радиатора TESI'!$U:$U,Ref!$I:$I)","v":{"v":0,"d":"0.00"}},{"$f":"(($N294*SUMIF(pricelist!$W:$W,'подбор радиатора TESI'!$AA:$AA,pricelist!$S:$S)*$J294)+$P294+IF($U294=\"радиусный\",$V294*$J294,$V294)+IF($J294>$AC294,31*1.13,0))*(1-$H$4/100)","v":{"v":0,"d":"0.00"}},{"$nulls":3},"/","/",{"$f":"SUMIF(Ref!$R:$R,'подбор радиатора TESI'!$AB:$AB,Ref!$Q:$Q)","v":0},1]
["",{"$f":"IF($Z295=\"\",IF($G295=\"\",\"\",\"RR\"&LEFT($G295,1)&$H295&IF($J295<=9,\"0\"&$J295,$J295)&$L295&\"A4\"&LEFT($O295,2)&\"N\"),VLOOKUP($Z295,Ref!$AE:$AG,3,0)&$L295)","v":""},"","",{"$f":"IF($Z295=\"\",IF($G295=\"\",\"\",$D295*$W295*$K$1),VLOOKUP($Z295,Ref!$AE:$AG,2,0)*$Q295*$K$1*(1-$H$4/100))","v":""},{"$nulls":3},{"$f":"SUMIF(pricelist!$W:$W,'подбор радиатора TESI'!$AA295,pricelist!$J:$J)","v":0},null,0,null,{"$f":"IF($L295=\"\",\"\",VLOOKUP($L295,Ref!$D:$J,7,0))","v":""},{"$f":"SUMIF(Ref!$D:$D,'подбор радиатора TESI'!$L:$L,Ref!$E:$E)","v":{"v":0,"d":"0.00"}},null,{"$f":"SUMIF(Ref!$F:$F,'подбор радиатора TESI'!$O:$O,Ref!$G:$G)","v":{"v":0,"d":"0.00"}},null,{"$f":"SUMIF(pricelist!$W:$W,'подбор радиатора TESI'!$AA:$AA,pricelist!$K:$K)*$J295","v":{"v":0,"d":"0.00"}},{"$f":"SUMIF(pricelist!$W:$W,$AA:$AA,INDIRECT($S$12&$S$14))*$J295","v":{"v":0,"d":"0.00"}},0,null,{"$f":"SUMIF(Ref!$H:$H,'подбор радиатора TESI'!$U:$U,Ref!$I:$I)","v":{"v":0,"d":"0.00"}},{"$f":"(($N295*SUMIF(pricelist!$W:$W,'подбор радиатора TESI'!$AA:$AA,pricelist!$S:$S)*$J295)+$P295+IF($U295=\"радиусный\",$V295*$J295,$V295)+IF($J295>$AC295,31*1.13,0))*(1-$H$4/100)","v":{"v":0,"d":"0.00"}},{"$nulls":3},"/","/",{"$f":"SUMIF(Ref!$R:$R,'подбор радиатора TESI'!$AB:$AB,Ref!$Q:$Q)","v":0},1]
["",{"$f":"IF($Z296=\"\",IF($G296=\"\",\"\",\"RR\"&LEFT($G296,1)&$H296&IF($J296<=9,\"0\"&$J296,$J296)&$L296&\"A4\"&LEFT($O296,2)&\"N\"),VLOOKUP($Z296,Ref!$AE:$AG,3,0)&$L296)","v":""},"","",{"$f":"IF($Z296=\"\",IF($G296=\"\",\"\",$D296*$W296*$K$1),VLOOKUP($Z296,Ref!$AE:$AG,2,0)*$Q296*$K$1*(1-$H$4/100))","v":""},{"$nulls":3},{"$f":"SUMIF(pricelist!$W:$W,'подбор радиатора TESI'!$AA296,pricelist!$J:$J)","v":0},null,0,null,{"$f":"IF($L296=\"\",\"\",VLOOKUP($L296,Ref!$D:$J,7,0))","v":""},{"$f":"SUMIF(Ref!$D:$D,'подбор радиатора TESI'!$L:$L,Ref!$E:$E)","v":{"v":0,"d":"0.00"}},null,{"$f":"SUMIF(Ref!$F:$F,'подбор радиатора TESI'!$O:$O,Ref!$G:$G)","v":{"v":0,"d":"0.00"}},null,{"$f":"SUMIF(pricelist!$W:$W,'подбор радиатора TESI'!$AA:$AA,pricelist!$K:$K)*$J296","v":{"v":0,"d":"0.00"}},{"$f":"SUMIF(pricelist!$W:$W,$AA:$AA,INDIRECT($S$12&$S$14))*$J296","v":{"v":0,"d":"0.00"}},0,null,{"$f":"SUMIF(Ref!$H:$H,'подбор радиатора TESI'!$U:$U,Ref!$I:$I)","v":{"v":0,"d":"0.00"}},{"$f":"(($N296*SUMIF(pricelist!$W:$W,'подбор радиатора TESI'!$AA:$AA,pricelist!$S:$S)*$J296)+$P296+IF($U296=\"радиусный\",$V296*$J296,$V296)+IF($J296>$AC296,31*1.13,0))*(1-$H$4/100)","v":{"v":0,"d":"0.00"}},{"$nulls":3},"/","/",{"$f":"SUMIF(Ref!$R:$R,'подбор радиатора TESI'!$AB:$AB,Ref!$Q:$Q)","v":0},1]
["",{"$f":"IF($Z297=\"\",IF($G297=\"\",\"\",\"RR\"&LEFT($G297,1)&$H297&IF($J297<=9,\"0\"&$J297,$J297)&$L297&\"A4\"&LEFT($O297,2)&\"N\"),VLOOKUP($Z297,Ref!$AE:$AG,3,0)&$L297)","v":""},"","",{"$f":"IF($Z297=\"\",IF($G297=\"\",\"\",$D297*$W297*$K$1),VLOOKUP($Z297,Ref!$AE:$AG,2,0)*$Q297*$K$1*(1-$H$4/100))","v":""},{"$nulls":3},{"$f":"SUMIF(pricelist!$W:$W,'подбор радиатора TESI'!$AA297,pricelist!$J:$J)","v":0},null,0,null,{"$f":"IF($L297=\"\",\"\",VLOOKUP($L297,Ref!$D:$J,7,0))","v":""},{"$f":"SUMIF(Ref!$D:$D,'подбор радиатора TESI'!$L:$L,Ref!$E:$E)","v":{"v":0,"d":"0.00"}},null,{"$f":"SUMIF(Ref!$F:$F,'подбор радиатора TESI'!$O:$O,Ref!$G:$G)","v":{"v":0,"d":"0.00"}},null,{"$f":"SUMIF(pricelist!$W:$W,'подбор радиатора TESI'!$AA:$AA,pricelist!$K:$K)*$J297","v":{"v":0,"d":"0.00"}},{"$f":"SUMIF(pricelist!$W:$W,$AA:$AA,INDIRECT($S$12&$S$14))*$J297","v":{"v":0,"d":"0.00"}},0,null,{"$f":"SUMIF(Ref!$H:$H,'подбор радиатора TESI'!$U:$U,Ref!$I:$I)","v":{"v":0,"d":"0.00"}},{"$f":"(($N297*SUMIF(pricelist!$W:$W,'подбор радиатора TESI'!$AA:$AA,pricelist!$S:$S)*$J297)+$P297+IF($U297=\"радиусный\",$V297*$J297,$V297)+IF($J297>$AC297,31*1.13,0))*(1-$H$4/100)","v":{"v":0,"d":"0.00"}},{"$nulls":3},"/","/",{"$f":"SUMIF(Ref!$R:$R,'подбор радиатора TESI'!$AB:$AB,Ref!$Q:$Q)","v":0},1]
["",{"$f":"IF($Z298=\"\",IF($G298=\"\",\"\",\"RR\"&LEFT($G298,1)&$H298&IF($J298<=9,\"0\"&$J298,$J298)&$L298&\"A4\"&LEFT($O298,2)&\"N\"),VLOOKUP($Z298,Ref!$AE:$AG,3,0)&$L298)","v":""},"","",{"$f":"IF($Z298=\"\",IF($G298=\"\",\"\",$D298*$W298*$K$1),VLOOKUP($Z298,Ref!$AE:$AG,2,0)*$Q298*$K$1*(1-$H$4/100))","v":""},{"$nulls":3},{"$f":"SUMIF(pricelist!$W:$W,'подбор радиатора TESI'!$AA298,pricelist!$J:$J)","v":0},null,0,null,{"$f":"IF($L298=\"\",\"\",VLOOKUP($L298,Ref!$D:$J,7,0))","v":""},{"$f":"SUMIF(Ref!$D:$D,'подбор радиатора TESI'!$L:$L,Ref!$E:$E)","v":{"v":0,"d":"0.00"}},null,{"$f":"SUMIF(Ref!$F:$F,'подбор радиатора TESI'!$O:$O,Ref!$G:$G)","v":{"v":0,"d":"0.00"}},null,{"$f":"SUMIF(pricelist!$W:$W,'подбор радиатора TESI'!$AA:$AA,pricelist!$K:$K)*$J298","v":{"v":0,"d":"0.00"}},{"$f":"SUMIF(pricelist!$W:$W,$AA:$AA,INDIRECT($S$12&$S$14))*$J298","v":{"v":0,"d":"0.00"}},0,null,{"$f":"SUMIF(Ref!$H:$H,'подбор радиатора TESI'!$U:$U,Ref!$I:$I)","v":{"v":0,"d":"0.00"}},{"$f":"(($N298*SUMIF(pricelist!$W:$W,'подбор радиатора TESI'!$AA:$AA,pricelist!$S:$S)*$J298)+$P298+IF($U298=\"радиусный\",$V298*$J298,$V298)+IF($J298>$AC298,31*1.13,0))*(1-$H$4/100)","v":{"v":0,"d":"0.00"}},{"$nulls":3},"/","/",{"$f":"SUMIF(Ref!$R:$R,'подбор радиатора TESI'!$AB:$AB,Ref!$Q:$Q)","v":0},1]
["",{"$f":"IF($Z299=\"\",IF($G299=\"\",\"\",\"RR\"&LEFT($G299,1)&$H299&IF($J299<=9,\"0\"&$J299,$J299)&$L299&\"A4\"&LEFT($O299,2)&\"N\"),VLOOKUP($Z299,Ref!$AE:$AG,3,0)&$L299)","v":""},"","",{"$f":"IF($Z299=\"\",IF($G299=\"\",\"\",$D299*$W299*$K$1),VLOOKUP($Z299,Ref!$AE:$AG,2,0)*$Q299*$K$1*(1-$H$4/100))","v":""},{"$nulls":3},{"$f":"SUMIF(pricelist!$W:$W,'подбор радиатора TESI'!$AA299,pricelist!$J:$J)","v":0},null,0,null,{"$f":"IF($L299=\"\",\"\",VLOOKUP($L299,Ref!$D:$J,7,0))","v":""},{"$f":"SUMIF(Ref!$D:$D,'подбор радиатора TESI'!$L:$L,Ref!$E:$E)","v":{"v":0,"d":"0.00"}},null,{"$f":"SUMIF(Ref!$F:$F,'подбор радиатора TESI'!$O:$O,Ref!$G:$G)","v":{"v":0,"d":"0.00"}},null,{"$f":"SUMIF(pricelist!$W:$W,'подбор радиатора TESI'!$AA:$AA,pricelist!$K:$K)*$J299","v":{"v":0,"d":"0.00"}},{"$f":"SUMIF(pricelist!$W:$W,$AA:$AA,INDIRECT($S$12&$S$14))*$J299","v":{"v":0,"d":"0.00"}},0,null,{"$f":"SUMIF(Ref!$H:$H,'подбор радиатора TESI'!$U:$U,Ref!$I:$I)","v":{"v":0,"d":"0.00"}},{"$f":"(($N299*SUMIF(pricelist!$W:$W,'подбор радиатора TESI'!$AA:$AA,pricelist!$S:$S)*$J299)+$P299+IF($U299=\"радиусный\",$V299*$J299,$V299)+IF($J299>$AC299,31*1.13,0))*(1-$H$4/100)","v":{"v":0,"d":"0.00"}},{"$nulls":3},"/","/",{"$f":"SUMIF(Ref!$R:$R,'подбор радиатора TESI'!$AB:$AB,Ref!$Q:$Q)","v":0},1]
["",{"$f":"IF($Z300=\"\",IF($G300=\"\",\"\",\"RR\"&LEFT($G300,1)&$H300&IF($J300<=9,\"0\"&$J300,$J300)&$L300&\"A4\"&LEFT($O300,2)&\"N\"),VLOOKUP($Z300,Ref!$AE:$AG,3,0)&$L300)","v":""},"","",{"$f":"IF($Z300=\"\",IF($G300=\"\",\"\",$D300*$W300*$K$1),VLOOKUP($Z300,Ref!$AE:$AG,2,0)*$Q300*$K$1*(1-$H$4/100))","v":""},{"$nulls":3},{"$f":"SUMIF(pricelist!$W:$W,'подбор радиатора TESI'!$AA300,pricelist!$J:$J)","v":0},null,0,null,{"$f":"IF($L300=\"\",\"\",VLOOKUP($L300,Ref!$D:$J,7,0))","v":""},{"$f":"SUMIF(Ref!$D:$D,'подбор радиатора TESI'!$L:$L,Ref!$E:$E)","v":{"v":0,"d":"0.00"}},null,{"$f":"SUMIF(Ref!$F:$F,'подбор радиатора TESI'!$O:$O,Ref!$G:$G)","v":{"v":0,"d":"0.00"}},null,{"$f":"SUMIF(pricelist!$W:$W,'подбор радиатора TESI'!$AA:$AA,pricelist!$K:$K)*$J300","v":{"v":0,"d":"0.00"}},{"$f":"SUMIF(pricelist!$W:$W,$AA:$AA,INDIRECT($S$12&$S$14))*$J300","v":{"v":0,"d":"0.00"}},0,null,{"$f":"SUMIF(Ref!$H:$H,'подбор радиатора TESI'!$U:$U,Ref!$I:$I)","v":{"v":0,"d":"0.00"}},{"$f":"(($N300*SUMIF(pricelist!$W:$W,'подбор радиатора TESI'!$AA:$AA,pricelist!$S:$S)*$J300)+$P300+IF($U300=\"радиусный\",$V300*$J300,$V300)+IF($J300>$AC300,31*1.13,0))*(1-$H$4/100)","v":{"v":0,"d":"0.00"}},{"$nulls":3},"/","/",{"$f":"SUMIF(Ref!$R:$R,'подбор радиатора TESI'!$AB:$AB,Ref!$Q:$Q)","v":0},1]

{"sheet":"pricelist","index":1,"n_rows":105,"n_cols":23,"rows_kept":105,"hidden":true}
[2,"0200",null,200,null,null,2,65,197,127,{"v":0.326,"d":"0.33"},0.33,{"v":22.722736433053214,"d":"22.72"},18.73,14.91,null,null,1.252,{"v":19.549,"d":"19.55"},{"$nulls":3},{"$f":"$A1&\"/\"&$B1","v":"2/0200"}]
[2,"0260",null,260,null,null,2,65,262,195,{"v":0.425,"d":"0.43"},0.38,{"v":30.110990178479017,"d":"30.11"},24.83,19.76,null,null,1.252,{"v":20.453,"d":"20.45"},{"$nulls":3},"2/0260"]
[2,"0300",null,300,null,null,2,65,302,235,{"v":0.482,"d":"0.48"},0.41,{"v":35.55906484189587,"d":"35.56"},29.38,23.44,null,null,1.239,{"v":20.566,"d":"20.57"},{"$nulls":3},"2/0300"]
[2,"0350",null,350,null,null,2,65,352,285,{"v":0.556,"d":"0.56"},0.45,{"v":40.69555979759353,"d":"40.70"},{"v":33.6,"d":"33.60"},26.79,null,null,1.243,{"v":21.130999999999997,"d":"21.13"},{"$nulls":3},"2/0350"]
[2,"0365",null,365,null,null,2,65,367,300,{"v":0.577,"d":"0.58"},0.46,{"v":42.2164692319785,"d":"42.22"},34.85,27.78,null,null,1.244,{"v":21.244,"d":"21.24"},{"$nulls":3},"2/0365"]
[2,"0400",null,400,null,null,2,65,402,335,{"v":0.629,"d":"0.63"},0.49,{"v":45.7850676005802,"d":"45.79"},37.78,{"v":30.1,"d":"30.10"},null,null,1.247,21.47,{"$nulls":3},"2/0400"]
[2,"0450",null,450,null,null,2,65,452,385,{"v":0.702,"d":"0.70"},0.53,{"v":50.84231137604191,"d":"50.84"},41.93,33.38,null,null,1.251,{"v":22.034999999999997,"d":"22.04"},{"$nulls":3},"2/0450"]
[2,"0500",null,500,null,null,2,65,502,435,{"v":0.775,"d":"0.78"},0.57,{"v":55.8979632188701,"d":"55.90"},46.07,36.65,null,null,1.255,{"v":22.599999999999998,"d":"22.60"},{"$nulls":3},"2/0500"]
[2,"0550",null,550,null,null,2,65,552,485,{"v":0.848,"d":"0.85"},0.61,{"v":60.95162968115964,"d":"60.95"},{"v":50.2,"d":"50.20"},39.91,null,null,1.259,{"v":23.391,"d":"23.39"},{"$nulls":3},"2/0550"]
[2,"0565",null,565,null,null,2,65,567,500,0.87,0.62,{"v":62.45825334517717,"d":"62.46"},51.43,40.88,null,null,1.26,{"v":23.503999999999998,"d":"23.50"},{"$nulls":3},"2/0565"]
[2,"0600",null,600,null,null,2,65,602,535,{"v":0.921,"d":"0.92"},0.65,{"v":65.98837672327059,"d":"65.99"},54.32,43.15,null,null,1.263,{"v":23.616999999999997,"d":"23.62"},{"$nulls":3},"2/0600"]
[2,"0650",null,650,null,null,2,65,652,585,{"v":0.994,"d":"0.99"},0.69,{"v":71.05362100809855,"d":"71.05"},58.45,{"v":46.4,"d":"46.40"},null,null,1.266,{"v":24.181999999999995,"d":"24.18"},{"$nulls":3},"2/0650"]
[2,"0750",null,750,null,null,2,65,752,685,1.14,0.77,{"v":81.19407183183093,"d":"81.19"},66.71,52.88,null,null,1.274,{"v":24.973,"d":"24.97"},{"$nulls":3},"2/0750"]
[2,"0900",null,900,null,null,2,65,902,835,1.36,0.89,{"v":96.59830270413802,"d":"96.60"},79.22,62.66,null,null,1.286,{"v":26.780999999999995,"d":"26.78"},{"$nulls":3},"2/0900"]
[2,"1000",null,1000,null,null,2,65,1002,935,{"v":1.506,"d":"1.51"},0.97,{"v":106.98604135058356,"d":"106.99"},87.64,69.22,null,null,1.294,{"v":27.685,"d":"27.69"},{"$nulls":3},"2/1000"]
[2,"1200",null,1200,null,null,2,65,1202,1135,{"v":1.798,"d":"1.80"},1.13,{"v":128.18390136773027,"d":"128.18"},104.76,82.51,null,null,1.309,{"v":32.318,"d":"32.32"},{"$nulls":3},"2/1200"]
[2,"1500",null,1500,null,null,2,65,1502,1435,{"v":2.237,"d":"2.24"},1.37,{"v":161.25398468232495,"d":"161.25"},131.32,{"v":103,"d":"103.00"},null,null,1.332,{"v":38.985,"d":"38.99"},{"$nulls":3},"2/1500"]
[2,"1800",null,1800,null,null,2,65,1802,1735,{"v":2.675,"d":"2.68"},1.61,{"v":194.40048199070011,"d":"194.40"},158.38,124.29,null,null,1.329,{"v":47.573,"d":"47.57"},{"$nulls":3},"2/1800"]
[2,"2000",null,2000,null,null,2,65,2002,1935,{"v":2.968,"d":"2.97"},1.76,{"v":216.64512038503125,"d":"216.65"},176.79,{"v":139,"d":"139.00"},null,null,1.319,{"v":53.56199999999999,"d":"53.56"},{"$nulls":3},"2/2000"]
[2,"2200",null,2200,null,null,2,65,2202,2135,3.26,1.92,{"v":239.4137786762502,"d":"239.41"},195.68,154.15,null,null,1.308,{"v":58.64699999999999,"d":"58.65"},{"$nulls":3},"2/2200"]
[2,"2500",null,2500,null,null,2,65,2502,2435,{"v":3.699,"d":"3.70"},2.16,{"v":274.6765946153548,"d":"274.68"},225.05,177.79,null,null,1.293,{"v":67.00899999999999,"d":"67.01"},{"$nulls":3},"2/2500"]
[3,"0200",null,200,null,null,3,101,202,127,{"v":0.412,"d":"0.41"},0.46,{"v":31.299811204461186,"d":"31.30"},25.66,20.29,null,null,1.288,{"v":20.904999999999998,"d":"20.91"},{"$nulls":3},"3/0200"]
[3,"0260",null,260,null,null,3,101,262,195,{"v":0.562,"d":"0.56"},0.55,{"v":42.04494351643434,"d":"42.04"},34.47,27.26,null,null,1.288,{"v":21.808999999999997,"d":"21.81"},{"$nulls":3},"3/0260"]
[3,"0300",null,300,null,null,3,101,302,235,{"v":0.649,"d":"0.65"},0.59,{"v":49.47637921557989,"d":"49.48"},40.82,32.51,null,null,1.248,{"v":22.599999999999998,"d":"22.60"},{"$nulls":3},"3/0300"]
[3,"0350",null,350,null,null,3,101,352,285,{"v":0.758,"d":"0.76"},0.65,{"v":56.87095923394265,"d":"56.87"},46.88,{"v":37.3,"d":"37.30"},null,null,1.254,{"v":23.616999999999997,"d":"23.62"},{"$nulls":3},"3/0350"]
[3,"0365",null,365,null,null,3,101,367,300,{"v":0.791,"d":"0.79"},0.67,{"v":59.06860580015301,"d":"59.07"},48.68,38.72,null,null,1.255,{"v":23.843,"d":"23.84"},{"$nulls":3},"3/0365"]
[3,"0400",null,400,null,null,3,101,402,335,{"v":0.868,"d":"0.87"},0.71,{"v":64.20101487128832,"d":"64.20"},52.88,42.03,null,null,1.259,{"v":24.407999999999998,"d":"24.41"},{"$nulls":3},"3/0400"]
[3,"0450",null,450,null,null,3,101,452,385,{"v":0.978,"d":"0.98"},0.77,{"v":71.49647953193906,"d":"71.50"},58.83,46.72,null,null,1.265,{"v":25.086,"d":"25.09"},{"$nulls":3},"3/0450"]
[3,"0500",null,500,null,null,3,101,502,435,{"v":1.087,"d":"1.09"},0.83,{"v":78.75754518492305,"d":"78.76"},64.75,51.37,null,null,1.27,{"v":25.876999999999995,"d":"25.88"},{"$nulls":3},"3/0500"]
[3,"0550",null,550,null,null,3,101,552,485,{"v":1.197,"d":"1.20"},0.89,{"v":85.8608522274299,"d":"85.86"},70.54,{"v":55.9,"d":"55.90"},null,null,1.275,{"v":26.780999999999995,"d":"26.78"},{"$nulls":3},"3/0550"]
[3,"0565",null,565,null,null,3,101,567,500,1.23,0.91,{"v":88.16737013519119,"d":"88.17"},72.41,57.37,null,null,1.277,{"v":26.894,"d":"26.89"},{"$nulls":3},"3/0565"]
[3,"0600",null,600,null,null,3,101,602,535,{"v":1.307,"d":"1.31"},0.95,{"v":93.22061769216326,"d":"93.22"},76.52,60.58,null,null,1.281,{"v":27.006999999999994,"d":"27.01"},{"$nulls":3},"3/0600"]
[3,"0650",null,650,null,null,3,101,652,585,{"v":1.416,"d":"1.42"},1.01,{"v":100.43796597380643,"d":"100.44"},82.37,65.15,null,null,1.286,{"v":27.006999999999994,"d":"27.01"},{"$nulls":3},"3/0650"]
[3,"0750",null,750,null,null,3,101,752,685,{"v":1.636,"d":"1.64"},1.13,{"v":114.88980972939598,"d":"114.89"},94.21,74.37,null,null,1.297,{"v":29.493,"d":"29.49"},{"$nulls":3},"3/0750"]
[3,"0900",null,900,null,null,3,101,902,835,{"v":1.965,"d":"1.97"},1.31,{"v":136.60935843441126,"d":"136.61"},111.56,{"v":87.8,"d":"87.80"},null,null,1.314,{"v":31.753,"d":"31.75"},{"$nulls":3},"3/0900"]
[3,"1000",null,1000,null,null,3,101,1002,935,{"v":2.184,"d":"2.18"},1.43,{"v":150.7334051154926,"d":"150.73"},123.05,96.79,null,null,1.317,{"v":33.448,"d":"33.45"},{"$nulls":3},"3/1000"]
[3,"1200",null,1200,null,null,3,101,1202,1135,{"v":2.623,"d":"2.62"},1.67,{"v":179.04173073333024,"d":"179.04"},146.04,114.76,null,null,1.322,{"v":42.601,"d":"42.60"},{"$nulls":3},"3/1200"]
[3,"1500",null,1500,null,null,3,101,1502,1435,3.28,2.02,{"v":221.73559188194974,"d":"221.74"},180.63,141.74,null,null,1.33,{"v":56.95199999999999,"d":"56.95"},{"$nulls":3},"3/1500"]
[3,"1800",null,1800,null,null,3,101,1802,1735,{"v":3.938,"d":"3.94"},2.38,{"v":263.8335041346607,"d":"263.83"},215.09,168.92,null,null,1.325,{"v":69.83399999999999,"d":"69.83"},{"$nulls":3},"3/1800"]
[3,"2000",null,2000,null,null,3,101,2002,1935,{"v":4.377,"d":"4.38"},2.62,{"v":291.67028422581154,"d":"291.67"},238.05,187.21,null,null,1.318,{"v":73.902,"d":"73.90"},{"$nulls":3},"3/2000"]
[3,"2200",null,2200,null,null,3,101,2202,2135,{"v":4.816,"d":"4.82"},2.86,{"v":319.6295306403798,"d":"319.63"},261.17,205.67,null,null,1.31,{"v":83.73299999999999,"d":"83.73"},{"$nulls":3},"3/2200"]
[3,"2500",null,2500,null,null,3,101,2502,2435,{"v":5.473,"d":"5.47"},3.22,{"v":361.8615999200629,"d":"361.86"},296.19,233.72,null,null,1.299,{"v":90.852,"d":"90.85"},{"$nulls":3},"3/2500"]
[4,"0200",null,200,null,null,4,139,202,127,{"v":0.572,"d":"0.57"},0.6,{"v":40.59455239182945,"d":"40.59"},33.09,25.98,null,null,1.326,{"v":23.503999999999998,"d":"23.50"},{"$nulls":3},"4/0200"]
[4,"0260",null,260,null,null,4,139,262,195,{"v":0.746,"d":"0.75"},0.69,{"v":54.389213606703066,"d":"54.39"},44.33,34.81,null,null,1.326,{"v":25.086,"d":"25.09"},{"$nulls":3},"4/0260"]
[4,"0300",null,300,null,null,4,139,302,235,{"v":0.888,"d":"0.89"},0.77,{"v":64.25727961560057,"d":"64.26"},52.93,42.08,null,null,1.258,{"v":25.424999999999997,"d":"25.43"},{"$nulls":3},"4/0300"]
[4,"0350",null,350,null,null,4,139,352,285,{"v":1.034,"d":"1.03"},0.85,{"v":74.06830888166319,"d":"74.07"},60.94,48.39,null,null,1.265,{"v":26.215999999999998,"d":"26.22"},{"$nulls":3},"4/0350"]
[4,"0365",null,365,null,null,4,139,367,300,{"v":1.078,"d":"1.08"},0.88,{"v":77.0008436627061,"d":"77.00"},63.34,50.27,null,null,1.267,{"v":26.780999999999995,"d":"26.78"},{"$nulls":3},"4/0365"]
[4,"0400",null,400,null,null,4,139,402,335,1.18,0.93,{"v":83.80311592244385,"d":"83.80"},68.88,54.62,null,null,1.272,{"v":26.894,"d":"26.89"},{"$nulls":3},"4/0400"]
[4,"0450",null,450,null,null,4,139,452,385,{"v":1.326,"d":"1.33"},1.01,{"v":93.49121780139721,"d":"93.49"},76.76,60.79,null,null,1.279,{"v":27.910999999999998,"d":"27.91"},{"$nulls":3},"4/0450"]
[4,"0500",null,500,null,null,4,139,502,435,{"v":1.473,"d":"1.47"},1.09,{"v":103.13236902016581,"d":"103.13"},84.58,{"v":66.9,"d":"66.90"},null,null,1.286,{"v":28.701999999999995,"d":"28.70"},{"$nulls":3},"4/0500"]
[4,"0550",null,550,null,null,4,139,552,485,{"v":1.619,"d":"1.62"},1.17,{"v":112.7419041085638,"d":"112.74"},92.36,72.96,null,null,1.293,{"v":30.058,"d":"30.06"},{"$nulls":3},"4/0550"]
[4,"0565",null,565,null,null,4,139,567,500,{"v":1.663,"d":"1.66"},1.19,{"v":115.62087477269905,"d":"115.62"},94.69,74.77,null,null,1.296,{"v":30.622999999999998,"d":"30.62"},{"$nulls":3},"4/0565"]
[4,"0600",null,600,null,null,4,139,602,535,{"v":1.765,"d":"1.77"},1.25,{"v":122.33419601437176,"d":"122.33"},100.11,78.98,null,null,1.3,{"v":29.266999999999996,"d":"29.27"},{"$nulls":3},"4/0600"]
[4,"0650",null,650,null,null,4,139,652,585,{"v":1.911,"d":"1.91"},1.33,{"v":131.89378410236336,"d":"131.89"},107.82,84.95,null,null,1.307,{"v":31.639999999999997,"d":"31.64"},{"$nulls":3},"4/0650"]
[4,"0750",null,750,null,null,4,139,752,685,{"v":2.204,"d":"2.20"},1.49,{"v":150.99177891776833,"d":"150.99"},123.16,96.79,null,null,1.322,{"v":33.56099999999999,"d":"33.56"},{"$nulls":3},"4/0750"]
[4,"0900",null,900,null,null,4,139,902,835,{"v":2.642,"d":"2.64"},1.73,{"v":179.628434391016,"d":"179.63"},146.04,114.33,null,null,1.343,{"v":38.419999999999995,"d":"38.42"},{"$nulls":3},"4/0900"]
[4,"1000",null,1000,null,null,4,139,1002,935,{"v":2.935,"d":"2.94"},1.89,{"v":197.63820795873187,"d":"197.64"},160.75,{"v":125.9,"d":"125.90"},null,null,1.34,{"v":41.583999999999996,"d":"41.58"},{"$nulls":3},"4/1000"]
[4,"1200",null,1200,null,null,4,139,1202,1135,{"v":3.519,"d":"3.52"},2.2,{"v":233.17288806754092,"d":"233.17"},{"v":189.8,"d":"189.80"},148.79,null,null,1.335,{"v":53.10999999999999,"d":"53.11"},{"$nulls":3},"4/1200"]
[4,"1500",null,1500,null,null,4,139,1502,1435,{"v":4.397,"d":"4.40"},2.68,{"v":285.47257528348814,"d":"285.47"},232.64,182.63,null,null,1.328,{"v":70.51199999999999,"d":"70.51"},{"$nulls":3},"4/1500"]
[4,"1800",null,1800,null,null,4,139,1802,1735,{"v":5.274,"d":"5.27"},3.16,{"v":336.9124443728266,"d":"336.91"},274.85,216.03,null,null,1.321,{"v":83.28099999999999,"d":"83.28"},{"$nulls":3},"4/1800"]
[4,"2000",null,2000,null,null,4,139,2002,1935,{"v":5.859,"d":"5.86"},3.48,{"v":370.8013769609564,"d":"370.80"},302.69,{"v":238.1,"d":"238.10"},null,null,1.317,92.66,{"$nulls":3},"4/2000"]
[4,"2200",null,2200,null,null,4,139,2202,2135,{"v":6.443,"d":"6.44"},3.79,{"v":404.3919644842527,"d":"404.39"},330.33,260.04,null,null,1.312,{"v":103.847,"d":"103.85"},{"$nulls":3},"4/2200"]
[4,"2500",null,2500,null,null,4,139,2502,2435,{"v":7.321,"d":"7.32"},4.27,{"v":454.3005502557816,"d":"454.30"},371.46,292.76,null,null,1.306,{"v":116.38999999999999,"d":"116.39"},{"$nulls":3},"4/2500"]
[5,"0200",null,200,null,null,5,177,202,127,{"v":0.812,"d":"0.81"},0.73,{"v":49.899311468908884,"d":"49.90"},40.52,31.68,null,null,1.35,{"v":28.701999999999995,"d":"28.70"},{"$nulls":3},"5/0200"]
[5,"0260",null,260,null,null,5,177,262,195,{"v":1.029,"d":"1.03"},0.84,{"v":66.81537378163168,"d":"66.82"},54.26,42.42,null,null,1.35,{"v":30.961999999999996,"d":"30.96"},{"$nulls":3},{"$f":"$A65&\"/\"&$B65","v":"5/0260"}]
[5,"0300",null,300,null,null,5,177,302,235,{"v":1.207,"d":"1.21"},0.94,{"v":78.95030504261945,"d":"78.95"},64.86,{"v":51.4,"d":"51.40"},null,null,1.276,{"v":31.188,"d":"31.19"},{"$nulls":3},"5/0300"]
[5,"0350",null,350,null,null,5,177,352,285,{"v":1.389,"d":"1.39"},1.04,{"v":90.8934566353275,"d":"90.89"},74.58,59.02,null,null,1.283,{"v":32.431,"d":"32.43"},{"$nulls":3},"5/0350"]
[5,"0365",null,365,null,null,5,177,367,300,{"v":1.444,"d":"1.44"},1.07,{"v":94.44861028319183,"d":"94.45"},77.47,61.28,null,null,1.286,{"v":33.108999999999995,"d":"33.11"},{"$nulls":3},"5/0365"]
[5,"0400",null,400,null,null,5,177,402,335,{"v":1.572,"d":"1.57"},1.14,{"v":102.74492835378653,"d":"102.74"},{"v":84.2,"d":"84.20"},66.54,null,null,1.291,{"v":33.448,"d":"33.45"},{"$nulls":3},"5/0400"]
[5,"0450",null,450,null,null,5,177,452,385,{"v":1.755,"d":"1.76"},1.24,{"v":114.53405722445846,"d":"114.53"},93.75,73.98,null,null,1.299,{"v":34.352,"d":"34.35"},{"$nulls":3},"5/0450"]
[5,"0500",null,500,null,null,5,177,502,435,{"v":1.938,"d":"1.94"},1.34,{"v":126.2608384352555,"d":"126.26"},103.22,81.34,null,null,1.307,{"v":35.25599999999999,"d":"35.26"},{"$nulls":3},"5/0500"]
[5,"0550",null,550,null,null,5,177,552,485,2.12,1.44,{"v":137.97041227903136,"d":"137.97"},112.66,88.65,null,null,1.315,{"v":36.047,"d":"36.05"},{"$nulls":3},"5/0550"]
[5,"0565",null,565,null,null,5,177,567,500,{"v":2.175,"d":"2.18"},1.47,{"v":141.47507641288533,"d":"141.48"},115.48,90.83,null,null,1.317,{"v":36.386,"d":"36.39"},{"$nulls":3},"5/0565"]
[5,"0600",null,600,null,null,5,177,602,535,{"v":2.303,"d":"2.30"},1.54,{"v":149.6320835310194,"d":"149.63"},122.04,95.89,null,null,1.322,{"v":37.516,"d":"37.52"},{"$nulls":3},"5/0600"]
[5,"0650",null,650,null,null,5,177,652,585,{"v":2.486,"d":"2.49"},1.64,{"v":161.2917398895768,"d":"161.29"},131.39,103.09,null,null,1.33,{"v":38.75899999999999,"d":"38.76"},{"$nulls":3},"5/0650"]
[5,"0750",null,750,null,null,5,177,752,685,{"v":2.851,"d":"2.85"},1.83,{"v":184.5719008187945,"d":"184.57"},149.99,117.35,null,null,1.346,{"v":41.809999999999995,"d":"41.81"},{"$nulls":3},"5/0750"]
[5,"0900",null,900,null,null,5,177,902,835,{"v":3.4,"d":"3.40"},2.13,{"v":219.53341440972028,"d":"219.53"},177.75,138.48,null,null,1.369,{"v":47.233999999999995,"d":"47.23"},{"$nulls":3},"5/0900"]
[5,"1000",null,1000,null,null,5,177,1002,935,{"v":3.765,"d":"3.77"},2.33,{"v":241.17246367845195,"d":"241.17"},195.44,152.41,null,null,1.364,{"v":50.172,"d":"50.17"},{"$nulls":3},"5/1000"]
[5,"1200",null,1200,null,null,5,177,1202,1135,{"v":4.496,"d":"4.50"},2.73,{"v":283.7860504162438,"d":"283.79"},230.36,{"v":180,"d":"180.00"},null,null,1.353,{"v":66.66999999999999,"d":"66.67"},{"$nulls":3},"5/1200"]
[5,"1500",null,1500,null,null,5,177,1502,1435,{"v":5.593,"d":"5.59"},3.33,{"v":346.27597840342037,"d":"346.28"},{"v":281.8,"d":"281.80"},220.85,null,null,1.337,{"v":91.30399999999999,"d":"91.30"},{"$nulls":3},"5/1500"]
[5,"1800",null,1800,null,null,5,177,1802,1735,{"v":6.689,"d":"6.69"},3.92,{"v":408.33482898052364,"d":"408.33"},332.78,261.25,null,null,1.327,{"v":108.02799999999998,"d":"108.03"},{"$nulls":3},"5/1800"]
[5,"2000",null,2000,null,null,5,177,2002,1935,7.42,4.32,{"v":449.55790282647376,"d":"449.56"},366.59,{"v":288,"d":"288.00"},null,null,1.323,{"v":119.77999999999999,"d":"119.78"},{"$nulls":3},"5/2000"]
[5,"2200",null,2200,null,null,5,177,2202,2135,{"v":8.151,"d":"8.15"},4.72,{"v":490.516824559096,"d":"490.52"},400.23,314.65,null,null,1.32,{"v":132.43599999999998,"d":"132.44"},{"$nulls":3},"5/2200"]
[5,"2500",null,2500,null,null,5,177,2502,2435,{"v":9.248,"d":"9.25"},5.31,{"v":551.5297011600634,"d":"551.53"},450.42,354.48,null,null,1.314,{"v":149.499,"d":"149.50"},{"$nulls":3},"5/2500"]
[6,"0200",null,200,null,null,6,215,202,127,0.97,0.86,{"v":59.33531439055823,"d":"59.34"},48.01,37.37,null,null,1.374,{"v":33.56099999999999,"d":"33.56"},{"$nulls":3},"6/0200"]
[6,"0260",null,260,null,null,6,215,262,195,{"v":1.231,"d":"1.23"},1,{"v":79.36379982658626,"d":"79.36"},64.21,49.98,null,null,1.374,{"v":34.577999999999996,"d":"34.58"},{"$nulls":3},"6/0260"]
[6,"0300",null,300,null,null,6,215,302,235,{"v":1.444,"d":"1.44"},1.12,{"v":93.7979947673629,"d":"93.80"},76.85,60.71,null,null,1.293,{"v":34.916999999999994,"d":"34.92"},{"$nulls":3},"6/0300"]
[6,"0350",null,350,null,null,6,215,352,285,{"v":1.663,"d":"1.66"},1.24,{"v":107.90679281720924,"d":"107.91"},88.29,69.64,null,null,1.302,{"v":36.386,"d":"36.39"},{"$nulls":3},"6/0350"]
[6,"0365",null,365,null,null,6,215,367,300,{"v":1.729,"d":"1.73"},1.27,{"v":112.12574196563068,"d":"112.13"},91.71,{"v":72.3,"d":"72.30"},null,null,1.304,{"v":37.403,"d":"37.40"},{"$nulls":3},"6/0365"]
[6,"0400",null,400,null,null,6,215,402,335,{"v":1.882,"d":"1.88"},1.36,{"v":121.92563529794434,"d":"121.93"},99.63,78.46,null,null,1.31,{"v":37.742,"d":"37.74"},{"$nulls":3},"6/0400"]
[6,"0450",null,450,null,null,6,215,452,385,{"v":2.102,"d":"2.10"},1.47,{"v":135.85338702054372,"d":"135.85"},110.86,87.17,null,null,1.319,{"v":38.75899999999999,"d":"38.76"},{"$nulls":3},"6/0450"]
[6,"0500",null,500,null,null,6,215,502,435,{"v":2.321,"d":"2.32"},1.59,{"v":149.71966185336615,"d":"149.72"},122.02,95.79,null,null,1.327,39.55,{"$nulls":3},"6/0500"]
[6,"0550",null,550,null,null,6,215,552,485,2.54,1.71,{"v":163.54021817772417,"d":"163.54"},{"v":133.1,"d":"133.10"},104.33,null,null,1.336,{"v":42.036,"d":"42.04"},{"$nulls":3},"6/0550"]
[6,"0565",null,565,null,null,6,215,567,500,{"v":2.606,"d":"2.61"},1.75,{"v":167.68291721690596,"d":"167.68"},136.42,106.88,null,null,1.339,{"v":42.488,"d":"42.49"},{"$nulls":3},"6/0565"]
[6,"0600",null,600,null,null,6,215,602,535,{"v":2.759,"d":"2.76"},1.83,{"v":177.3452928350716,"d":"177.35"},144.15,112.81,null,null,1.345,{"v":44.97399999999999,"d":"44.97"},{"$nulls":3},"6/0600"]
[6,"0650",null,650,null,null,6,215,652,585,{"v":2.979,"d":"2.98"},1.95,{"v":191.1344067018173,"d":"191.13"},155.15,121.23,null,null,1.353,{"v":46.66899999999999,"d":"46.67"},{"$nulls":3},"6/0650"]
[6,"0750",null,750,null,null,6,215,752,685,{"v":3.417,"d":"3.42"},2.19,{"v":218.6945339002595,"d":"218.69"},177.05,137.91,null,null,1.37,{"v":48.928999999999995,"d":"48.93"},{"$nulls":3},"6/0750"]
[6,"0900",null,900,null,null,6,215,902,835,{"v":4.075,"d":"4.08"},2.55,{"v":260.1266024621127,"d":"260.13"},209.76,162.62,null,null,1.396,{"v":54.466,"d":"54.47"},{"$nulls":3},"6/0900"]
[6,"1000",null,1000,null,null,6,215,1002,935,{"v":4.514,"d":"4.51"},2.79,{"v":285.3932434421507,"d":"285.39"},230.43,178.92,null,null,1.388,{"v":58.75999999999999,"d":"58.76"},{"$nulls":3},"6/1000"]
[6,"1200",null,1200,null,null,6,215,1202,1135,{"v":5.391,"d":"5.39"},3.26,{"v":335.0030083693979,"d":"335.00"},271.19,211.21,null,null,1.371,78.64799999999998,{"$nulls":3},"6/1200"]
[6,"1500",null,1500,null,null,6,215,1502,1435,{"v":6.707,"d":"6.71"},3.98,{"v":407.4504241595869,"d":"407.45"},331.11,259.07,null,null,1.346,108.36699999999999,{"$nulls":3},"6/1500"]
[6,"1800",null,1800,null,null,6,215,1802,1735,{"v":8.023,"d":"8.02"},4.69,{"v":480.0723506241535,"d":"480.07"},390.85,306.47,null,null,1.334,128.255,{"$nulls":3},"6/1800"]
[6,"2000",null,2000,null,null,6,215,2002,1935,{"v":8.9,"d":"8.90"},5.17,{"v":528.6952385647288,"d":"528.70"},430.67,337.91,null,null,1.33,138.31199999999998,{"$nulls":3},"6/2000"]
[6,"2200",null,2200,null,null,6,215,2202,2135,{"v":9.777,"d":"9.78"},5.65,{"v":577.0636398830536,"d":"577.06"},470.32,369.26,null,null,1.327,159.55599999999998,{"$nulls":3},"6/2200"]
[6,"2500",null,2500,null,null,6,215,2502,2435,{"v":11.093,"d":"11.09"},6.36,{"v":649.2671447197946,"d":"649.27"},{"v":529.6,"d":"529.60"},{"v":416.2,"d":"416.20"},null,null,1.322,182.15599999999998,{"$nulls":3},"6/2500"]

{"sheet":"Ref","index":2,"n_rows":112,"n_cols":35,"rows_kept":112,"hidden":true}
[]
[]
[]
[]
[]
[{"$nulls":30},"ventil"]
["Tubes",null,"Model","Color",null,"Connection",null,null,"special",null,"head",{"$nulls":8},"delta",null,"currency",null,"delta1",null,"tubes1","tubes2",{"$nulls":7},"brackets"]
["2 (65мм)",2,"0200","01",1,"02 (1/2\")",{"v":0,"d":"0.00"},null,{"v":0,"d":"0.00"},"Стандартный белый G Код. 01\n","-",{"v":0,"d":"0.00"},null,null,"0200",2,40,"2/0200",null,"ΔT70 (105/70/18C)","$M:$M","Евро",null,"ΔT60 (90/70/20°C)","$M:$M","65 (2-колонн)",2,{"$nulls":3},"Комплект вентилей угловой, цвет белый",{"v":157.522,"d":"157.52"},"VALKROSQUCU 01",null,"без креп.(no brackets)"]
["3 (101мм)",3,"0260","TR",1.25,"30 (3/4\")",{"v":0,"d":"0.00"},"радиусный",{"v":22.599999999999998,"d":"22.60"},"Прозрачный лак G Код. TR\n","термостат. головка белый",{"v":70.05999999999999,"d":"70.06"},null,null,"0260",2,40,"2/0260",null,"ΔT60 (90/70/20C)","$N:$N","руб.",null,"ΔT50 (75/65/20°C)","$N:$N","101 (3-колонн)",3,{"$nulls":3},"Комплект вентилей угловой, цвет хром",{"v":157.522,"d":"157.52"},"VALKROSQUCU 50"]
["4 (139мм)",4,"0300","RAL",1.4,"25 (ТВВ)",{"v":162.71999999999997,"d":"162.72"},"угловой",171.76,"Другие цвета RAL","термостат. головка хром",100.57,null,null,"0300",2,40,"2/0300",null,"ΔT50 (75/65/20C)","$O:$O",{"$nulls":4},"139 (4-колонн)",4,{"$nulls":3},"Комплект вентилей угловой, цвет",{"v":185.207,"d":"185.21"},"VALKROSQUCU"]
["5 (177мм)",5,"0350","02",1.15,"26 (ТВН)",{"v":162.71999999999997,"d":"162.72"},null,null,"Слоновая кость · Ral 1013 G Код. 02\n","термостат. головка мат. хром",{"v":166.10999999999999,"d":"166.11"},null,null,"0350",2,40,"2/0350",{"$nulls":7},"177 (5-колонн)",5,{"$nulls":3},"Комплект вентилей прямой проходной, цвет белый",{"v":167.91799999999998,"d":"167.92"},"VALKRODIRCU 01"]
["6 (215мм)",6,"0365","03",1.15,"50 (НЦ)",{"v":127.68999999999998,"d":"127.69"},null,null,"Серый Манхэттен G Код. 03\n",{"$nulls":4},"0365",2,40,"2/0365",{"$nulls":7},"215 (6-колонн)",6,{"$nulls":3},"Комплект вентилей прямой проходной, цвет хром",{"v":167.91799999999998,"d":"167.92"},"VALKRODIRCU 50"]
[null,null,"0400","04",1.15,"52 (ТВЦ)",267.81,null,null,"Желтый · Ral 1021 G Код. 04\n",{"$nulls":4},"0400",2,40,"2/0400",{"$nulls":12},"Комплект вентилей прямой проходной, цвет",{"v":190.40499999999997,"d":"190.41"},"VALKRODIRCU"]
[null,null,"0450","05",1.15,"TAM (по запросу)",21.47,null,null,"Красный · Ral 3000 G Код. 05\n",{"$nulls":4},"0450",2,40,"2/0450",{"$nulls":12},"Вентильный блок угловой 50мм, цвет белый",{"v":238.20399999999998,"d":"238.20"},"VALKRO50SQUCU 01"]
[null,null,"0500","06",1.15,"05",{"v":0,"d":"0.00"},null,null,"Бордовый · Ral 3003 G Код. 06\n",{"$nulls":4},"0500",2,40,"2/0500",{"$nulls":12},"Вентильный блок угловой 50мм, цвет хром",{"v":238.20399999999998,"d":"238.20"},"VALKIRO50SQUCU 50"]
[null,null,"0550","09",1.15,"06",{"v":0,"d":"0.00"},null,null,"Коричневый · Ral 8017 G Код. 09\n",{"$nulls":4},"0550",2,40,"2/0550",{"$nulls":12},"Вентильный блок угловой 50мм, цвет",{"v":260.691,"d":"260.69"},"VALKRO50SQUCU"]
[null,null,"0565","10",1.15,"07",{"v":0,"d":"0.00"},null,null,"Черный · Ral 9005 G Код. 10\n",{"$nulls":4},"0565",2,40,"2/0565",{"$nulls":12},"Вентильный блок прямой проходной 50мм, цвет белый",{"v":238.20399999999998,"d":"238.20"},"VALKRO50DIRCU 01"]
[null,null,"0600","16",1.25,"08",{"v":14.689999999999998,"d":"14.69"},null,null,"Жемчужно-белый R Код. 16\n",{"$nulls":4},"0600",2,40,"2/0600",{"$nulls":12},"Вентильный блок прямой проходной 50мм, цвет хром",{"v":238.20399999999998,"d":"238.20"},"VALKRO50DIRCU 50"]
[null,null,"0650","17",1.15,"09",{"v":14.689999999999998,"d":"14.69"},null,null,"Oранжевый · Ral 2004 G Код. 17\n",{"$nulls":4},"0650",2,40,"2/0650",{"$nulls":12},"Вентильный блок прямой проходной 50мм, цвет",{"v":260.691,"d":"260.69"},"VALKRO50DIRCU"]
[null,null,"0750","18",1.25,"10",{"v":14.689999999999998,"d":"14.69"},null,null,"Графитово-черный R Код. 18\n",{"$nulls":4},"0750",2,40,"2/0750",{"$nulls":13},{"v":0,"d":"0.00"}]
[null,null,"0900","19",1.15,"11",{"v":14.689999999999998,"d":"14.69"},null,null,"Лесной зеленый· Ral 6005 G Код. 19\n",{"$nulls":4},"0900",2,40,"2/0900",{"$nulls":12},"2 накладки белый цвет, длина 70 мм",{"v":73.44999999999999,"d":"73.45"},"VALKITCOPTU70 01"]
[null,null,"1000","1B",1.25,"12",{"v":58.75999999999999,"d":"58.76"},null,null,"Табачно-коричневый R Код. 1B\n",{"$nulls":4},"1000",2,30,"2/1000",{"$nulls":12},"2 накладки хром, длина 70 мм",{"v":79.1,"d":"79.10"},"VALKITCOPTU70 50"]
[null,null,"1200","1C",1.25,"13",{"v":58.75999999999999,"d":"58.76"},null,null,"Кварц 1 R Код. 1C\n",{"$nulls":4},"1200",2,26,"2/1200",{"$nulls":12},"2 накладки матовый, длина 70 мм",89.27,"VALKITCOPTU70 55"]
[null,null,"1500","1D",1.25,"14",72.32,null,null,"Багрово-синий RM Код. 1D\n",{"$nulls":4},"1500",2,22,"2/1500",{"$nulls":12},"2 накладки белый цвет, длина 160 мм",{"v":73.44999999999999,"d":"73.45"},"VALKITCOPT160 01"]
[null,null,"1800","1P",1.25,"15",72.32,null,null,"Голубая балтика M Код. 1P\n",{"$nulls":4},"1800",2,22,"2/1800",{"$nulls":12},"2 накладки хром, длина 160 мм",{"v":79.1,"d":"79.10"},"VALKITCOPT160 50"]
[null,null,"2000","26",1.15,"22",21.47,null,null,"Бежево-кремовый G Код. 26\n",{"$nulls":4},"2000",2,18,"2/2000",{"$nulls":12},"2 накладки матовый, длина 160 мм",89.27,"VALKITCOPT160 55"]
[null,null,"2200","2C",1.25,"23",21.47,null,null,"Кварц 2 R Код. 2C\n",{"$nulls":4},"2200",2,18,"2/2200",{"$nulls":13},{"v":0,"d":"0.00"}]
[null,null,"2500","2D",1.25,"16",{"v":81.35999999999999,"d":"81.36"},null,null,"Солнечный камень R Код. 2D\n",{"$nulls":4},"2500",2,40,"2/2500",{"$nulls":12},"Накладки межось 50 мм белый цвет, длина 160 мм",{"v":73.44999999999999,"d":"73.45"},"VALKITCOPT50 01"]
[{"$nulls":3},"2F",1.15,"17",{"v":81.35999999999999,"d":"81.36"},null,null,"Темно-синий G Код. 2F\n",{"$nulls":4},"0200",3,40,"3/0200",{"$nulls":12},"Накладки межось 50 мм хром, длина 160 мм",{"v":79.1,"d":"79.10"},"VALKITCOPT50 50"]
[{"$nulls":3},"30",1.25,"18",{"v":81.35999999999999,"d":"81.36"},null,null,"Матово-черный R Код. 30\n",{"$nulls":4},"0260",3,40,"3/0260",{"$nulls":12},"Накладки межось 50 мм матовый, длина 160 мм",89.27,"VALKITCOPT50 55"]
[{"$nulls":3},"31",1.25,"19",{"v":81.35999999999999,"d":"81.36"},null,null,"Серый кварц G Код. 31\n",{"$nulls":4},"0300",3,40,"3/0300",{"$nulls":13},{"v":0,"d":"0.00"}]
[{"$nulls":3},"32",1.25,"20",{"v":159.32999999999998,"d":"159.33"},null,null,"Чеканный серый металлик R Код. 32\n",{"$nulls":4},"0350",3,40,"3/0350",{"$nulls":12},"Термоголовка белый цвет",{"v":70.05999999999999,"d":"70.06"},"TESTELIQ3 01"]
[{"$nulls":3},"34",1.15,"21",{"v":159.32999999999998,"d":"159.33"},null,null,"Эдельвейс тускло-белый M Код. 34\n",{"$nulls":4},"0365",3,40,"3/0365",{"$nulls":12},"Термоголовка хром",100.57,"TESTELIQ3 50"]
[{"$nulls":3},"3P",1.25,"24",82.49,null,null,"Ледяной M Код. 3P\n",{"$nulls":4},"0400",3,40,"3/0400",{"$nulls":12},"Термоголовка матовый",{"v":166.10999999999999,"d":"166.11"},"TESTELIQ3 55"]
[{"$nulls":3},"4D",1.25,{"$nulls":4},"Средний серый R Код. 4D\n",{"$nulls":4},"0450",3,40,"3/0450"]
[{"$nulls":3},"4P",1.25,{"$nulls":4},"Сизый матовый M Код. 4P\n",{"$nulls":4},"0500",3,40,"3/0500"]
[{"$nulls":3},"6C",1.25,{"$nulls":4},"Синий лазурит 3 R Код. 6C\n",{"$nulls":4},"0550",3,40,"3/0550"]
[{"$nulls":3},"7D",1.25,{"$nulls":4},"Огненно-красный R Код. 7D\n",{"$nulls":4},"0565",3,40,"3/0565"]
[{"$nulls":3},"8N",1.25,{"$nulls":4},"Серый светлый матовый M Код. 8N\n",{"$nulls":4},"0600",3,40,"3/0600"]
[{"$nulls":3},"9N",1.25,{"$nulls":4},"Агава M Код. 9N\n",{"$nulls":4},"0650",3,40,"3/0650"]
[{"$nulls":3},"E1",1.15,{"$nulls":4},"Бурая ржавчина · Ral 8004 G Код. E1\n",{"$nulls":4},"0750",3,40,"3/0750"]
[{"$nulls":3},"E6",1.15,{"$nulls":4},"Серовато-зеленый · Ral 6021 G Код. E6\n",{"$nulls":4},"0900",3,25,"3/0900"]
[{"$nulls":3},"E7",1.15,{"$nulls":4},"Дынный · Ral 1028 G Код. E7\n",{"$nulls":4},"1000",3,22,"3/1000"]
[{"$nulls":3},"G1",1.25,{"$nulls":4},"Пепельный серый · Ral 7021 G Код. G1\n",{"$nulls":4},"1200",3,20,"3/1200"]
[{"$nulls":3},"G7",1.15,{"$nulls":4},"Нежно-голубой · Ral 5024 G Код. G7\n",{"$nulls":4},"1500",3,20,"3/1500"]
[{"$nulls":3},"J4",1.25,{"$nulls":4},"Чеканная медь R Код. J4\n",{"$nulls":4},"1800",3,15,"3/1800"]
[{"$nulls":3},"J8",1.25,{"$nulls":4},"Белый матовый M Код. J8\n",{"$nulls":4},"2000",3,15,"3/2000"]
[{"$nulls":3},"K1",1.25,{"$nulls":4},"Черный матовый M Код. K1\n",{"$nulls":4},"2200",3,40,"3/2200"]
[{"$nulls":3},"L3",1.25,{"$nulls":4},"Титан серый металлик · Ral 9023 G Код. L3\n",{"$nulls":4},"2500",3,40,"3/2500"]
[{"$nulls":3},"L6",1.25,{"$nulls":4},"Жемчужно-серый R Код. L6\n",{"$nulls":4},"0200",4,40,"4/0200"]
[{"$nulls":3},"N3",1.15,{"$nulls":4},"Зеленая трава · Ral 6018 G Код. N3\n",{"$nulls":4},"0260",4,40,"4/0260"]
[{"$nulls":3},"R2",1.15,{"$nulls":4},"Розовый · Ral 3015 G Код. R2\n",{"$nulls":4},"0300",4,40,"4/0300"]
[{"$nulls":3},"R3",1.15,{"$nulls":4},"Сиреневый · Ral 4005 G Код. R3\n",{"$nulls":4},"0350",4,40,"4/0350"]
[{"$nulls":3},"R6",1.15,{"$nulls":4},"Фиолетовый · Ral 4006 G Код. R6\n",{"$nulls":4},"0365",4,40,"4/0365"]
[{"$nulls":3},"Y3",1.15,{"$nulls":4},"Земляничный · Ral 3018 G Код. Y3\n",{"$nulls":4},"0400",4,40,"4/0400"]
[{"$nulls":3},"Y4",1.25,{"$nulls":4},"Песочное печенье R Код. Y4\n",{"$nulls":4},"0450",4,40,"4/0450"]
[{"$nulls":14},"0500",4,40,"4/0500"]
[{"$nulls":14},"0550",4,40,"4/0550"]
[{"$nulls":14},"0565",4,35,"4/0565"]
[{"$nulls":14},"0600",4,30,"4/0600"]
[{"$nulls":14},"0650",4,30,"4/0650"]
[{"$nulls":14},"0750",4,20,"4/0750"]
[{"$nulls":14},"0900",4,18,"4/0900"]
[{"$nulls":14},"1000",4,15,"4/1000"]
[{"$nulls":14},"1200",4,15,"4/1200"]
[{"$nulls":14},"1500",4,12,"4/1500"]
[{"$nulls":14},"1800",4,12,"4/1800"]
[{"$nulls":14},"2000",4,40,"4/2000"]
[{"$nulls":14},"2200",4,40,"4/2200"]
[{"$nulls":14},"2500",4,40,"4/2500"]
[{"$nulls":14},"0200",5,40,"5/0200"]
[{"$nulls":14},"0260",5,40,"5/0260"]
[{"$nulls":14},"0300",5,40,"5/0300"]
[{"$nulls":14},"0350",5,40,"5/0350"]
[{"$nulls":14},"0365",5,40,"5/0365"]
[{"$nulls":14},"0400",5,40,"5/0400"]
[{"$nulls":14},"0450",5,40,"5/0450"]
[{"$nulls":14},"0500",5,40,"5/0500"]
[{"$nulls":14},"0550",5,30,"5/0550"]
[{"$nulls":14},"0565",5,30,"5/0565"]
[{"$nulls":14},"0600",5,30,"5/0600"]
[{"$nulls":14},"0650",5,18,"5/0650"]
[{"$nulls":14},"0750",5,15,"5/0750"]
[{"$nulls":14},"0900",5,15,"5/0900"]
[{"$nulls":9},"`",{"$nulls":4},"1000",5,15,"5/1000"]
[{"$nulls":14},"1200",5,12,"5/1200"]
[{"$nulls":14},"1500",5,12,"5/1500"]
[{"$nulls":14},"1800",5,40,"5/1800"]
[{"$nulls":14},"2000",5,40,"5/2000"]
[{"$nulls":14},"2200",5,40,"5/2200"]
[{"$nulls":14},"2500",5,40,"5/2500"]
[{"$nulls":14},"0200",6,40,"6/0200"]
[{"$nulls":14},"0260",6,40,"6/0260"]
[{"$nulls":14},"0300",6,40,"6/0300"]
[{"$nulls":14},"0350",6,40,"6/0350"]
[{"$nulls":14},"0365",6,35,"6/0365"]
[{"$nulls":14},"0400",6,35,"6/0400"]
[{"$nulls":14},"0450",6,35,"6/0450"]
[{"$nulls":14},"0500",6,25,"6/0500"]
[{"$nulls":14},"0550",6,25,"6/0550"]
[{"$nulls":14},"0565",6,25,"6/0565"]
[{"$nulls":14},"0600",6,15,"6/0600"]
[{"$nulls":14},"0650",6,15,"6/0650"]
[{"$nulls":14},"0750",6,15,"6/0750"]
[{"$nulls":14},"0900",6,15,"6/0900"]
[{"$nulls":14},"1000",6,12,"6/1000"]
[{"$nulls":14},"1200",6,12,"6/1200"]
[{"$nulls":14},"1500",6,12,"6/1500"]
[{"$nulls":14},"1800",6,12,"6/1800"]
[{"$nulls":14},"2000",6,12,"6/2000"]
[{"$nulls":14},"2200",6,12,"6/2200"]
[{"$nulls":14},"2500",6,12,"6/2500"]

{"sheet":"Расчет теплоодачи","index":3,"n_rows":19,"n_cols":2,"rows_kept":19}
["Кол-во трубок",4]
["Модель","0300"]
["Температура подающей линии, C",105]
["Температура обратной линии, C",70]
["Температура окружающей среды, С",18]
[]
["Номинальная тепловая мощность, Вт",{"$f":"SUMIF(pricelist!$W:$W,'Расчет теплоодачи'!$B$1&\"/\"&'Расчет теплоодачи'!$B$2,pricelist!$N:$N)","v":52.93}]
[]
["Коэффициент модификации, n",{"$f":"SUMIF(pricelist!$W:$W,'Расчет теплоодачи'!$B$1&\"/\"&'Расчет теплоодачи'!$B$2,pricelist!$R:$R)","v":1.258}]
[]
["Дельта Т, C",{"$f":"($B$3+$B$4)/2-$B$5","v":69.5}]
[]
["Расчет тепловой мощности 1 секции, Вт",{"$f":"$B$7*POWER(($B$11/60),$B$9)","v":{"v":63.68021267833296,"d":"63.68"}}]
[]
["Количество секций радиатора",10]
[]
["Длина радиатора (без переходников), мм",{"$f":"B15*45","v":450}]
[]
["Тепловая мощность радиатора, Вт",{"$f":"B13*B15","v":{"v":636.8021267833295,"d":"636.80"}}]

{"sheet":"подключения","index":4,"n_rows":0,"n_cols":0,"rows_kept":0}

{"sheet":"карта цветов","index":5,"n_rows":0,"n_cols":0,"rows_kept":0}

{"sheet":"вентили","index":6,"n_rows":0,"n_cols":0,"rows_kept":0}

{"sheet":"дек. накладки","index":7,"n_rows":0,"n_cols":0,"rows_kept":0}

{"sheet":"Термоголовка","index":8,"n_rows":0,"n_cols":0,"rows_kept":0}

{"sheet":"стандартная комплектация TESI","index":9,"n_rows":23,"n_cols":12,"rows_kept":23}
["Комплектация радиаторов TESI"]
[]
["Полная комплектация радиатора"]
["- Крепеж TESI включен в цену за секцию радиатора, его не нужно дополнительно подбирать. Поставляется в зависимости от кол-ва секций в цвет радиатора  "]
{"$rows_empty":11}
["- Кран Маевского, заглушка и декоративныя накладка с фирменным логотипом"]
[]
[]
[]
[]
[]
[]
[{"$nulls":11},"Стандартная упаковка TESI"]

{"sheet":"чертеж радиатора TESI+крепеж","index":10,"n_rows":0,"n_cols":0,"rows_kept":0}

{"sheet":"Приварные ноги","index":11,"n_rows":0,"n_cols":0,"rows_kept":0}

{"sheet":"Радисные и угловые исполнения","index":12,"n_rows":0,"n_cols":0,"rows_kept":0}